BEGIN:VCALENDAR
VERSION:2.0
PRODID:-//Pipeline Sundsvalls Musikforum - ECPv6.15.17.1//NONSGML v1.0//EN
CALSCALE:GREGORIAN
METHOD:PUBLISH
X-WR-CALNAME:Pipeline Sundsvalls Musikforum
X-ORIGINAL-URL:https://pipelinesundsvall.se
X-WR-CALDESC:Händelser för Pipeline Sundsvalls Musikforum
REFRESH-INTERVAL;VALUE=DURATION:PT1H
X-Robots-Tag:noindex
X-PUBLISHED-TTL:PT1H
BEGIN:VTIMEZONE
TZID:Europe/Stockholm
BEGIN:DAYLIGHT
TZOFFSETFROM:+0100
TZOFFSETTO:+0200
TZNAME:CEST
DTSTART:20060326T010000
END:DAYLIGHT
BEGIN:STANDARD
TZOFFSETFROM:+0200
TZOFFSETTO:+0100
TZNAME:CET
DTSTART:20061029T010000
END:STANDARD
BEGIN:DAYLIGHT
TZOFFSETFROM:+0100
TZOFFSETTO:+0200
TZNAME:CEST
DTSTART:20070325T010000
END:DAYLIGHT
BEGIN:STANDARD
TZOFFSETFROM:+0200
TZOFFSETTO:+0100
TZNAME:CET
DTSTART:20071028T010000
END:STANDARD
BEGIN:DAYLIGHT
TZOFFSETFROM:+0100
TZOFFSETTO:+0200
TZNAME:CEST
DTSTART:20080330T010000
END:DAYLIGHT
BEGIN:STANDARD
TZOFFSETFROM:+0200
TZOFFSETTO:+0100
TZNAME:CET
DTSTART:20081026T010000
END:STANDARD
END:VTIMEZONE
BEGIN:VEVENT
DTSTART;VALUE=DATE:20071114
DTEND;VALUE=DATE:20071115
DTSTAMP:20260425T142521
CREATED:20150813T191716Z
LAST-MODIFIED:20150813T191716Z
UID:10448-1194998400-1195084799@pipelinesundsvall.se
SUMMARY:Onsdagscafé: Fredrika J
DESCRIPTION:Ensam med ett piano så bjuder Fredrika J på tillbakalutad\, vacker\, lågmäld och spröd pop\, perfekt till kaffet och chokladbollarna en kulen höstkväll på Pipelines onsdagscafé.
URL:https://pipelinesundsvall.se/event/onsdagscafe-med-fredrika-j/
END:VEVENT
BEGIN:VEVENT
DTSTART;VALUE=DATE:20071109
DTEND;VALUE=DATE:20071110
DTSTAMP:20260425T142521
CREATED:20150813T191716Z
LAST-MODIFIED:20150813T191716Z
UID:10446-1194566400-1194652799@pipelinesundsvall.se
SUMMARY:Ida Maria (NO) och The Intrigues
DESCRIPTION:Norska Ida Maria tröttnade på de 300 regndagarna hennes hemstad Bergen bjöd på varje år så hon beslutade sig att flytta till Sverige istället\, där både vädret och musikklimatet är mer i hennes smak. \nDet senaste året har Ida Maria varit en av de stora snackisarna inom svensk musik. P3 tog upp hennes låt ”Louie” på spellistan och festivaler som Hultsfred\, Arvika och Emmaboda bokade henne innan hennes första singel var släppt. I oktober släpps EP:n ”Oh My God!” som är en duett med Timo Räisänen. ”-Pop handlar om att skapa en gemenskap\, jag ska inte stå på scenen och presentera något. Pop är att ha en fest och alla i lokalen är en del av den festen.” Debutalbum släpps inom kort. Som localsupport uppträder retroindierockarna  The Intrigues som är snart aktuella med en uppföljare till ep:n Who Am I?\, som släpptes på egna skivbolaget Mountainfield Records i våras. Man kanske skulle kunna kalla den här spelningen för någon sorts generalrepetition\, för en vecka senare dyker bandet ned i Domsagas källare tillsammans med Magnus Pejlert.\nMed musik inspirerad av storheter som The Band\, Bruce Springsteen och\nNeil Young vill dessa glada musikanter gärna göra din kväll lite trevligare.
URL:https://pipelinesundsvall.se/event/ida-maria-the-intrigues/
END:VEVENT
BEGIN:VEVENT
DTSTART;VALUE=DATE:20071107
DTEND;VALUE=DATE:20071108
DTSTAMP:20260425T142521
CREATED:20150813T191716Z
LAST-MODIFIED:20150813T191716Z
UID:10443-1194393600-1194479999@pipelinesundsvall.se
SUMMARY:Onsdagscafé: Vackra Fröken
DESCRIPTION:Återigen så står Vackra fröken för ljudlandskapet på Pipelines onsdagscafé.
URL:https://pipelinesundsvall.se/event/onsdagscafe-med-vackra-froken/
END:VEVENT
BEGIN:VEVENT
DTSTART;VALUE=DATE:20071103
DTEND;VALUE=DATE:20071104
DTSTAMP:20260425T142521
CREATED:20150813T191716Z
LAST-MODIFIED:20150813T191716Z
UID:10442-1194048000-1194134399@pipelinesundsvall.se
SUMMARY:Allhelgonapunk: Assassination\, Nagana\, Nödvärn och Total Tarmtömning
DESCRIPTION:Så var det dags för punkröj på Pipeline i Birds regi igen. \nFyra band står för kvällens ös: Assassination\, Nagana\, Nödvärn och Total Tarmtömning. Räkna med pogodancing!
URL:https://pipelinesundsvall.se/event/allhelgonapunk/
END:VEVENT
BEGIN:VEVENT
DTSTART;VALUE=DATE:20071030
DTEND;VALUE=DATE:20071031
DTSTAMP:20260425T142521
CREATED:20230109T153902Z
LAST-MODIFIED:20230109T153902Z
UID:16274-1193702400-1193788799@pipelinesundsvall.se
SUMMARY:Musik Direkt vinnarturné: Mad Art Work\, Ale & Elna\, Kid Galahad\, Ingnis\, Second Hand Rumours
DESCRIPTION:De här tre grupperna\, Mad Artwork\, Ale och Elna och Kid Galahad\, som nu gör en gemensam turné var de bästa bland de bästa på årets Riksfestival. Som vanligt skiftar stilarna bland de tre vinnarna. ”Otroligt skickliga musiker\, lekfulla och dynamiska kompositioner och dessutom verkar de ha roligt när de spelar” sa den uppländska juryn om uppsalabandet Mad Artwork efter länsfinalen. Bandet jobbar med att spränga gränser i musiken. Adam Grauman\, sång och bas\, Gabbi Dluzewski\, gitarr och sång\, Mattias Penti\, klaviatur och Anders Lindh\, trummor är laguppställningen. \nAle & Elna heter Carr i efternamn\, föddes i samma skånska familj och växte upp i en värld av folkmusik. Idag studerar Elna violin på musikerlinjen vid Musikhögskolan i Malmö och Ale på Sturegymnasiet i Halmstad. Elna blev riksspelman som 17åring 2005\, Ale fick bronsmärket 2006 (på fiol). Bouzouki och fiol är instrumentariet på turnén – plus varsin folkdräkt! Musiken är traditionell skånsk folkmusik i moderna arrangemang\, ett slags akustisk retrometal! \nKid Galahad kommer från Kinna och spelar en egensinnig mix av metal\, svensk pop och hårdrock. Eget material och en utstrålning som tog juryn rakt upp och ner på Riksfestivalen. Mattias Frisk\, sång\, Johan Riedel\, gitarr\, Jonas Bergkvist\, bas\, Christoffer Nordahl\, synt och Marcus Svedin\, trummor. \nSom Local Support kommer grupperna Ingnis och Second Hand Rumour att finnas med. Entré 30:- för Pipeline och Riot Clubmedlemmar\, samt för Musik Direkt deltagare 2007\nIngen åldergräns – under 12 år fri entré\, 50:- för övriga dödliga.
URL:https://pipelinesundsvall.se/event/musik-direkt-vinnarturne-mad-art-work-ale-elna-kid-galahad-ingnis-second-hand-rumours/
END:VEVENT
BEGIN:VEVENT
DTSTART;VALUE=DATE:20071019
DTEND;VALUE=DATE:20071020
DTSTAMP:20260425T142521
CREATED:20230108T090735Z
LAST-MODIFIED:20230108T090735Z
UID:15766-1192752000-1192838399@pipelinesundsvall.se
SUMMARY:Riotclub #11: Mimikry\, Billion Dollar Babies\, Hellpatrol och 12 Dollars
DESCRIPTION:På jakt efter den perfekta punken? Vi kan äntligen avslöja var den finns! Efter att ha varit på rymmen länge så fångade Riotclub upp Hjalle & Heavy´s band Mimikry. \nMimikry\nBillion Dollar Babies\nHellpatrol\n12 Dollars
URL:https://pipelinesundsvall.se/event/riotclub-11-mimikry-billion-dollar-babies-hellpatrol-12-dollars/
END:VEVENT
BEGIN:VEVENT
DTSTART;VALUE=DATE:20071013
DTEND;VALUE=DATE:20071014
DTSTAMP:20260425T142521
CREATED:20230108T141842Z
LAST-MODIFIED:20230108T141842Z
UID:15883-1192233600-1192319999@pipelinesundsvall.se
SUMMARY:Riotclub #10: Cynical Hatred\, Black Bay\, Funkazaurus Rex och Removable Parts
DESCRIPTION:Följande band uppträder denna kväll Removable Parts\, Cynical Hatred Funkasaurus Rex\, Black Bay. \nInget förköp och ingen åldersgräns.\nRabatt 10 kr för Pipelinemedlemmar år 2007 \nInsläpp kl.19.00\nStart kl. 19.30
URL:https://pipelinesundsvall.se/event/riotclub-10-cynical-hatred-black-bay-funkazaurus-rex-removable-parts/
END:VEVENT
BEGIN:VEVENT
DTSTART;VALUE=DATE:20071006
DTEND;VALUE=DATE:20071007
DTSTAMP:20260425T142521
CREATED:20230105T053634Z
LAST-MODIFIED:20230105T053634Z
UID:15235-1191628800-1191715199@pipelinesundsvall.se
SUMMARY:Punkafton #2: Varnagel\, Ohlson Har Semester Production\, Nån Jävla Punk\, Sista Skriket och Total Tarmtömning
DESCRIPTION:Punkafton nummer två\, arrangerad av kulturföreningen Oslipade Diamanter \nLineup: \nVarnagel\nOhlson Har Semester Production\nNån Jävla Punk\nSista Skriket\nTotal Tarmtömning
URL:https://pipelinesundsvall.se/event/punkafton-2/
ATTACH;FMTTYPE=image/jpeg:https://pipelinesundsvall.se/wp/wp-content/uploads/2023/01/punkafton-2.jpg
END:VEVENT
BEGIN:VEVENT
DTSTART;VALUE=DATE:20070926
DTEND;VALUE=DATE:20070927
DTSTAMP:20260425T142521
CREATED:20230108T133018Z
LAST-MODIFIED:20230108T133018Z
UID:15808-1190764800-1190851199@pipelinesundsvall.se
SUMMARY:Onsdagscafé: A Sense of Levity
DESCRIPTION:Fräscht nytt band från Sundsvall som kommer att bjuda på atmosfärisk metal… Men är detta igentligen metal….? kom och finn ut det själv denna onsdagkväll ! \ncafeet öppet mellan kl 18-22 \npå scenen kl.19.30 \nFri entre och ingen åldersgräns.
URL:https://pipelinesundsvall.se/event/onsdagscafe-a-sense-of-levity/
END:VEVENT
BEGIN:VEVENT
DTSTART;VALUE=DATE:20070914
DTEND;VALUE=DATE:20070915
DTSTAMP:20260425T142521
CREATED:20230108T085734Z
LAST-MODIFIED:20230108T085734Z
UID:15751-1189728000-1189814399@pipelinesundsvall.se
SUMMARY:Riotclub #9: Broken Aris\, ¡Perreo Negro! och On The Wall
DESCRIPTION:på scenen On The Wall\, ¡Perreo Negro! samt Broken Aris. \nINSLÄPP: 19:00\, START:20.00\nENTRÉ: 60:- / 50:- pipeline-medlem\nIngen åldersgräns och inget förköp! \nTider:\n20:00 – On The Wall\n21:00 – ¡Perreo Negro!\n22:00 – Broken Aris
URL:https://pipelinesundsvall.se/event/riotclub-9-broken-aris-perreo-negro-on-the-wall/
ATTACH;FMTTYPE=image/jpeg:https://pipelinesundsvall.se/wp/wp-content/uploads/2023/01/riotclub-9.jpg
END:VEVENT
BEGIN:VEVENT
DTSTART;VALUE=DATE:20070901
DTEND;VALUE=DATE:20070902
DTSTAMP:20260425T142521
CREATED:20230109T162215Z
LAST-MODIFIED:20230109T162215Z
UID:16357-1188604800-1188691199@pipelinesundsvall.se
SUMMARY:Riotclub #8: In Battle och Soreption
DESCRIPTION:Riotclub #0008 – Releasefest för In Battle:s nya album ”Kingdom Of Fear”. Värmer upp gör Soreption. Helkväll för fans av tung musik !
URL:https://pipelinesundsvall.se/event/riotclub-8-in-battle-och-soreption/
END:VEVENT
BEGIN:VEVENT
DTSTART;VALUE=DATE:20070526
DTEND;VALUE=DATE:20070527
DTSTAMP:20260425T142521
CREATED:20230109T162054Z
LAST-MODIFIED:20230109T162054Z
UID:16349-1180137600-1180223999@pipelinesundsvall.se
SUMMARY:Birds: Treklang\, Liondub och Dubkollektivet
DESCRIPTION:Treklang från Luleå\, Liondub från Gävle samt Dubkollektivet från Östersund kommer att fylla den kväll med sköna takter både bak\, framåt och i sidled… \nDet är insläpp klockan 19.00\, och första bandet kommer spela klockan 20.00.  Treklang\, från Luleå –http://www.myspace.com/treklang kommer att spela\, men även Liondub från Gävle http://www.liondub.com och Dubkollektivet från Östersund http://dubkollektivet.org kommer att spela. \nInträde är 80 kr\, om man inte är medlem i föreningen Birds\, för då går det på 60 kr.\nVi kommer även ha en Dj i cafét som kommer spela skön musik.\n\nVill man ha kontakt med oss\, så kan man maila oss på skareggaedubclub@yahoo.se  Då kan man även får veta hur man blir medlem om man är intresserad av det.\n\nIngen åldersgräns och inget förköp.
URL:https://pipelinesundsvall.se/event/birds-treklang-liondub-och-dubkollektivet/
END:VEVENT
BEGIN:VEVENT
DTSTART;VALUE=DATE:20070525
DTEND;VALUE=DATE:20070526
DTSTAMP:20260425T142521
CREATED:20230105T134519Z
LAST-MODIFIED:20230105T134519Z
UID:15639-1180051200-1180137599@pipelinesundsvall.se
SUMMARY:Riotclub #7: Asta Kask\, Psycho Poetry\, Ola Dole\, Total Tarmtömning och Problemia
DESCRIPTION:Legendariska punkbandet Asta Kask gästar återigen Pipeline på Riotclub #0007. Med en ny skiva ”En för alla ingen för nån” i bagaget ger sig världens mest seglivade band…\n…ut i strid för sitt namn och sina rättigheter. \nSupport: Problemia\, Psycho Poetry\, Total Tarmtömning & Ola Dole \nRiotClub utlovar en punkexplotion ni sent kommer att glömma!
URL:https://pipelinesundsvall.se/event/riotclub-7-asta-kask-psycho-poetry-ola-dole-total-tarmtomning-problemia/
END:VEVENT
BEGIN:VEVENT
DTSTART;VALUE=DATE:20070504
DTEND;VALUE=DATE:20070505
DTSTAMP:20260425T142521
CREATED:20230109T154747Z
LAST-MODIFIED:20230109T154747Z
UID:16290-1178236800-1178323199@pipelinesundsvall.se
SUMMARY:Maj-gala på Pipeline: Lars Bygdén\, Hägga\, The Intrigues\, Tillnyktringsenheten\, Funkazaurus Rex och Surain
DESCRIPTION:Stödgala med Lars Bygdén\, Funkazaurus Rex\, Tillnyktrings-enheten\, The Intrigues\, Hägga samt Surain på scenen. \nIntäkterna ska delas upp på två och skänkas till globalt humanitärt- och naturbevarande bistånd. \nInget förköp och ingen åldersgräns \nLars Bygdén\, Hägga\, The Intrigues\, Tillnyktringsenheten\, Funkazaurus Rex och Surain
URL:https://pipelinesundsvall.se/event/maj-gala-pa-pipeline-lars-bygden-hagga-the-intrigues-tillnyktringsenheten-funkazaurus-rex-och-surain/
END:VEVENT
BEGIN:VEVENT
DTSTART;VALUE=DATE:20070430
DTEND;VALUE=DATE:20070501
DTSTAMP:20260425T142521
CREATED:20230109T161837Z
LAST-MODIFIED:20230109T161837Z
UID:16346-1177891200-1177977599@pipelinesundsvall.se
SUMMARY:Gårdsbands-turnéfinal på Pipeline
DESCRIPTION:Vinterns turné på fritidsgårdarna har fångat upp ett antal band som nu ska få chansen att visa upp sig för en större publik. Denna kväll är det dags för ett finalgig på Pipeline. \nTurnén började i Indal i februari och avslutas den 27 april på Domsaga. Mer information om vilka band som står på scen på Pipeline får vi hänvisa till affischering. \nEntré: Medlem fritidsgård + Pipeline\, fri entré. Övriga 20 kr
URL:https://pipelinesundsvall.se/event/gardsbands-turnefinal-pa-pipeline/
ATTACH;FMTTYPE=image/png:https://pipelinesundsvall.se/wp/wp-content/uploads/2023/01/gardsband.png
END:VEVENT
BEGIN:VEVENT
DTSTART;VALUE=DATE:20070425
DTEND;VALUE=DATE:20070426
DTSTAMP:20260425T142521
CREATED:20230109T161516Z
LAST-MODIFIED:20230109T161516Z
UID:16336-1177459200-1177545599@pipelinesundsvall.se
SUMMARY:Onsdagscafé: The Confusions - releaseparty!
DESCRIPTION:Våren står för dörren\, liksom en ny Confusions-säsong med två nya plattor! Först ut releaseparty för det ”akustiska” albumet ”It Sure Looks Like The Confusions But It Sounds More Acoustic” som kommer firas av denna kväll. \nCafeet öppet kl.18.00 -22.00\nPå scenen kl.19.30 \nIdén till skivan har uppkommit från alla akustiska spelningar som The Confusions gjort\ndet senaste året. På plattan kommer man att hitta gamla godingar såväl som helt nytt\nmaterial\, allt är självklart helt nyinspelat. 15 grunder spelades in helt live tillsammans med\nMagnus Pejlert\, 11 låtar kommer med på skivan. Vissa pålägg och kreativa galenskaper\nhar tillkommit senare i The Confusions egen studio Yellow. \nDenna skiva kommer att tryckas upp i en limiterad utgåva av 1000 ex som endast kommer att säljas via Massproduktions webshop och vid bandets framtida spelingar.\nSkivan kommer även att släppas via digitala ditributörer som Itunes\, Clicktrack m.fl.
URL:https://pipelinesundsvall.se/event/onsdagscafe-the-confusions-releaseparty/
END:VEVENT
BEGIN:VEVENT
DTSTART;VALUE=DATE:20070418
DTEND;VALUE=DATE:20070419
DTSTAMP:20260425T142521
CREATED:20230109T161611Z
LAST-MODIFIED:20230109T161611Z
UID:16340-1176854400-1176940799@pipelinesundsvall.se
SUMMARY:Onsdagscafé: Cornbeast
DESCRIPTION:Vi har det stora nöjet att presentera före detta Sundsvallsbon Fredrik Stolpes projekt Cornbeast. Numera ägnar han sig åt elektronisk musik och är en del av scenen för det som kallas chipmusik eller 8-bitarsmusik; musik gjort på gamla datorer och tv-spel. \nFredrik var under nittiotalet verksam i en rad Sundsvallsband\, däribland grungebandet Hypergod. \nFörutom sitt eget musikskapande stöttar han andras som en av drivkrafterna bakom den världskända chipmusikklubben Microdisko i Stockholm. \nSom Cornbeast skapar han musik på Nintendo Gameboy och annan lågteknologisk utrustning. Musiken kan beskrivas som lågupplöst dansant electronica som hämtar inspiration från bland annat electro\, hiphop\, funk och dub.
URL:https://pipelinesundsvall.se/event/onsdagscafe-cornbeast/
END:VEVENT
BEGIN:VEVENT
DTSTART;VALUE=DATE:20070417
DTEND;VALUE=DATE:20070418
DTSTAMP:20260425T142521
CREATED:20230109T161718Z
LAST-MODIFIED:20230109T161718Z
UID:16342-1176768000-1176854399@pipelinesundsvall.se
SUMMARY:Clinic: Magnus Rosén (Hammerfall)
DESCRIPTION:Magnus Rosén från ”Hammerfall” kommer och berättar om sitt liv som frilansande rockmusiker. Han spelar också solobas. Fri entré för SMFs medlemmar och Pipelines medlemmar. Försäljning och signering av skivor efteråt. \nInsläpp kl.18.30 Start kl.19.00 \nSvenska Musikerförbundet håller på att genomföra en serie clinics\, som går under arbetsnamnet ”En frilansares värld”. Vid dessa evenemang får artisterna svara på frågor\, där de beskriver sin arbetsmarknad och arbetsmarknadsvillkor. \nSyftet med dessa clinics är att stimulera musiker till att hitta nya inkomstmöjligheter och bredda musikers arbetsmarknad\, genom att väcka kreativitet och nytänkande hos den enskilde musikern. Att se möjligheter och helt enkelt ”väcka den kreativa processen”. Publiken ges möjligheter att ställa frågor till artisterna\, och förhoppningsvis uppstår ett intressant samtal. \nFri entré för SMFs medlemmar och Pipelines medlemmar.
URL:https://pipelinesundsvall.se/event/clinic-magnus-rosen-hammerfall/
END:VEVENT
BEGIN:VEVENT
DTSTART;VALUE=DATE:20070406
DTEND;VALUE=DATE:20070407
DTSTAMP:20260425T142521
CREATED:20230109T162527Z
LAST-MODIFIED:20230109T162527Z
UID:16359-1175817600-1175903999@pipelinesundsvall.se
SUMMARY:Riotclub #6: Zephyr\, A Sense of Levity och Ingnis
DESCRIPTION:Riotclub 0006 med tre band i blandade genrer och som alltid så är med dedikation och inlevelse som Riotclub arrangerar sina klubbkvällar !! Varmt välkommen !\nInsläpp: 19:00\nEntré: 60:-\, Pipelinemedlemmar 50:- \n20:00 Zephyr\n21:00 A Sense of Levity\n22:00 Ingnis \nZephyr\nFör ett par veckor sedan gjorde bandet (då under namnet Herr Johansson) en\nförsta spelning på Domsaga. Än så länge bara covers men med tanke på hur ruskigt bra de låter så kan Smalare än Tord kan slänga sig i väggen! \nA Sense of Levity\nPost rock-inspirerat ljud/oljud\, men inte så pretentiöst som det låter. \nIngnis\nExperimentiell/Progressiv döds säger bandet själva – Vi säger hårt och\njävligt!\nI positiv bemärkelse.
URL:https://pipelinesundsvall.se/event/riotclub-6-zephyr-a-sense-of-levity-och-ingnis/
ATTACH;FMTTYPE=image/jpeg:https://pipelinesundsvall.se/wp/wp-content/uploads/2023/01/riotclub6.jpg
END:VEVENT
BEGIN:VEVENT
DTSTART;VALUE=DATE:20070331
DTEND;VALUE=DATE:20070401
DTSTAMP:20260425T142521
CREATED:20230105T053145Z
LAST-MODIFIED:20230105T053145Z
UID:15222-1175299200-1175385599@pipelinesundsvall.se
SUMMARY:Punkafton #1: Greta Kassler\, Paranoia\, Adjusted\, Aprak och Varnagel
DESCRIPTION:Kulturföreningen Oslipade Diamanter hade releasefest för sin tredje samlingsskiva ”Alla goda ting är KOL”. \nLineup:\nGreta Kassler\nParanoia\nAdjusted\nAprak\nVarnagel \n(Rascar Capac var bokade men ställde in och ersattes av Aprak)
URL:https://pipelinesundsvall.se/event/punkafton-1/
ATTACH;FMTTYPE=image/jpeg:https://pipelinesundsvall.se/wp/wp-content/uploads/2023/01/18733_266271460802_1275626_n.jpg
END:VEVENT
BEGIN:VEVENT
DTSTART;VALUE=DATE:20070324
DTEND;VALUE=DATE:20070325
DTSTAMP:20260425T142521
CREATED:20230109T154152Z
LAST-MODIFIED:20230109T154152Z
UID:16283-1174694400-1174780799@pipelinesundsvall.se
SUMMARY:Second Hand Rumours och The Intrigues
DESCRIPTION:Denna dag släpper sundsvallsbanden Second Hand Rumours och The Intrigues sina debut-ep:s på nystartade skivbolaget Mountainfield Records. Detta firas med ett releaseparty !! \nInsläpp kl.20.00\nStart kl.21.00 \nNystartade etiketten Mountainfield Records drivs av de unga medlemmarna i Second Hand Rumours och The Intrigues själva. Efter en höst och vinter av oerhört slitande är nu de båda bandens första ep-skivor klara. Detta skall givetvis firas\, vilket man alltså gör genom en releasefest på Pipeline på lördag.\nFolkpoparna i Second Hand Rumours kallar sitt alster för ”Second”\, medan countrydoftande rockbandet The Intrigues dito går under namnet ”Who Am I?”. Båda skivorna är inspelade och producerade tillsammans med Magnus Pejlert i Studio Domsaga och innehåller fyra låtar vardera\, men killarna lovar dock att spela fler på lördag!\nDet faktum att grabbarna gjort så pass mycket själva\, har självklart medfört att processen har varit ganska lång och krävande\, samtidigt som man naturligtvis lärt sig en hel del på kuppen och slutprodukten blivit precis som man själv velat ha den.\nNu\, lagom till vårkanten\, längtar båda banden efter att få komma ut och spela live\, efter att ha legat lite lågt på den fronten ett tag och koncentrerat sig på inspelningar och liknande. Releasepartyt på Pipeline får ses som startskottet på detta! \nInget förköp och ingen åldersgräns
URL:https://pipelinesundsvall.se/event/second-hand-rumours-och-the-intrigues/
END:VEVENT
BEGIN:VEVENT
DTSTART;VALUE=DATE:20070321
DTEND;VALUE=DATE:20070322
DTSTAMP:20260425T142521
CREATED:20230109T155759Z
LAST-MODIFIED:20230109T155759Z
UID:16310-1174435200-1174521599@pipelinesundsvall.se
SUMMARY:Onsdagscafe: EntArtEte MuSiK
DESCRIPTION:EntArtEte MuSiK är Esbjörn Lilja som skriver låtarna\, producerar och spelar alla instrument. EntArtEte MuSiK handlar lika mycket om att skapa en stämning som av att skapa en låt. Esbjörn har lyssnat mycket på Bert Jansch\, John Martyn och Nick Drake… \nLive framförs låtarna på gitarr\, sång och percussion. Du förväxlar honom inte med den genomsnittlige\, förpackade och falskblå singer/songwritern när du lyssnat ett varv på hans skiva ”SHORT FILMS : TAKE ONE”. Han hoppas att du inte gör det i alla fall. \nFRI ENTRE !\nCafeét öppet mellan kl.18-22\npå scen kl.19.30
URL:https://pipelinesundsvall.se/event/onsdagscafe-entartete-musik/
END:VEVENT
BEGIN:VEVENT
DTSTART;VALUE=DATE:20070317
DTEND;VALUE=DATE:20070318
DTSTAMP:20260425T142521
CREATED:20150813T191716Z
LAST-MODIFIED:20150813T191716Z
UID:10441-1174089600-1174175999@pipelinesundsvall.se
SUMMARY:Trotylturne-avslut
DESCRIPTION:Ett rullande turnesällskap med 6 olika band som besöker 8 olika spelställen i Medelpad och Jämtland som avslutas på Pipeline \nhttp://www.trotylturne.se/iden/index.php \nhttp://www.st.nu/noje/index.php?action=visa_artikel&id=628237 \nProgram på Pipeline \n19:00 – Bröderna Legohjärta\n19:45 – Violated\n20:30 – The Victims\n21:15 – Escape Velocity\n22:00 – Gunstruck\n22:45 – The Suspicious Leftovers\n23:30 – Dysdain
URL:https://pipelinesundsvall.se/event/trotylturne-avslut/
END:VEVENT
BEGIN:VEVENT
DTSTART;VALUE=DATE:20070315
DTEND;VALUE=DATE:20070316
DTSTAMP:20260425T142521
CREATED:20150813T191716Z
LAST-MODIFIED:20150813T191716Z
UID:10440-1173916800-1174003199@pipelinesundsvall.se
SUMMARY:Tomas Andersson Wij
DESCRIPTION:I samarbete med Headstomp Production kan vi stolt presentera denna intressanta artist. På Sundsvalls Teater. Han värme upp på Globen på melodifestivalsfinalen med låten Evighet\, men nu kan du uppleva han i en intim miljö MISSA INTE!
URL:https://pipelinesundsvall.se/event/tomas-andersson-wij/
END:VEVENT
BEGIN:VEVENT
DTSTART;VALUE=DATE:20070314
DTEND;VALUE=DATE:20070315
DTSTAMP:20260425T142521
CREATED:20150813T191716Z
LAST-MODIFIED:20150813T191716Z
UID:10438-1173830400-1173916799@pipelinesundsvall.se
SUMMARY:Onsdagscafé: Tremendous
DESCRIPTION:Tremendous kommer att leverera en klassisk popspelning och besökarna garanteras lämna lokalen nynnandes på en ljuv melodi de inte kan få ur huvudet…
URL:https://pipelinesundsvall.se/event/onsdagscafe-med-tremendous/
END:VEVENT
BEGIN:VEVENT
DTSTART;VALUE=DATE:20070303
DTEND;VALUE=DATE:20070304
DTSTAMP:20260425T142521
CREATED:20150813T191716Z
LAST-MODIFIED:20150813T191716Z
UID:10436-1172880000-1172966399@pipelinesundsvall.se
SUMMARY:Riotclub #5: My Own Grave och God Among Insects
DESCRIPTION:Ett Riotclub arrangemang på Pipeline i metallens tecken. My Own Grave kliver upp scenen igen och inte nog med det God Among Insects med medlemmar från Dark Funeral\, Vomitory\, Lord K och In Battle avslutar kvällen + 2 band till\, EN RIKTIG HELKVÄLL !! \nLong Among Insects är dödsband bestående av Emperor Magus Caligula från Dark Funeral\, Kenta Philipsson (Lord K) från The Project Hate MCMXCIX\, Tobbe från Vomitory och Elofsson från Sanctification (fd-In Battle)).\nHemsidor:\nhttp://www.myowngrave.com/\nwww.godamonginsects.net\nhttp://www.myspace.com/amnesiahazeofficial \n18:00  Insläpp\n19:00  Mr. Jack Marklar Politely\n20:00  Amnesia Haze\n21:15  My Own Grave\n22:30  God Among Insects \nInget förköp och ingen åldersgräns
URL:https://pipelinesundsvall.se/event/my-own-grave-god-among-insects-2-support-band/
END:VEVENT
BEGIN:VEVENT
DTSTART;VALUE=DATE:20070302
DTEND;VALUE=DATE:20070303
DTSTAMP:20260425T142521
CREATED:20150813T191716Z
LAST-MODIFIED:20150813T191716Z
UID:10433-1172793600-1172879999@pipelinesundsvall.se
SUMMARY:Tungviktarna\, Vackra Fröken och Second Hand Rumours
DESCRIPTION:Releaseparty för albumet Listen Sideways\, som är en bland-skiva med tio unga lokala band och tio genrer. Uppträder gör Tungviktarna\, Vackra Fröken och Second Hand Rumours\, \nSkivan finns att köpa på plats för endast 50 kr och alla vinster går till stöd för ung musik i Sundsvall.
URL:https://pipelinesundsvall.se/event/release-party-for-albumet-listen-sideways/
END:VEVENT
BEGIN:VEVENT
DTSTART;VALUE=DATE:20070228
DTEND;VALUE=DATE:20070301
DTSTAMP:20260425T142521
CREATED:20150813T191715Z
LAST-MODIFIED:20150813T191715Z
UID:10431-1172620800-1172707199@pipelinesundsvall.se
SUMMARY:Onsdagscafé: Erik Brodén
DESCRIPTION:Erik Brodén gitarrist i Perssons Pack har knåpat ihop en hel del låtar på egen hand som ska presenteras denna kväll. ”Någon gång” blir det en soloskiva\, men kalendern är full en tid framåt … Ypperligt tillfälle att höra dom före alla andra…
URL:https://pipelinesundsvall.se/event/onsdagscafe-med-erik-broden/
END:VEVENT
BEGIN:VEVENT
DTSTART;VALUE=DATE:20070221
DTEND;VALUE=DATE:20070222
DTSTAMP:20260425T142521
CREATED:20150813T191715Z
LAST-MODIFIED:20150813T191715Z
UID:10429-1172016000-1172102399@pipelinesundsvall.se
SUMMARY:Onsdagscafé med Andreas Viberg
DESCRIPTION:Mycket lovande Andreas Viberg från Umeå som är högaktuell med sitt debutalbum som släpps denna dag. Var med och fira det med han på Pipeline\, VÄLKOMMEN !! \nCafeet öppnar kl.18.00 stänger kl.22.00\nAndreas Viberg kliver på scenen kl.19.30 \nFRI ENTRÈ och ingen åldergräns. \nArtikel i ST
URL:https://pipelinesundsvall.se/event/mandagsklubben-startar-upp-igen/
END:VEVENT
BEGIN:VEVENT
DTSTART;VALUE=DATE:20070214
DTEND;VALUE=DATE:20070215
DTSTAMP:20260425T142521
CREATED:20150813T191715Z
LAST-MODIFIED:20150813T191715Z
UID:10428-1171411200-1171497599@pipelinesundsvall.se
SUMMARY:Onsdagscafé: Tungviktarna
DESCRIPTION:Tungviktarna består av rapparna Nestor och Bank Rutten. De kommer från norra delen av Sundsvall\, Ljustadalen. klicka å Läs mer…eller ännu bättre kom och se dom live – kostar bara lite slit på skosulorna och din tid…
URL:https://pipelinesundsvall.se/event/onsdagscafe-med-tung-viktarna/
END:VEVENT
END:VCALENDAR