BEGIN:VCALENDAR
VERSION:2.0
PRODID:-//Pipeline Sundsvalls Musikforum - ECPv6.15.17.1//NONSGML v1.0//EN
CALSCALE:GREGORIAN
METHOD:PUBLISH
X-WR-CALNAME:Pipeline Sundsvalls Musikforum
X-ORIGINAL-URL:https://pipelinesundsvall.se
X-WR-CALDESC:Händelser för Pipeline Sundsvalls Musikforum
REFRESH-INTERVAL;VALUE=DURATION:PT1H
X-Robots-Tag:noindex
X-PUBLISHED-TTL:PT1H
BEGIN:VTIMEZONE
TZID:Europe/Stockholm
BEGIN:DAYLIGHT
TZOFFSETFROM:+0100
TZOFFSETTO:+0200
TZNAME:CEST
DTSTART:19830327T010000
END:DAYLIGHT
BEGIN:STANDARD
TZOFFSETFROM:+0200
TZOFFSETTO:+0100
TZNAME:CET
DTSTART:19830925T010000
END:STANDARD
BEGIN:DAYLIGHT
TZOFFSETFROM:+0100
TZOFFSETTO:+0200
TZNAME:CEST
DTSTART:19840325T010000
END:DAYLIGHT
BEGIN:STANDARD
TZOFFSETFROM:+0200
TZOFFSETTO:+0100
TZNAME:CET
DTSTART:19840930T010000
END:STANDARD
BEGIN:DAYLIGHT
TZOFFSETFROM:+0100
TZOFFSETTO:+0200
TZNAME:CEST
DTSTART:19850331T010000
END:DAYLIGHT
BEGIN:STANDARD
TZOFFSETFROM:+0200
TZOFFSETTO:+0100
TZNAME:CET
DTSTART:19850929T010000
END:STANDARD
BEGIN:DAYLIGHT
TZOFFSETFROM:+0100
TZOFFSETTO:+0200
TZNAME:CEST
DTSTART:19860330T010000
END:DAYLIGHT
BEGIN:STANDARD
TZOFFSETFROM:+0200
TZOFFSETTO:+0100
TZNAME:CET
DTSTART:19860928T010000
END:STANDARD
END:VTIMEZONE
BEGIN:VEVENT
DTSTART;VALUE=DATE:19850404
DTEND;VALUE=DATE:19850405
DTSTAMP:20260426T001731
CREATED:20150508T073532Z
LAST-MODIFIED:20150508T073532Z
UID:9918-481420800-481507199@pipelinesundsvall.se
SUMMARY:Robert Broberg
DESCRIPTION:
URL:https://pipelinesundsvall.se/event/robert-broberg-6/
ATTACH;FMTTYPE=image/bmp:https://pipelinesundsvall.se/wp/wp-content/uploads/2015/05/Robert-Broberg-Artikel-3-4-April-1985-scaled.bmp
END:VEVENT
BEGIN:VEVENT
DTSTART;VALUE=DATE:19850329
DTEND;VALUE=DATE:19850330
DTSTAMP:20260426T001731
CREATED:20131023T154059Z
LAST-MODIFIED:20131023T154059Z
UID:2521-480902400-480988799@pipelinesundsvall.se
SUMMARY:Mikael Wiehe & Co
DESCRIPTION:
URL:https://pipelinesundsvall.se/event/mikael-wiehe-co-2/
ATTACH;FMTTYPE=image/bmp:https://pipelinesundsvall.se/wp/wp-content/uploads/2013/10/Mikael-Wiehe-Co-Artikel-4-19-Mars-1984.bmp
END:VEVENT
BEGIN:VEVENT
DTSTART;VALUE=DATE:19850321
DTEND;VALUE=DATE:19850322
DTSTAMP:20260426T001731
CREATED:20131023T154059Z
LAST-MODIFIED:20131023T154059Z
UID:2520-480211200-480297599@pipelinesundsvall.se
SUMMARY:Commando M. Pigg
DESCRIPTION:
URL:https://pipelinesundsvall.se/event/commando-m-pigg/
ATTACH;FMTTYPE=image/jpeg:https://pipelinesundsvall.se/wp/wp-content/uploads/2013/10/Commando-M.-Pigg-Artikel-1-21-Mars-1985.jpg
END:VEVENT
BEGIN:VEVENT
DTSTART;VALUE=DATE:19850302
DTEND;VALUE=DATE:19850303
DTSTAMP:20260426T001731
CREATED:20131023T154059Z
LAST-MODIFIED:20131023T154059Z
UID:2519-478569600-478655999@pipelinesundsvall.se
SUMMARY:Man Klan och Revolver
DESCRIPTION:
URL:https://pipelinesundsvall.se/event/man-klan-och-revolver/
ATTACH;FMTTYPE=image/bmp:https://pipelinesundsvall.se/wp/wp-content/uploads/2013/10/Man-Klan-och-Revolver-Artikel-1-3-Mars-1985-scaled.bmp
END:VEVENT
BEGIN:VEVENT
DTSTART;VALUE=DATE:19850216
DTEND;VALUE=DATE:19850217
DTSTAMP:20260426T001731
CREATED:20150508T073149Z
LAST-MODIFIED:20150508T073149Z
UID:9911-477360000-477446399@pipelinesundsvall.se
SUMMARY:Charly & the Slaves\,Krunch\, Treo\, Untouchables och Kommentar Fönster
DESCRIPTION:
URL:https://pipelinesundsvall.se/event/charly-the-slaveskrunch-treo-untouchables-och-kommentar-fonster/
END:VEVENT
BEGIN:VEVENT
DTSTART;VALUE=DATE:19841226
DTEND;VALUE=DATE:19841227
DTSTAMP:20260426T001731
CREATED:20131023T154059Z
LAST-MODIFIED:20131023T154059Z
UID:2518-472867200-472953599@pipelinesundsvall.se
SUMMARY:Annandagsgala: Tomastilt & The Flippers\, Luftradion\, Renegade och The Wild Bunch
DESCRIPTION:
URL:https://pipelinesundsvall.se/event/tomastilt-the-flippers-luftradion-renegade-och-the-wild-bunch/
END:VEVENT
BEGIN:VEVENT
DTSTART;VALUE=DATE:19841207
DTEND;VALUE=DATE:19841208
DTSTAMP:20260426T001731
CREATED:20131023T154059Z
LAST-MODIFIED:20131023T154059Z
UID:2517-471225600-471311999@pipelinesundsvall.se
SUMMARY:Westerness
DESCRIPTION:
URL:https://pipelinesundsvall.se/event/westerness/
ATTACH;FMTTYPE=image/bmp:https://pipelinesundsvall.se/wp/wp-content/uploads/2013/10/Westerness-Artikel-1984.bmp
END:VEVENT
BEGIN:VEVENT
DTSTART;VALUE=DATE:19841130
DTEND;VALUE=DATE:19841201
DTSTAMP:20260426T001731
CREATED:20131023T154059Z
LAST-MODIFIED:20131023T154059Z
UID:2516-470620800-470707199@pipelinesundsvall.se
SUMMARY:Viva och Kommentar Fönster
DESCRIPTION:
URL:https://pipelinesundsvall.se/event/viva-och-kommentar-fonster/
ATTACH;FMTTYPE=image/bmp:https://pipelinesundsvall.se/wp/wp-content/uploads/2013/10/Viva-och-Komentar-Fonster-Artikel-2-30-Nov-1984.bmp
END:VEVENT
BEGIN:VEVENT
DTSTART;VALUE=DATE:19841124
DTEND;VALUE=DATE:19841125
DTSTAMP:20260426T001731
CREATED:20131023T154059Z
LAST-MODIFIED:20131023T154059Z
UID:2515-470102400-470188799@pipelinesundsvall.se
SUMMARY:Teater Schahrazad: Faust
DESCRIPTION:
URL:https://pipelinesundsvall.se/event/teater-schrazad-faust-floraskolan/
ATTACH;FMTTYPE=image/bmp:https://pipelinesundsvall.se/wp/wp-content/uploads/2013/10/Teater-Schrazad-Faust-Floraskolan-Artikel-3-24-Nov-1984.bmp
END:VEVENT
BEGIN:VEVENT
DTSTART;VALUE=DATE:19841123
DTEND;VALUE=DATE:19841124
DTSTAMP:20260426T001731
CREATED:20131023T154059Z
LAST-MODIFIED:20131023T154059Z
UID:2514-470016000-470102399@pipelinesundsvall.se
SUMMARY:Hårdrocksgala: Red Skies\, Susperia och TNT
DESCRIPTION:
URL:https://pipelinesundsvall.se/event/hardrocksgala/
ATTACH;FMTTYPE=image/png:https://pipelinesundsvall.se/wp/wp-content/uploads/2013/10/hardrockgala.png
END:VEVENT
BEGIN:VEVENT
DTSTART;VALUE=DATE:19841117
DTEND;VALUE=DATE:19841118
DTSTAMP:20260426T001731
CREATED:20131023T154059Z
LAST-MODIFIED:20131023T154059Z
UID:2513-469497600-469583999@pipelinesundsvall.se
SUMMARY:Plasma (NO) och Dockhuset
DESCRIPTION:
URL:https://pipelinesundsvall.se/event/plasma-och-dockhuset/
ATTACH;FMTTYPE=image/bmp:https://pipelinesundsvall.se/wp/wp-content/uploads/2013/10/Plasma-Artikel-17-Okt-1984.bmp
END:VEVENT
BEGIN:VEVENT
DTSTART;VALUE=DATE:19841110
DTEND;VALUE=DATE:19841111
DTSTAMP:20260426T001731
CREATED:20131023T154058Z
LAST-MODIFIED:20131023T154058Z
UID:2512-468892800-468979199@pipelinesundsvall.se
SUMMARY:Skallarna och Dansorkestern
DESCRIPTION:
URL:https://pipelinesundsvall.se/event/skallarna-och-dansorkestern/
ATTACH;FMTTYPE=image/bmp:https://pipelinesundsvall.se/wp/wp-content/uploads/2013/10/Skallarna-och-Dansorkestern-Artikel-10-Nov-1984.bmp
END:VEVENT
BEGIN:VEVENT
DTSTART;VALUE=DATE:19841107
DTEND;VALUE=DATE:19841108
DTSTAMP:20260426T001731
CREATED:20131023T154058Z
LAST-MODIFIED:20131023T154058Z
UID:2511-468633600-468719999@pipelinesundsvall.se
SUMMARY:Wilmer X och The Untouchables
DESCRIPTION:
URL:https://pipelinesundsvall.se/event/wilmer-x-och-the-untouchables/
ATTACH;FMTTYPE=image/bmp:https://pipelinesundsvall.se/wp/wp-content/uploads/2013/10/Wilmer-X-och-The-Untouchables-Artikel-7-Nov-1984.bmp
END:VEVENT
BEGIN:VEVENT
DTSTART;VALUE=DATE:19841103
DTEND;VALUE=DATE:19841104
DTSTAMP:20260426T001731
CREATED:20131023T154058Z
LAST-MODIFIED:20131023T154058Z
UID:2510-468288000-468374399@pipelinesundsvall.se
SUMMARY:Avant Gaam och Syster Lycklig
DESCRIPTION:
URL:https://pipelinesundsvall.se/event/avant-gaam/
ATTACH;FMTTYPE=image/bmp:https://pipelinesundsvall.se/wp/wp-content/uploads/2013/10/Syster-Lycklig-och-Avant-Gaam-2-03-Nov-1984-scaled.bmp
END:VEVENT
BEGIN:VEVENT
DTSTART;VALUE=DATE:19841024
DTEND;VALUE=DATE:19841025
DTSTAMP:20260426T001731
CREATED:20131023T154058Z
LAST-MODIFIED:20131023T154058Z
UID:2509-467424000-467510399@pipelinesundsvall.se
SUMMARY:The Saints (AU)
DESCRIPTION:
URL:https://pipelinesundsvall.se/event/the-saints/
ATTACH;FMTTYPE=image/bmp:https://pipelinesundsvall.se/wp/wp-content/uploads/2013/10/The-Saints-Artikel24-Okt-1984.bmp
END:VEVENT
BEGIN:VEVENT
DTSTART;VALUE=DATE:19841019
DTEND;VALUE=DATE:19841020
DTSTAMP:20260426T001731
CREATED:20131023T154058Z
LAST-MODIFIED:20131023T154058Z
UID:2508-466992000-467078399@pipelinesundsvall.se
SUMMARY:Attentat och Utrikes Affärer
DESCRIPTION:
URL:https://pipelinesundsvall.se/event/attentat-och-utrikes-affarer/
ATTACH;FMTTYPE=image/bmp:https://pipelinesundsvall.se/wp/wp-content/uploads/2013/10/Attentat-och-Utrikes-Affarer-Artikel-19-Okt-1984.bmp
END:VEVENT
BEGIN:VEVENT
DTSTART;VALUE=DATE:19841013
DTEND;VALUE=DATE:19841014
DTSTAMP:20260426T001731
CREATED:20131023T154058Z
LAST-MODIFIED:20131023T154058Z
UID:2507-466473600-466559999@pipelinesundsvall.se
SUMMARY:The Wild Bunch
DESCRIPTION:
URL:https://pipelinesundsvall.se/event/the-wild-bunch/
ATTACH;FMTTYPE=image/jpeg:https://pipelinesundsvall.se/wp/wp-content/uploads/2013/10/Branda-Barn-I-Ny-Skepnad.-13-Oktober-1984-scaled.jpg
END:VEVENT
BEGIN:VEVENT
DTSTART;VALUE=DATE:19840921
DTEND;VALUE=DATE:19840922
DTSTAMP:20260426T001731
CREATED:20131023T154058Z
LAST-MODIFIED:20131023T154058Z
UID:2506-464572800-464659199@pipelinesundsvall.se
SUMMARY:Unter Den Linden\,  Vacum och Leon Spinks
DESCRIPTION:
URL:https://pipelinesundsvall.se/event/unter-den-linden-och-vacum/
ATTACH;FMTTYPE=image/bmp:https://pipelinesundsvall.se/wp/wp-content/uploads/2013/10/Unter-Den-Linden-och-Vacum-Artikel-2-21-Sept-1984-scaled.bmp
END:VEVENT
BEGIN:VEVENT
DTSTART;VALUE=DATE:19840818
DTEND;VALUE=DATE:19840819
DTSTAMP:20260426T001731
CREATED:20131023T154058Z
LAST-MODIFIED:20131023T154058Z
UID:2505-461635200-461721599@pipelinesundsvall.se
SUMMARY:Sommarrockgala: The Nomads\, Navahoo\, Moment 22\, Krunch\, Bastard och Avant Gaam
DESCRIPTION:
URL:https://pipelinesundsvall.se/event/sommarrockgala/
ATTACH;FMTTYPE=image/bmp:https://pipelinesundsvall.se/wp/wp-content/uploads/2013/10/SommarRockGala-Artikel-1-Aug-1984-scaled.bmp
END:VEVENT
BEGIN:VEVENT
DTSTART;VALUE=DATE:19840526
DTEND;VALUE=DATE:19840527
DTSTAMP:20260426T001731
CREATED:20131023T154058Z
LAST-MODIFIED:20131023T154058Z
UID:2504-454377600-454463999@pipelinesundsvall.se
SUMMARY:Rivningsgala\, dag 2: Avant Gaam\, Bored Teenagers\, Charlys Slavar\, Kafkas\, Krunch\, The Wild Bunch och Worubu
DESCRIPTION:
URL:https://pipelinesundsvall.se/event/rivningsgala-2/
END:VEVENT
BEGIN:VEVENT
DTSTART;VALUE=DATE:19840525
DTEND;VALUE=DATE:19840526
DTSTAMP:20260426T001731
CREATED:20131023T154058Z
LAST-MODIFIED:20131023T154058Z
UID:2503-454291200-454377599@pipelinesundsvall.se
SUMMARY:Rivningsgala\, dag 1: Vacum\, Rummet\, Red Skies\, Ranshart\, Luftradion\, Emergency och D4 Okända
DESCRIPTION:
URL:https://pipelinesundsvall.se/event/rivningsgala/
ATTACH;FMTTYPE=image/bmp:https://pipelinesundsvall.se/wp/wp-content/uploads/2013/10/Rivningsgalan-Artikel-1-Maj-1984-scaled.bmp
END:VEVENT
BEGIN:VEVENT
DTSTART;VALUE=DATE:19840518
DTEND;VALUE=DATE:19840519
DTSTAMP:20260426T001731
CREATED:20131023T154057Z
LAST-MODIFIED:20131023T154057Z
UID:2502-453686400-453772799@pipelinesundsvall.se
SUMMARY:Bastard
DESCRIPTION:
URL:https://pipelinesundsvall.se/event/bastard-7/
ATTACH;FMTTYPE=image/bmp:https://pipelinesundsvall.se/wp/wp-content/uploads/2013/10/Bastards-Annons-18-Maj-1984.bmp
END:VEVENT
BEGIN:VEVENT
DTSTART;VALUE=DATE:19840512
DTEND;VALUE=DATE:19840513
DTSTAMP:20260426T001731
CREATED:20131023T154057Z
LAST-MODIFIED:20131023T154057Z
UID:2501-453168000-453254399@pipelinesundsvall.se
SUMMARY:Twice A Man och Dockhuset
DESCRIPTION:
URL:https://pipelinesundsvall.se/event/twice-a-man-och-dockhuset/
ATTACH;FMTTYPE=image/bmp:https://pipelinesundsvall.se/wp/wp-content/uploads/2013/10/Twice-A-Man-och-Dockhuset-Artikel-12-Maj-1984.bmp
END:VEVENT
BEGIN:VEVENT
DTSTART;VALUE=DATE:19840428
DTEND;VALUE=DATE:19840429
DTSTAMP:20260426T001731
CREATED:20131023T154057Z
LAST-MODIFIED:20131023T154057Z
UID:2500-451958400-452044799@pipelinesundsvall.se
SUMMARY:Vågspel och Rockgift
DESCRIPTION:
URL:https://pipelinesundsvall.se/event/vagspel-och-rockgift/
END:VEVENT
BEGIN:VEVENT
DTSTART;VALUE=DATE:19840424
DTEND;VALUE=DATE:19840425
DTSTAMP:20260426T001731
CREATED:20131023T154057Z
LAST-MODIFIED:20131023T154057Z
UID:2499-451612800-451699199@pipelinesundsvall.se
SUMMARY:Imperiet och Bored Teenagers
DESCRIPTION:
URL:https://pipelinesundsvall.se/event/imperiet-och-bored-teenagers/
ATTACH;FMTTYPE=image/bmp:https://pipelinesundsvall.se/wp/wp-content/uploads/2013/10/Imperiet-Artikel-Mars-1984.bmp
END:VEVENT
BEGIN:VEVENT
DTSTART;VALUE=DATE:19840420
DTEND;VALUE=DATE:19840421
DTSTAMP:20260426T001731
CREATED:20131023T154057Z
LAST-MODIFIED:20131023T154057Z
UID:2498-451267200-451353599@pipelinesundsvall.se
SUMMARY:Luftradion och Gagner Quartet
DESCRIPTION:
URL:https://pipelinesundsvall.se/event/luftradion-och-gagner-quartet/
END:VEVENT
BEGIN:VEVENT
DTSTART;VALUE=DATE:19840414
DTEND;VALUE=DATE:19840415
DTSTAMP:20260426T001731
CREATED:20131023T154057Z
LAST-MODIFIED:20131023T154057Z
UID:2497-450748800-450835199@pipelinesundsvall.se
SUMMARY:Entra Chameleon och Navahoo
DESCRIPTION:
URL:https://pipelinesundsvall.se/event/entra-chameleon-och-navahoo/
END:VEVENT
BEGIN:VEVENT
DTSTART;VALUE=DATE:19840407
DTEND;VALUE=DATE:19840408
DTSTAMP:20260426T001731
CREATED:20150508T065727Z
LAST-MODIFIED:20150508T065727Z
UID:9897-450144000-450230399@pipelinesundsvall.se
SUMMARY:Demonstration för nya lokaler och jamkväll
DESCRIPTION:
URL:https://pipelinesundsvall.se/event/demonstration-for-nya-lokaler-och-jamkvall-2/
END:VEVENT
BEGIN:VEVENT
DTSTART;VALUE=DATE:19840406
DTEND;VALUE=DATE:19840407
DTSTAMP:20260426T001731
CREATED:20131023T154057Z
LAST-MODIFIED:20131023T154057Z
UID:2496-450057600-450143999@pipelinesundsvall.se
SUMMARY:Trance Kashmir och Emergency
DESCRIPTION:
URL:https://pipelinesundsvall.se/event/trance-kashmir-och-emergency/
END:VEVENT
BEGIN:VEVENT
DTSTART;VALUE=DATE:19840331
DTEND;VALUE=DATE:19840401
DTSTAMP:20260426T001731
CREATED:20131023T154057Z
LAST-MODIFIED:20131023T154057Z
UID:2495-449539200-449625599@pipelinesundsvall.se
SUMMARY:Cortex och Kommentar Fönster
DESCRIPTION:
URL:https://pipelinesundsvall.se/event/cortex-och-kommentar-fonster/
ATTACH;FMTTYPE=image/bmp:https://pipelinesundsvall.se/wp/wp-content/uploads/2013/10/Cortex-och-Kommentar-Fonster-Artikel-1984-scaled.bmp
END:VEVENT
END:VCALENDAR