BEGIN:VCALENDAR
VERSION:2.0
PRODID:-//Pipeline Sundsvalls Musikforum - ECPv6.15.17.1//NONSGML v1.0//EN
CALSCALE:GREGORIAN
METHOD:PUBLISH
X-WR-CALNAME:Pipeline Sundsvalls Musikforum
X-ORIGINAL-URL:https://pipelinesundsvall.se
X-WR-CALDESC:Händelser för Pipeline Sundsvalls Musikforum
REFRESH-INTERVAL;VALUE=DURATION:PT1H
X-Robots-Tag:noindex
X-PUBLISHED-TTL:PT1H
BEGIN:VTIMEZONE
TZID:Europe/Stockholm
BEGIN:DAYLIGHT
TZOFFSETFROM:+0100
TZOFFSETTO:+0200
TZNAME:CEST
DTSTART:19860330T010000
END:DAYLIGHT
BEGIN:STANDARD
TZOFFSETFROM:+0200
TZOFFSETTO:+0100
TZNAME:CET
DTSTART:19860928T010000
END:STANDARD
BEGIN:DAYLIGHT
TZOFFSETFROM:+0100
TZOFFSETTO:+0200
TZNAME:CEST
DTSTART:19870329T010000
END:DAYLIGHT
BEGIN:STANDARD
TZOFFSETFROM:+0200
TZOFFSETTO:+0100
TZNAME:CET
DTSTART:19870927T010000
END:STANDARD
BEGIN:DAYLIGHT
TZOFFSETFROM:+0100
TZOFFSETTO:+0200
TZNAME:CEST
DTSTART:19880327T010000
END:DAYLIGHT
BEGIN:STANDARD
TZOFFSETFROM:+0200
TZOFFSETTO:+0100
TZNAME:CET
DTSTART:19880925T010000
END:STANDARD
END:VTIMEZONE
BEGIN:VEVENT
DTSTART;VALUE=DATE:19871106
DTEND;VALUE=DATE:19871107
DTSTAMP:20260426T001729
CREATED:20131023T154109Z
LAST-MODIFIED:20131023T154109Z
UID:2607-563155200-563241599@pipelinesundsvall.se
SUMMARY:Brända Barn
DESCRIPTION:
URL:https://pipelinesundsvall.se/event/branda-barn-3/
ATTACH;FMTTYPE=image/bmp:https://pipelinesundsvall.se/wp/wp-content/uploads/2013/10/Branda-Barn-Artikel-5-6-Nov-1987-scaled.bmp
END:VEVENT
BEGIN:VEVENT
DTSTART;VALUE=DATE:19871103
DTEND;VALUE=DATE:19871104
DTSTAMP:20260426T001729
CREATED:20131023T154109Z
LAST-MODIFIED:20131023T154109Z
UID:2606-562896000-562982399@pipelinesundsvall.se
SUMMARY:Lolita Pop
DESCRIPTION:
URL:https://pipelinesundsvall.se/event/lolita-pop-7/
END:VEVENT
BEGIN:VEVENT
DTSTART;VALUE=DATE:19871031
DTEND;VALUE=DATE:19871101
DTSTAMP:20260426T001729
CREATED:20131023T154108Z
LAST-MODIFIED:20131023T154108Z
UID:2605-562636800-562723199@pipelinesundsvall.se
SUMMARY:Thomas Di Leva
DESCRIPTION:
URL:https://pipelinesundsvall.se/event/tomas-dileva/
ATTACH;FMTTYPE=image/bmp:https://pipelinesundsvall.se/wp/wp-content/uploads/2013/10/Tomas-DiLeva-Artikel-3-31-Okt-1987-scaled.bmp
END:VEVENT
BEGIN:VEVENT
DTSTART;VALUE=DATE:19871030
DTEND;VALUE=DATE:19871031
DTSTAMP:20260426T001729
CREATED:20131023T154108Z
LAST-MODIFIED:20131023T154108Z
UID:2604-562550400-562636799@pipelinesundsvall.se
SUMMARY:Ret Marut
DESCRIPTION:
URL:https://pipelinesundsvall.se/event/ret-marut/
END:VEVENT
BEGIN:VEVENT
DTSTART;VALUE=DATE:19871027
DTEND;VALUE=DATE:19871028
DTSTAMP:20260426T001729
CREATED:20131023T154108Z
LAST-MODIFIED:20131023T154108Z
UID:2603-562291200-562377599@pipelinesundsvall.se
SUMMARY:Bodil Malmsten och Milisen
DESCRIPTION:
URL:https://pipelinesundsvall.se/event/bodil-malmsten-och-milisen/
ATTACH;FMTTYPE=image/bmp:https://pipelinesundsvall.se/wp/wp-content/uploads/2013/10/Bodil-Malmsten-och-Milisen-Annons-27-Okt-1987.bmp
END:VEVENT
BEGIN:VEVENT
DTSTART;VALUE=DATE:19871024
DTEND;VALUE=DATE:19871025
DTSTAMP:20260426T001729
CREATED:20131023T154108Z
LAST-MODIFIED:20131023T154108Z
UID:2602-562032000-562118399@pipelinesundsvall.se
SUMMARY:Groupa
DESCRIPTION:
URL:https://pipelinesundsvall.se/event/groupa/
END:VEVENT
BEGIN:VEVENT
DTSTART;VALUE=DATE:19871021
DTEND;VALUE=DATE:19871022
DTSTAMP:20260426T001729
CREATED:20131023T154108Z
LAST-MODIFIED:20131023T154108Z
UID:2601-561772800-561859199@pipelinesundsvall.se
SUMMARY:Crompojkarna
DESCRIPTION:
URL:https://pipelinesundsvall.se/event/crompojkarna/
ATTACH;FMTTYPE=image/bmp:https://pipelinesundsvall.se/wp/wp-content/uploads/2013/10/Crompojkarna-Artikel-2-21-Okt-1987.bmp
END:VEVENT
BEGIN:VEVENT
DTSTART;VALUE=DATE:19871020
DTEND;VALUE=DATE:19871021
DTSTAMP:20260426T001729
CREATED:20131023T154108Z
LAST-MODIFIED:20131023T154108Z
UID:2600-561686400-561772799@pipelinesundsvall.se
SUMMARY:Trance Dance
DESCRIPTION:
URL:https://pipelinesundsvall.se/event/trance-dance/
END:VEVENT
BEGIN:VEVENT
DTSTART;VALUE=DATE:19871017
DTEND;VALUE=DATE:19871018
DTSTAMP:20260426T001729
CREATED:20131023T154108Z
LAST-MODIFIED:20131023T154108Z
UID:2599-561427200-561513599@pipelinesundsvall.se
SUMMARY:Ocal Waltz och T.R
DESCRIPTION:
URL:https://pipelinesundsvall.se/event/ocal-waltz-och-t-r/
ATTACH;FMTTYPE=image/bmp:https://pipelinesundsvall.se/wp/wp-content/uploads/2013/10/Ocal-Waltz-och-T.R-Artikel-2-17-Okt-1987.bmp
END:VEVENT
BEGIN:VEVENT
DTSTART;VALUE=DATE:19871010
DTEND;VALUE=DATE:19871011
DTSTAMP:20260426T001729
CREATED:20131023T154108Z
LAST-MODIFIED:20131023T154108Z
UID:2598-560822400-560908799@pipelinesundsvall.se
SUMMARY:Blue For Two och King Kong
DESCRIPTION:
URL:https://pipelinesundsvall.se/event/blue-for-two-och-king-kong/
ATTACH;FMTTYPE=image/bmp:https://pipelinesundsvall.se/wp/wp-content/uploads/2013/10/Blue-For-Two-och-King-Kong-Artikel-3-10-Okt-1987-scaled.bmp
END:VEVENT
BEGIN:VEVENT
DTSTART;VALUE=DATE:19870926
DTEND;VALUE=DATE:19870927
DTSTAMP:20260426T001729
CREATED:20131023T154107Z
LAST-MODIFIED:20131023T154107Z
UID:2597-559612800-559699199@pipelinesundsvall.se
SUMMARY:Fläskkvartetten och Hygglo Sjysto
DESCRIPTION:
URL:https://pipelinesundsvall.se/event/flaskkvartetten-och-hygglo-sjysto/
ATTACH;FMTTYPE=image/bmp:https://pipelinesundsvall.se/wp/wp-content/uploads/2013/10/Flaskkvartetten-och-Hygglo-Sjysto-Artikel-2-26-Sept-1987-scaled.bmp
END:VEVENT
BEGIN:VEVENT
DTSTART;VALUE=DATE:19870918
DTEND;VALUE=DATE:19870919
DTSTAMP:20260426T001729
CREATED:20131023T154107Z
LAST-MODIFIED:20131023T154107Z
UID:2596-558921600-559007999@pipelinesundsvall.se
SUMMARY:John Tchicai & Brus Trio (DK)
DESCRIPTION:
URL:https://pipelinesundsvall.se/event/john-tchicai-brus-trio-och/
END:VEVENT
BEGIN:VEVENT
DTSTART;VALUE=DATE:19870917
DTEND;VALUE=DATE:19870918
DTSTAMP:20260426T001729
CREATED:20131023T154107Z
LAST-MODIFIED:20131023T154107Z
UID:2595-558835200-558921599@pipelinesundsvall.se
SUMMARY:Living In Texas och Anathema
DESCRIPTION:
URL:https://pipelinesundsvall.se/event/living-in-texas-och-anathema/
ATTACH;FMTTYPE=image/bmp:https://pipelinesundsvall.se/wp/wp-content/uploads/2013/10/Living-In-Texas-och-Anathema-Artikel-2-17-Sept-1987-scaled.bmp
END:VEVENT
BEGIN:VEVENT
DTSTART;VALUE=DATE:19870826
DTEND;VALUE=DATE:19870827
DTSTAMP:20260426T001729
CREATED:20131023T154107Z
LAST-MODIFIED:20131023T154107Z
UID:2594-556934400-557020799@pipelinesundsvall.se
SUMMARY:The Lizzard Train och Blöders
DESCRIPTION:
URL:https://pipelinesundsvall.se/event/the-lizzard-train-och-bloders/
ATTACH;FMTTYPE=image/bmp:https://pipelinesundsvall.se/wp/wp-content/uploads/2013/10/The-Lizzard-Train-och-Bloders-Artikel-26-Aug-1987-scaled.bmp
END:VEVENT
BEGIN:VEVENT
DTSTART;VALUE=DATE:19870521
DTEND;VALUE=DATE:19870522
DTSTAMP:20260426T001729
CREATED:20131023T154107Z
LAST-MODIFIED:20131023T154107Z
UID:2592-548553600-548639999@pipelinesundsvall.se
SUMMARY:Disco
DESCRIPTION:
URL:https://pipelinesundsvall.se/event/disco/
END:VEVENT
BEGIN:VEVENT
DTSTART;VALUE=DATE:19870513
DTEND;VALUE=DATE:19870514
DTSTAMP:20260426T001729
CREATED:20131023T154107Z
LAST-MODIFIED:20131023T154107Z
UID:2591-547862400-547948799@pipelinesundsvall.se
SUMMARY:Commando M. Pigg
DESCRIPTION:
URL:https://pipelinesundsvall.se/event/commando-m-pigg-2/
ATTACH;FMTTYPE=image/bmp:https://pipelinesundsvall.se/wp/wp-content/uploads/2013/10/Commando-M-Pigg-Artikel-3-13-Maj-1987-scaled.bmp
END:VEVENT
BEGIN:VEVENT
DTSTART;VALUE=DATE:19870512
DTEND;VALUE=DATE:19870513
DTSTAMP:20260426T001729
CREATED:20131023T154107Z
LAST-MODIFIED:20131023T154107Z
UID:2588-547776000-547862399@pipelinesundsvall.se
SUMMARY:Underland och Commando
DESCRIPTION:
URL:https://pipelinesundsvall.se/event/underland/
ATTACH;FMTTYPE=image/bmp:https://pipelinesundsvall.se/wp/wp-content/uploads/2013/10/Underland-Artikel-2-12-Maj-1987-scaled.bmp
END:VEVENT
BEGIN:VEVENT
DTSTART;VALUE=DATE:19870512
DTEND;VALUE=DATE:19870513
DTSTAMP:20260426T001729
CREATED:20131023T154107Z
LAST-MODIFIED:20131023T154107Z
UID:2590-547776000-547862399@pipelinesundsvall.se
SUMMARY:Underland
DESCRIPTION:
URL:https://pipelinesundsvall.se/event/underland-2/
END:VEVENT
BEGIN:VEVENT
DTSTART;VALUE=DATE:19870507
DTEND;VALUE=DATE:19870508
DTSTAMP:20260426T001729
CREATED:20131023T154107Z
LAST-MODIFIED:20131023T154107Z
UID:2589-547344000-547430399@pipelinesundsvall.se
SUMMARY:Dansdepartementet och Fem Snabba
DESCRIPTION:
URL:https://pipelinesundsvall.se/event/dansdepartementet-och-fem-snabba/
ATTACH;FMTTYPE=image/bmp:https://pipelinesundsvall.se/wp/wp-content/uploads/2013/10/Dansdepartementet-och-Fem-Snabba-Artikel-2-7-Maj-1987.bmp
END:VEVENT
BEGIN:VEVENT
DTSTART;VALUE=DATE:19870501
DTEND;VALUE=DATE:19870502
DTSTAMP:20260426T001729
CREATED:20131023T154106Z
LAST-MODIFIED:20131023T154106Z
UID:2587-546825600-546911999@pipelinesundsvall.se
SUMMARY:Ras 1 och King Kong
DESCRIPTION:
URL:https://pipelinesundsvall.se/event/ras-1-och-king-kong/
END:VEVENT
BEGIN:VEVENT
DTSTART;VALUE=DATE:19870429
DTEND;VALUE=DATE:19870430
DTSTAMP:20260426T001729
CREATED:20131023T154106Z
LAST-MODIFIED:20131023T154106Z
UID:2586-546652800-546739199@pipelinesundsvall.se
SUMMARY:Per Hellberg
DESCRIPTION:
URL:https://pipelinesundsvall.se/event/per-hellberg/
END:VEVENT
BEGIN:VEVENT
DTSTART;VALUE=DATE:19870425
DTEND;VALUE=DATE:19870426
DTSTAMP:20260426T001729
CREATED:20131023T154106Z
LAST-MODIFIED:20131023T154106Z
UID:2585-546307200-546393599@pipelinesundsvall.se
SUMMARY:Lokalbandsgala: Kretsen\, Blanche\, 40 Years och Fyrtiosju
DESCRIPTION:
URL:https://pipelinesundsvall.se/event/lokalbandsgala-2/
ATTACH;FMTTYPE=image/bmp:https://pipelinesundsvall.se/wp/wp-content/uploads/2013/10/LokalbandsGala-Artikel-2-25-Apr-1987-scaled.bmp
END:VEVENT
BEGIN:VEVENT
DTSTART;VALUE=DATE:19870424
DTEND;VALUE=DATE:19870425
DTSTAMP:20260426T001729
CREATED:20131023T154106Z
LAST-MODIFIED:20131023T154106Z
UID:2584-546220800-546307199@pipelinesundsvall.se
SUMMARY:Hårdrocksgala: Rendez Vous och Ivory
DESCRIPTION:
URL:https://pipelinesundsvall.se/event/hardrocksga1a/
END:VEVENT
BEGIN:VEVENT
DTSTART;VALUE=DATE:19870414
DTEND;VALUE=DATE:19870415
DTSTAMP:20260426T001729
CREATED:20131023T154106Z
LAST-MODIFIED:20131023T154106Z
UID:2583-545356800-545443199@pipelinesundsvall.se
SUMMARY:Lädernunnan och Milisen
DESCRIPTION:
URL:https://pipelinesundsvall.se/event/lademunnan-och-milisen/
ATTACH;FMTTYPE=image/bmp:https://pipelinesundsvall.se/wp/wp-content/uploads/2013/10/Ladernunnan-Artikel-3-9-Apr-1987.bmp
END:VEVENT
BEGIN:VEVENT
DTSTART;VALUE=DATE:19870411
DTEND;VALUE=DATE:19870412
DTSTAMP:20260426T001729
CREATED:20131023T154106Z
LAST-MODIFIED:20131023T154106Z
UID:2582-545097600-545183999@pipelinesundsvall.se
SUMMARY:Norrlåtar och Bresma
DESCRIPTION:
URL:https://pipelinesundsvall.se/event/norrlatar-och-bresma/
ATTACH;FMTTYPE=image/bmp:https://pipelinesundsvall.se/wp/wp-content/uploads/2013/10/Norrlatar-och-Bresma-Artikel-11-Apr-1987.bmp
END:VEVENT
BEGIN:VEVENT
DTSTART;VALUE=DATE:19870409
DTEND;VALUE=DATE:19870410
DTSTAMP:20260426T001729
CREATED:20131023T154106Z
LAST-MODIFIED:20131023T154106Z
UID:2581-544924800-545011199@pipelinesundsvall.se
SUMMARY:Isildurs Bane
DESCRIPTION:
URL:https://pipelinesundsvall.se/event/isildurs-bane/
ATTACH;FMTTYPE=image/bmp:https://pipelinesundsvall.se/wp/wp-content/uploads/2013/10/Isildurs-Bane-Artikel-2-9-Apr-1987-scaled.bmp
END:VEVENT
BEGIN:VEVENT
DTSTART;VALUE=DATE:19870406
DTEND;VALUE=DATE:19870407
DTSTAMP:20260426T001729
CREATED:20131023T154106Z
LAST-MODIFIED:20131023T154106Z
UID:2580-544665600-544751999@pipelinesundsvall.se
SUMMARY:The Planets (DE)
DESCRIPTION:
URL:https://pipelinesundsvall.se/event/the-planets/
ATTACH;FMTTYPE=image/bmp:https://pipelinesundsvall.se/wp/wp-content/uploads/2013/10/Planets-Artikel-2-6-Apr-1987-scaled.bmp
END:VEVENT
BEGIN:VEVENT
DTSTART;VALUE=DATE:19870321
DTEND;VALUE=DATE:19870322
DTSTAMP:20260426T001729
CREATED:20131023T154106Z
LAST-MODIFIED:20131023T154106Z
UID:2579-543283200-543369599@pipelinesundsvall.se
SUMMARY:Anti-Depprocksgala: Gustavs Rock'n'roll Band och Tres Hombres
DESCRIPTION:
URL:https://pipelinesundsvall.se/event/anti-depprocksgala/
ATTACH;FMTTYPE=image/bmp:https://pipelinesundsvall.se/wp/wp-content/uploads/2013/10/Anti-Depprocksgala-Artikel-4-19-Mars-1987-scaled.bmp
END:VEVENT
BEGIN:VEVENT
DTSTART;VALUE=DATE:19870314
DTEND;VALUE=DATE:19870315
DTSTAMP:20260426T001729
CREATED:20131023T154106Z
LAST-MODIFIED:20131023T154106Z
UID:2578-542678400-542764799@pipelinesundsvall.se
SUMMARY:Man Klan och Los Bohemos
DESCRIPTION:
URL:https://pipelinesundsvall.se/event/man-klan-och-los-bohemos-2/
ATTACH;FMTTYPE=image/jpeg:https://pipelinesundsvall.se/wp/wp-content/uploads/2013/10/Underground-Och-Punk-Pa-Musikforum-scaled.jpg
END:VEVENT
BEGIN:VEVENT
DTSTART;VALUE=DATE:19870311
DTEND;VALUE=DATE:19870312
DTSTAMP:20260426T001729
CREATED:20131023T154105Z
LAST-MODIFIED:20131023T154105Z
UID:2577-542419200-542505599@pipelinesundsvall.se
SUMMARY:Zoo
DESCRIPTION:
URL:https://pipelinesundsvall.se/event/zoo/
ATTACH;FMTTYPE=image/jpeg:https://pipelinesundsvall.se/wp/wp-content/uploads/2013/10/Zoo-Spelar-I-Sundsvall.-17-Mars-1987.jpg
END:VEVENT
END:VCALENDAR