BEGIN:VCALENDAR
VERSION:2.0
PRODID:-//Pipeline Sundsvalls Musikforum - ECPv6.15.17.1//NONSGML v1.0//EN
CALSCALE:GREGORIAN
METHOD:PUBLISH
X-WR-CALNAME:Pipeline Sundsvalls Musikforum
X-ORIGINAL-URL:https://pipelinesundsvall.se
X-WR-CALDESC:Händelser för Pipeline Sundsvalls Musikforum
REFRESH-INTERVAL;VALUE=DURATION:PT1H
X-Robots-Tag:noindex
X-PUBLISHED-TTL:PT1H
BEGIN:VTIMEZONE
TZID:Europe/Stockholm
BEGIN:DAYLIGHT
TZOFFSETFROM:+0100
TZOFFSETTO:+0200
TZNAME:CEST
DTSTART:19880327T010000
END:DAYLIGHT
BEGIN:STANDARD
TZOFFSETFROM:+0200
TZOFFSETTO:+0100
TZNAME:CET
DTSTART:19880925T010000
END:STANDARD
BEGIN:DAYLIGHT
TZOFFSETFROM:+0100
TZOFFSETTO:+0200
TZNAME:CEST
DTSTART:19890326T010000
END:DAYLIGHT
BEGIN:STANDARD
TZOFFSETFROM:+0200
TZOFFSETTO:+0100
TZNAME:CET
DTSTART:19890924T010000
END:STANDARD
BEGIN:DAYLIGHT
TZOFFSETFROM:+0100
TZOFFSETTO:+0200
TZNAME:CEST
DTSTART:19900325T010000
END:DAYLIGHT
BEGIN:STANDARD
TZOFFSETFROM:+0200
TZOFFSETTO:+0100
TZNAME:CET
DTSTART:19900930T010000
END:STANDARD
BEGIN:DAYLIGHT
TZOFFSETFROM:+0100
TZOFFSETTO:+0200
TZNAME:CEST
DTSTART:19910331T010000
END:DAYLIGHT
BEGIN:STANDARD
TZOFFSETFROM:+0200
TZOFFSETTO:+0100
TZNAME:CET
DTSTART:19910929T010000
END:STANDARD
END:VTIMEZONE
BEGIN:VEVENT
DTSTART;VALUE=DATE:19900726
DTEND;VALUE=DATE:19900727
DTSTAMP:20260425T210627
CREATED:20131023T154120Z
LAST-MODIFIED:20131023T154120Z
UID:2700-648950400-649036799@pipelinesundsvall.se
SUMMARY:Torgrock: Shade of Orange och Kretsen
DESCRIPTION:
URL:https://pipelinesundsvall.se/event/shade-of-orange-kretsen/
ATTACH;FMTTYPE=image/jpeg:https://pipelinesundsvall.se/wp/wp-content/uploads/2013/10/323527940_1218835852046094_3029123258361859333_n-1.jpg
END:VEVENT
BEGIN:VEVENT
DTSTART;VALUE=DATE:19900719
DTEND;VALUE=DATE:19900720
DTSTAMP:20260425T210627
CREATED:20131023T154119Z
LAST-MODIFIED:20131023T154119Z
UID:2699-648345600-648431999@pipelinesundsvall.se
SUMMARY:Torgrock: Tip Top Kaffekillar och ACE
DESCRIPTION:
URL:https://pipelinesundsvall.se/event/tip-top-kaffekillar-och-ace/
ATTACH;FMTTYPE=image/bmp:https://pipelinesundsvall.se/wp/wp-content/uploads/2013/10/Torgrock-Artikel-5-1990-scaled.bmp
END:VEVENT
BEGIN:VEVENT
DTSTART;VALUE=DATE:19900705
DTEND;VALUE=DATE:19900706
DTSTAMP:20260425T210627
CREATED:20131023T154119Z
LAST-MODIFIED:20131023T154119Z
UID:2698-647136000-647222399@pipelinesundsvall.se
SUMMARY:Torgrock: Runaway Boys och Airbourne
DESCRIPTION:
URL:https://pipelinesundsvall.se/event/runaway-boys-och-airbourne/
ATTACH;FMTTYPE=image/bmp:https://pipelinesundsvall.se/wp/wp-content/uploads/2013/10/Torgrock-Artikel-3-1990-scaled.bmp
END:VEVENT
BEGIN:VEVENT
DTSTART;VALUE=DATE:19900628
DTEND;VALUE=DATE:19900629
DTSTAMP:20260425T210627
CREATED:20131023T154119Z
LAST-MODIFIED:20131023T154119Z
UID:2697-646531200-646617599@pipelinesundsvall.se
SUMMARY:Torgrock: Epic Irae + Pretties For You
DESCRIPTION:
URL:https://pipelinesundsvall.se/event/torgrock/
ATTACH;FMTTYPE=image/bmp:https://pipelinesundsvall.se/wp/wp-content/uploads/2013/10/Torgrock-Artikel-4-1990-scaled.bmp
END:VEVENT
BEGIN:VEVENT
DTSTART;VALUE=DATE:19900608
DTEND;VALUE=DATE:19900609
DTSTAMP:20260425T210627
CREATED:20150518T061527Z
LAST-MODIFIED:20150518T061527Z
UID:10049-644803200-644889599@pipelinesundsvall.se
SUMMARY:Torgrock
DESCRIPTION:
URL:https://pipelinesundsvall.se/event/torgrock-4/
END:VEVENT
BEGIN:VEVENT
DTSTART;VALUE=DATE:19900526
DTEND;VALUE=DATE:19900527
DTSTAMP:20260425T210627
CREATED:20131023T154119Z
LAST-MODIFIED:20131023T154119Z
UID:2696-643680000-643766399@pipelinesundsvall.se
SUMMARY:Crompojkarna\, Tip Top Kaffekillar\, Bangsters och Trio Lligo
DESCRIPTION:
URL:https://pipelinesundsvall.se/event/crompojkarna-tip-top-kaffekillar-och-trio-lligo/
END:VEVENT
BEGIN:VEVENT
DTSTART;VALUE=DATE:19900525
DTEND;VALUE=DATE:19900526
DTSTAMP:20260425T210627
CREATED:20131023T154119Z
LAST-MODIFIED:20131023T154119Z
UID:2695-643593600-643679999@pipelinesundsvall.se
SUMMARY:Pink Pedal Pushers\, Shades Of Orange\, Jenny-Anne & Åsa Stefan & The Truters och Be Bop
DESCRIPTION:
URL:https://pipelinesundsvall.se/event/pink-pedal-pushers-shades-of-orange-stefan-the-truters-och-be-bop/
ATTACH;FMTTYPE=image/bmp:https://pipelinesundsvall.se/wp/wp-content/uploads/2013/10/Shades-of-Orange-Artikel-25-Maj-1990.bmp
END:VEVENT
BEGIN:VEVENT
DTSTART;VALUE=DATE:19900524
DTEND;VALUE=DATE:19900525
DTSTAMP:20260425T210627
CREATED:20131023T154119Z
LAST-MODIFIED:20131023T154119Z
UID:2694-643507200-643593599@pipelinesundsvall.se
SUMMARY:Ten Dead Dogs\, Motorjoke och William
DESCRIPTION:
URL:https://pipelinesundsvall.se/event/ten-dead-dogs-motorjoke-och-william/
ATTACH;FMTTYPE=image/bmp:https://pipelinesundsvall.se/wp/wp-content/uploads/2013/10/Ten-dead-dogs-Motorjoke-William-Artikel-24-Maj-1990-scaled.bmp
END:VEVENT
BEGIN:VEVENT
DTSTART;VALUE=DATE:19900506
DTEND;VALUE=DATE:19900507
DTSTAMP:20260425T210627
CREATED:20150217T130356Z
LAST-MODIFIED:20150217T130356Z
UID:9512-641952000-642038399@pipelinesundsvall.se
SUMMARY:Sundsvalls skivmässa våren 1990
DESCRIPTION:
URL:https://pipelinesundsvall.se/event/sundsvalls-skivmassa-2/
END:VEVENT
BEGIN:VEVENT
DTSTART;VALUE=DATE:19900502
DTEND;VALUE=DATE:19900503
DTSTAMP:20260425T210627
CREATED:20131023T154118Z
LAST-MODIFIED:20131023T154118Z
UID:2693-641606400-641692799@pipelinesundsvall.se
SUMMARY:Mano Negra (FR)
DESCRIPTION:
URL:https://pipelinesundsvall.se/event/mano-negra/
ATTACH;FMTTYPE=image/bmp:https://pipelinesundsvall.se/wp/wp-content/uploads/2013/10/Mano-Negra-Artikel-1-2-Maj-1990-scaled.bmp
END:VEVENT
BEGIN:VEVENT
DTSTART;VALUE=DATE:19900428
DTEND;VALUE=DATE:19900429
DTSTAMP:20260425T210627
CREATED:20131023T154118Z
LAST-MODIFIED:20131023T154118Z
UID:2692-641260800-641347199@pipelinesundsvall.se
SUMMARY:Tapirerna + Bröderna
DESCRIPTION:
URL:https://pipelinesundsvall.se/event/tapirerna/
ATTACH;FMTTYPE=image/bmp:https://pipelinesundsvall.se/wp/wp-content/uploads/2013/10/Tapirerna-Artikel-28-April-1990.bmp
END:VEVENT
BEGIN:VEVENT
DTSTART;VALUE=DATE:19900410
DTEND;VALUE=DATE:19900411
DTSTAMP:20260425T210627
CREATED:20131023T154118Z
LAST-MODIFIED:20131023T154118Z
UID:2691-639705600-639791999@pipelinesundsvall.se
SUMMARY:Camper Van Beethoven
DESCRIPTION:
URL:https://pipelinesundsvall.se/event/camper-van-beethoven/
END:VEVENT
BEGIN:VEVENT
DTSTART;VALUE=DATE:19900407
DTEND;VALUE=DATE:19900408
DTSTAMP:20260425T210627
CREATED:20131023T154118Z
LAST-MODIFIED:20131023T154118Z
UID:2690-639446400-639532799@pipelinesundsvall.se
SUMMARY:Perssons Pack och Elvert Underground
DESCRIPTION:
URL:https://pipelinesundsvall.se/event/perssons-pack-och-elvert-underground/
ATTACH;FMTTYPE=image/bmp:https://pipelinesundsvall.se/wp/wp-content/uploads/2013/10/Perssons-Pack-Artikel-7-April-1990-scaled.bmp
END:VEVENT
BEGIN:VEVENT
DTSTART;VALUE=DATE:19900331
DTEND;VALUE=DATE:19900401
DTSTAMP:20260425T210627
CREATED:20131023T154118Z
LAST-MODIFIED:20131023T154118Z
UID:2689-638841600-638927999@pipelinesundsvall.se
SUMMARY:Sator
DESCRIPTION:Riksradioinspelning
URL:https://pipelinesundsvall.se/event/sator-3/
ATTACH;FMTTYPE=image/bmp:https://pipelinesundsvall.se/wp/wp-content/uploads/2013/10/Sator-Artikel-31-Mars-1990-scaled.bmp
END:VEVENT
BEGIN:VEVENT
DTSTART;VALUE=DATE:19900324
DTEND;VALUE=DATE:19900325
DTSTAMP:20260425T210627
CREATED:20131023T154118Z
LAST-MODIFIED:20131023T154118Z
UID:2688-638236800-638323199@pipelinesundsvall.se
SUMMARY:Mystery och Ace
DESCRIPTION:
URL:https://pipelinesundsvall.se/event/mystery-och-ace/
ATTACH;FMTTYPE=image/bmp:https://pipelinesundsvall.se/wp/wp-content/uploads/2013/10/Mystery-och-Ace-Artikel-24-Mars-1990.bmp
END:VEVENT
BEGIN:VEVENT
DTSTART;VALUE=DATE:19900315
DTEND;VALUE=DATE:19900316
DTSTAMP:20260425T210627
CREATED:20131023T154118Z
LAST-MODIFIED:20131023T154118Z
UID:2687-637459200-637545599@pipelinesundsvall.se
SUMMARY:New Model Army (UK)
DESCRIPTION:
URL:https://pipelinesundsvall.se/event/new-model-army/
ATTACH;FMTTYPE=image/bmp:https://pipelinesundsvall.se/wp/wp-content/uploads/2013/10/New-Army-Model-Artikel-2-15-Mars-1990-scaled.bmp
END:VEVENT
BEGIN:VEVENT
DTSTART;VALUE=DATE:19900309
DTEND;VALUE=DATE:19900310
DTSTAMP:20260425T210627
CREATED:20131023T154118Z
LAST-MODIFIED:20131023T154118Z
UID:2686-636940800-637027199@pipelinesundsvall.se
SUMMARY:Monica Zetterlund
DESCRIPTION:
URL:https://pipelinesundsvall.se/event/monica-zetterlund/
ATTACH;FMTTYPE=image/jpeg:https://pipelinesundsvall.se/wp/wp-content/uploads/2013/10/Ingen-Kan-Jazza-Som-Monica-Z.-11-Mars-1990-scaled.jpg
END:VEVENT
BEGIN:VEVENT
DTSTART;VALUE=DATE:19900303
DTEND;VALUE=DATE:19900304
DTSTAMP:20260425T210627
CREATED:20131023T154118Z
LAST-MODIFIED:20131023T154118Z
UID:2685-636422400-636508799@pipelinesundsvall.se
SUMMARY:Márta Sebestyén & Muzikas (HU)
DESCRIPTION:
URL:https://pipelinesundsvall.se/event/marta-sebetyen-muzikas/
END:VEVENT
BEGIN:VEVENT
DTSTART;VALUE=DATE:19900224
DTEND;VALUE=DATE:19900225
DTSTAMP:20260425T210627
CREATED:20131023T154117Z
LAST-MODIFIED:20131023T154117Z
UID:2684-635817600-635903999@pipelinesundsvall.se
SUMMARY:Cabazz och Lädermåsen
DESCRIPTION:
URL:https://pipelinesundsvall.se/event/cabazz-och-ladermasen/
ATTACH;FMTTYPE=image/bmp:https://pipelinesundsvall.se/wp/wp-content/uploads/2013/10/Cabazz-och-Ladermasen-Artikel-24-Feb-1990-scaled.bmp
END:VEVENT
BEGIN:VEVENT
DTSTART;VALUE=DATE:19900217
DTEND;VALUE=DATE:19900218
DTSTAMP:20260425T210627
CREATED:20131023T154117Z
LAST-MODIFIED:20131023T154117Z
UID:2683-635212800-635299199@pipelinesundsvall.se
SUMMARY:Chainsaw Zombies och Shades Of Orange
DESCRIPTION:
URL:https://pipelinesundsvall.se/event/chainsaw-zombies-och-shades-of-orange/
ATTACH;FMTTYPE=image/bmp:https://pipelinesundsvall.se/wp/wp-content/uploads/2013/10/Chainsaw-Zombies-Artikel-1-17-Feb-1990.bmp
END:VEVENT
BEGIN:VEVENT
DTSTART;VALUE=DATE:19900214
DTEND;VALUE=DATE:19900215
DTSTAMP:20260425T210627
CREATED:20131023T154117Z
LAST-MODIFIED:20131023T154117Z
UID:2681-634953600-635039999@pipelinesundsvall.se
SUMMARY:The Creeps
DESCRIPTION:
URL:https://pipelinesundsvall.se/event/the-creeps/
ATTACH;FMTTYPE=image/jpeg:https://pipelinesundsvall.se/wp/wp-content/uploads/2013/10/Rena-Uppvisningen.-15-Februari-1990.-Sid-2-scaled.jpg
END:VEVENT
BEGIN:VEVENT
DTSTART;VALUE=DATE:19900204
DTEND;VALUE=DATE:19900205
DTSTAMP:20260425T210627
CREATED:20131023T154117Z
LAST-MODIFIED:20131023T154117Z
UID:2680-634089600-634175999@pipelinesundsvall.se
SUMMARY:Johan Johansson och Kajsa Grytt: De missanpassade
DESCRIPTION:
URL:https://pipelinesundsvall.se/event/johan-johansson-och-kajsa-grytt/
ATTACH;FMTTYPE=image/bmp:https://pipelinesundsvall.se/wp/wp-content/uploads/2013/10/Johan-Johansson-och-Kajsa-Grytt-Artikel-4-Feb-1990-scaled.bmp
END:VEVENT
BEGIN:VEVENT
DTSTART;VALUE=DATE:19900119
DTEND;VALUE=DATE:19900120
DTSTAMP:20260425T210627
CREATED:20131023T154117Z
LAST-MODIFIED:20131023T154117Z
UID:2679-632707200-632793599@pipelinesundsvall.se
SUMMARY:Laserjesus
DESCRIPTION:
URL:https://pipelinesundsvall.se/event/laserjesus/
END:VEVENT
BEGIN:VEVENT
DTSTART;VALUE=DATE:19891226
DTEND;VALUE=DATE:19891227
DTSTAMP:20260425T210627
CREATED:20131023T154116Z
LAST-MODIFIED:20131023T154116Z
UID:2678-630633600-630719999@pipelinesundsvall.se
SUMMARY:Annandagsgala: Shades Of Orange\, Bikes'n Babes\, Pretties For You\, Stefan & The Truters\, Jenny-Anne & Åsa och Brufords
DESCRIPTION:
URL:https://pipelinesundsvall.se/event/annandagsgala-4/
END:VEVENT
BEGIN:VEVENT
DTSTART;VALUE=DATE:19891213
DTEND;VALUE=DATE:19891214
DTSTAMP:20260425T210627
CREATED:20131023T154116Z
LAST-MODIFIED:20131023T154116Z
UID:2677-629510400-629596799@pipelinesundsvall.se
SUMMARY:Sugar Pop Boy\, Barophobia och Sagittarius
DESCRIPTION:
URL:https://pipelinesundsvall.se/event/sugar-pop-boy-barophobia-och-sagittarius/
END:VEVENT
BEGIN:VEVENT
DTSTART;VALUE=DATE:19891201
DTEND;VALUE=DATE:19891202
DTSTAMP:20260425T210627
CREATED:20131023T154116Z
LAST-MODIFIED:20131023T154116Z
UID:2676-628473600-628559999@pipelinesundsvall.se
SUMMARY:Dolkows och Nevskij Prospekt
DESCRIPTION:
URL:https://pipelinesundsvall.se/event/dolkows-nevskij-prospekt/
ATTACH;FMTTYPE=image/jpeg:https://pipelinesundsvall.se/wp/wp-content/uploads/2013/10/Larmig-Men-Melodios-Rock.-Dolkows-Nevskij-Prospect.-Pipeline.-1-December-1989-scaled.jpg
END:VEVENT
BEGIN:VEVENT
DTSTART;VALUE=DATE:19891124
DTEND;VALUE=DATE:19891125
DTSTAMP:20260425T210627
CREATED:20131023T154116Z
LAST-MODIFIED:20131023T154116Z
UID:2675-627868800-627955199@pipelinesundsvall.se
SUMMARY:Gina Jacobi\, Slim Jim & The Pink Pedal Pushers\, Stillborn och Thundermessiah
DESCRIPTION:
URL:https://pipelinesundsvall.se/event/gina-jacobi-slim-jim-the-pink-pedal-pushers-stillborn-och-thundermessiah/
ATTACH;FMTTYPE=image/bmp:https://pipelinesundsvall.se/wp/wp-content/uploads/2013/10/Stillborn-Artikel-24-Nov-1989.bmp
END:VEVENT
BEGIN:VEVENT
DTSTART;VALUE=DATE:19891111
DTEND;VALUE=DATE:19891112
DTSTAMP:20260425T210627
CREATED:20131023T154116Z
LAST-MODIFIED:20131023T154116Z
UID:2674-626745600-626831999@pipelinesundsvall.se
SUMMARY:Union Carbide Productions och Motorjoke
DESCRIPTION:
URL:https://pipelinesundsvall.se/event/union-carbide-productions-och-motorjoke/
ATTACH;FMTTYPE=image/bmp:https://pipelinesundsvall.se/wp/wp-content/uploads/2013/10/Union-Carbide-Productions-och-Motorjoke-Artikel-11-nov-1989.bmp
END:VEVENT
BEGIN:VEVENT
DTSTART;VALUE=DATE:19891107
DTEND;VALUE=DATE:19891108
DTSTAMP:20260425T210627
CREATED:20131023T154116Z
LAST-MODIFIED:20131023T154116Z
UID:2673-626400000-626486399@pipelinesundsvall.se
SUMMARY:The Saints (AU)
DESCRIPTION:
URL:https://pipelinesundsvall.se/event/the-saints-2/
ATTACH;FMTTYPE=image/bmp:https://pipelinesundsvall.se/wp/wp-content/uploads/2013/10/The-Saints-Artikel-1-7-Nov-1989-scaled.bmp
END:VEVENT
BEGIN:VEVENT
DTSTART;VALUE=DATE:19891101
DTEND;VALUE=DATE:19891102
DTSTAMP:20260425T210627
CREATED:20131023T154116Z
LAST-MODIFIED:20131023T154116Z
UID:2672-625881600-625967999@pipelinesundsvall.se
SUMMARY:Docenterna och Fawkestown
DESCRIPTION:
URL:https://pipelinesundsvall.se/event/docenterna-och-fawkestown/
END:VEVENT
END:VCALENDAR