BEGIN:VCALENDAR
VERSION:2.0
PRODID:-//Pipeline Sundsvalls Musikforum - ECPv6.15.17.1//NONSGML v1.0//EN
CALSCALE:GREGORIAN
METHOD:PUBLISH
X-ORIGINAL-URL:https://pipelinesundsvall.se
X-WR-CALDESC:Händelser för Pipeline Sundsvalls Musikforum
REFRESH-INTERVAL;VALUE=DURATION:PT1H
X-Robots-Tag:noindex
X-PUBLISHED-TTL:PT1H
BEGIN:VTIMEZONE
TZID:Europe/Stockholm
BEGIN:DAYLIGHT
TZOFFSETFROM:+0100
TZOFFSETTO:+0200
TZNAME:CEST
DTSTART:19910331T010000
END:DAYLIGHT
BEGIN:STANDARD
TZOFFSETFROM:+0200
TZOFFSETTO:+0100
TZNAME:CET
DTSTART:19910929T010000
END:STANDARD
BEGIN:DAYLIGHT
TZOFFSETFROM:+0100
TZOFFSETTO:+0200
TZNAME:CEST
DTSTART:19920329T010000
END:DAYLIGHT
BEGIN:STANDARD
TZOFFSETFROM:+0200
TZOFFSETTO:+0100
TZNAME:CET
DTSTART:19920927T010000
END:STANDARD
BEGIN:DAYLIGHT
TZOFFSETFROM:+0100
TZOFFSETTO:+0200
TZNAME:CEST
DTSTART:19930328T010000
END:DAYLIGHT
BEGIN:STANDARD
TZOFFSETFROM:+0200
TZOFFSETTO:+0100
TZNAME:CET
DTSTART:19930926T010000
END:STANDARD
END:VTIMEZONE
BEGIN:VEVENT
DTSTART;VALUE=DATE:19921119
DTEND;VALUE=DATE:19921120
DTSTAMP:20260425T224326
CREATED:20131023T154129Z
LAST-MODIFIED:20131023T154129Z
UID:2797-722131200-722217599@pipelinesundsvall.se
SUMMARY:Ika Nord & Matti Bye
DESCRIPTION:
URL:https://pipelinesundsvall.se/event/ika-nord-matti-bye/
ATTACH;FMTTYPE=image/jpeg:https://pipelinesundsvall.se/wp/wp-content/uploads/2013/10/Ika-I-Rutan-Ika-Nord-Matti-Bye.-19-November-1992.jpg
END:VEVENT
BEGIN:VEVENT
DTSTART;VALUE=DATE:19921117
DTEND;VALUE=DATE:19921118
DTSTAMP:20260425T224326
CREATED:20131023T154129Z
LAST-MODIFIED:20131023T154129Z
UID:2796-721958400-722044799@pipelinesundsvall.se
SUMMARY:The Wedding Present (UK) och The Confusions
DESCRIPTION:
URL:https://pipelinesundsvall.se/event/wedding-present-och-the-confusions/
ATTACH;FMTTYPE=image/jpeg:https://pipelinesundsvall.se/wp/wp-content/uploads/2013/10/Pipeline.-Wedding-Presents.-17-Nov-1992-scaled.jpg
END:VEVENT
BEGIN:VEVENT
DTSTART;VALUE=DATE:19921114
DTEND;VALUE=DATE:19921115
DTSTAMP:20260425T224326
CREATED:20131023T154129Z
LAST-MODIFIED:20131023T154129Z
UID:2795-721699200-721785599@pipelinesundsvall.se
SUMMARY:Unleashed\, Hakate och Left Hand Solution
DESCRIPTION:
URL:https://pipelinesundsvall.se/event/unleashed-hekate-och-left-hand-solution/
ATTACH;FMTTYPE=image/jpeg:https://pipelinesundsvall.se/wp/wp-content/uploads/2013/10/Nyanslos-Ljudorgasm.-Pipeline.-Hakate-Left-Hand-Solution-Unchained.-14-November-1992-scaled.jpg
END:VEVENT
BEGIN:VEVENT
DTSTART;VALUE=DATE:19921104
DTEND;VALUE=DATE:19921105
DTSTAMP:20260425T224326
CREATED:20131023T154129Z
LAST-MODIFIED:20131023T154129Z
UID:2794-720835200-720921599@pipelinesundsvall.se
SUMMARY:The Wannadies och Funny Farm
DESCRIPTION:
URL:https://pipelinesundsvall.se/event/the-wannadies-och-funny-farm/
END:VEVENT
BEGIN:VEVENT
DTSTART;VALUE=DATE:19921030
DTEND;VALUE=DATE:19921031
DTSTAMP:20260425T224326
CREATED:20131023T154129Z
LAST-MODIFIED:20131023T154129Z
UID:2793-720403200-720489599@pipelinesundsvall.se
SUMMARY:BassPlace Disco
DESCRIPTION:
URL:https://pipelinesundsvall.se/event/bassplace-disco-2/
END:VEVENT
BEGIN:VEVENT
DTSTART;VALUE=DATE:19921025
DTEND;VALUE=DATE:19921026
DTSTAMP:20260425T224326
CREATED:20131023T154129Z
LAST-MODIFIED:20131023T154129Z
UID:2792-719971200-720057599@pipelinesundsvall.se
SUMMARY:Jonas Knutsson
DESCRIPTION:
URL:https://pipelinesundsvall.se/event/jonas-knutsson/
END:VEVENT
BEGIN:VEVENT
DTSTART;VALUE=DATE:19921024
DTEND;VALUE=DATE:19921025
DTSTAMP:20260425T224326
CREATED:20131023T154129Z
LAST-MODIFIED:20131023T154129Z
UID:2791-719884800-719971199@pipelinesundsvall.se
SUMMARY:Hackermeet och 48 Timmar
DESCRIPTION:
URL:https://pipelinesundsvall.se/event/hackermeet-och-48-timmar/
END:VEVENT
BEGIN:VEVENT
DTSTART;VALUE=DATE:19921023
DTEND;VALUE=DATE:19921024
DTSTAMP:20260425T224326
CREATED:20131023T154129Z
LAST-MODIFIED:20131023T154129Z
UID:2790-719798400-719884799@pipelinesundsvall.se
SUMMARY:Giro Di Trimotore: Mindscape\, This Perfect Day och Popsicle
DESCRIPTION:
URL:https://pipelinesundsvall.se/event/giro-di-trimotore-mindscape-this-perfect-day-och-popsicle/
ATTACH;FMTTYPE=image/jpeg:https://pipelinesundsvall.se/wp/wp-content/uploads/2013/10/Brittisk-Gitarrpop.-Pipeline.Giro-Di-Trimotore.-This-Perfect-Day-Popsicle-Mindscape-23-Oktober-1992.jpg
END:VEVENT
BEGIN:VEVENT
DTSTART;VALUE=DATE:19921018
DTEND;VALUE=DATE:19921019
DTSTAMP:20260425T224326
CREATED:20131023T154128Z
LAST-MODIFIED:20131023T154128Z
UID:2789-719366400-719452799@pipelinesundsvall.se
SUMMARY:Peace\, Love and Pitbulls (extrakonsert)
DESCRIPTION:
URL:https://pipelinesundsvall.se/event/peace-och-love-pitbulls-2/
END:VEVENT
BEGIN:VEVENT
DTSTART;VALUE=DATE:19921017
DTEND;VALUE=DATE:19921018
DTSTAMP:20260425T224326
CREATED:20131023T154128Z
LAST-MODIFIED:20131023T154128Z
UID:2788-719280000-719366399@pipelinesundsvall.se
SUMMARY:Peace\, Love and Pitbulls
DESCRIPTION:
URL:https://pipelinesundsvall.se/event/peace-och-love-pitbulls/
ATTACH;FMTTYPE=image/bmp:https://pipelinesundsvall.se/wp/wp-content/uploads/2013/10/Peace-och-Love-Pitbulls-Artikel-18-Okt-1992-scaled.bmp
END:VEVENT
BEGIN:VEVENT
DTSTART;VALUE=DATE:19921009
DTEND;VALUE=DATE:19921010
DTSTAMP:20260425T224326
CREATED:20131023T154128Z
LAST-MODIFIED:20131023T154128Z
UID:2787-718588800-718675199@pipelinesundsvall.se
SUMMARY:Techno Rave: Cyber Man\, Abraham Project och Frantic
DESCRIPTION:
URL:https://pipelinesundsvall.se/event/techno-rave/
END:VEVENT
BEGIN:VEVENT
DTSTART;VALUE=DATE:19921006
DTEND;VALUE=DATE:19921007
DTSTAMP:20260425T224326
CREATED:20131023T154128Z
LAST-MODIFIED:20131023T154128Z
UID:2786-718329600-718415999@pipelinesundsvall.se
SUMMARY:Bel Canto (NO)
DESCRIPTION:
URL:https://pipelinesundsvall.se/event/bel-canto/
END:VEVENT
BEGIN:VEVENT
DTSTART;VALUE=DATE:19921003
DTEND;VALUE=DATE:19921004
DTSTAMP:20260425T224326
CREATED:20131023T154128Z
LAST-MODIFIED:20131023T154128Z
UID:2785-718070400-718156799@pipelinesundsvall.se
SUMMARY:Kee Marcello & Lasse Hajagos
DESCRIPTION:
URL:https://pipelinesundsvall.se/event/kee-marcello-lasse-hajagos/
END:VEVENT
BEGIN:VEVENT
DTSTART;VALUE=DATE:19921002
DTEND;VALUE=DATE:19921003
DTSTAMP:20260425T224326
CREATED:20131023T154128Z
LAST-MODIFIED:20131023T154128Z
UID:2784-717984000-718070399@pipelinesundsvall.se
SUMMARY:Meshuggah och Merciless
DESCRIPTION:
URL:https://pipelinesundsvall.se/event/meshuggah-och-merciless/
END:VEVENT
BEGIN:VEVENT
DTSTART;VALUE=DATE:19920927
DTEND;VALUE=DATE:19920928
DTSTAMP:20260425T224326
CREATED:20131023T154128Z
LAST-MODIFIED:20131023T154128Z
UID:2783-717552000-717638399@pipelinesundsvall.se
SUMMARY:Sundsvalls skivmässa hösten 1992
DESCRIPTION:
URL:https://pipelinesundsvall.se/event/skivmarknad-3/
END:VEVENT
BEGIN:VEVENT
DTSTART;VALUE=DATE:19920925
DTEND;VALUE=DATE:19920926
DTSTAMP:20260425T224326
CREATED:20131023T154128Z
LAST-MODIFIED:20131023T154128Z
UID:2782-717379200-717465599@pipelinesundsvall.se
SUMMARY:Blue For Two och Jezebel
DESCRIPTION:
URL:https://pipelinesundsvall.se/event/blue-for-two-och-jezebel/
END:VEVENT
BEGIN:VEVENT
DTSTART;VALUE=DATE:19920923
DTEND;VALUE=DATE:19920924
DTSTAMP:20260425T224326
CREATED:20131023T154128Z
LAST-MODIFIED:20131023T154128Z
UID:2781-717206400-717292799@pipelinesundsvall.se
SUMMARY:Youth Brigade (US) och Hog House
DESCRIPTION:
URL:https://pipelinesundsvall.se/event/youth-brigade-och-hog-house/
END:VEVENT
BEGIN:VEVENT
DTSTART;VALUE=DATE:19920820
DTEND;VALUE=DATE:19920821
DTSTAMP:20260425T224326
CREATED:20131023T154127Z
LAST-MODIFIED:20131023T154127Z
UID:2780-714268800-714355199@pipelinesundsvall.se
SUMMARY:Funny Farm och Indi
DESCRIPTION:
URL:https://pipelinesundsvall.se/event/funny-farm-och-mdi/
END:VEVENT
BEGIN:VEVENT
DTSTART;VALUE=DATE:19920806
DTEND;VALUE=DATE:19920807
DTSTAMP:20260425T224326
CREATED:20131023T154127Z
LAST-MODIFIED:20131023T154127Z
UID:2779-713059200-713145599@pipelinesundsvall.se
SUMMARY:Moahni Moahna och Capricorn
DESCRIPTION:
URL:https://pipelinesundsvall.se/event/moahni-moahna-och-capricorn/
END:VEVENT
BEGIN:VEVENT
DTSTART;VALUE=DATE:19920730
DTEND;VALUE=DATE:19920731
DTSTAMP:20260425T224326
CREATED:20131023T154127Z
LAST-MODIFIED:20131023T154127Z
UID:2778-712454400-712540799@pipelinesundsvall.se
SUMMARY:Brainpipe och Cirkusorkestern
DESCRIPTION:
URL:https://pipelinesundsvall.se/event/brainpipe-och-cirkusorkestern/
END:VEVENT
BEGIN:VEVENT
DTSTART;VALUE=DATE:19920723
DTEND;VALUE=DATE:19920724
DTSTAMP:20260425T224326
CREATED:20131023T154127Z
LAST-MODIFIED:20131023T154127Z
UID:2777-711849600-711935999@pipelinesundsvall.se
SUMMARY:Bex och Jezebel
DESCRIPTION:
URL:https://pipelinesundsvall.se/event/bex-boogie-och-jezebel/
END:VEVENT
BEGIN:VEVENT
DTSTART;VALUE=DATE:19920709
DTEND;VALUE=DATE:19920710
DTSTAMP:20260425T224326
CREATED:20131023T154127Z
LAST-MODIFIED:20131023T154127Z
UID:2776-710640000-710726399@pipelinesundsvall.se
SUMMARY:Magic Broom och Motorjoke
DESCRIPTION:
URL:https://pipelinesundsvall.se/event/magic-broom-och-motorjoke/
END:VEVENT
BEGIN:VEVENT
DTSTART;VALUE=DATE:19920702
DTEND;VALUE=DATE:19920703
DTSTAMP:20260425T224326
CREATED:20131023T154127Z
LAST-MODIFIED:20131023T154127Z
UID:2775-710035200-710121599@pipelinesundsvall.se
SUMMARY:Dunka Dunka och This Perfect Day
DESCRIPTION:
URL:https://pipelinesundsvall.se/event/dunka-dunka-och-this-perfect-day/
END:VEVENT
BEGIN:VEVENT
DTSTART;VALUE=DATE:19920510
DTEND;VALUE=DATE:19920511
DTSTAMP:20260425T224326
CREATED:20131023T154127Z
LAST-MODIFIED:20131023T154127Z
UID:2774-705456000-705542399@pipelinesundsvall.se
SUMMARY:Sundsvalls skivmässa våren 1992
DESCRIPTION:
URL:https://pipelinesundsvall.se/event/skivmarknad-2/
END:VEVENT
BEGIN:VEVENT
DTSTART;VALUE=DATE:19920502
DTEND;VALUE=DATE:19920503
DTSTAMP:20260425T224326
CREATED:20131023T154127Z
LAST-MODIFIED:20131023T154127Z
UID:2773-704764800-704851199@pipelinesundsvall.se
SUMMARY:"Lou Reed i Sundsvall": Patrik Berggren med gäster
DESCRIPTION:
URL:https://pipelinesundsvall.se/event/lou-reed-i-sundsvall-patrik-berggren-med-gaster/
ATTACH;FMTTYPE=image/bmp:https://pipelinesundsvall.se/wp/wp-content/uploads/2013/10/Lou-Reed-I-Sundsvall-–-Patrik-Berggren-Med-Artikel-Gaster-2-Maj-1992-scaled.bmp
END:VEVENT
BEGIN:VEVENT
DTSTART;VALUE=DATE:19920424
DTEND;VALUE=DATE:19920425
DTSTAMP:20260425T224326
CREATED:20131023T154127Z
LAST-MODIFIED:20131023T154127Z
UID:2772-704073600-704159999@pipelinesundsvall.se
SUMMARY:Lars Demian & De Långa Nätternas Kapell
DESCRIPTION:
URL:https://pipelinesundsvall.se/event/lars-demian-de-langa-natternas-kapell/
ATTACH;FMTTYPE=image/bmp:https://pipelinesundsvall.se/wp/wp-content/uploads/2013/10/Lars-Demian-De-Langa-Natternas-Kapell-Artikel-3-24-April-1992-scaled.bmp
END:VEVENT
BEGIN:VEVENT
DTSTART;VALUE=DATE:19920420
DTEND;VALUE=DATE:19920421
DTSTAMP:20260425T224326
CREATED:20131023T154127Z
LAST-MODIFIED:20131023T154127Z
UID:2771-703728000-703814399@pipelinesundsvall.se
SUMMARY:Fläskkvartetten & Freddie Wadling
DESCRIPTION:
URL:https://pipelinesundsvall.se/event/flaskkvartetten-freddie-wadling-2/
ATTACH;FMTTYPE=image/bmp:https://pipelinesundsvall.se/wp/wp-content/uploads/2013/10/Flaskkvartetten-Och-Freddie-Waddling-Artikel-20-April-1992-scaled.bmp
END:VEVENT
BEGIN:VEVENT
DTSTART;VALUE=DATE:19920417
DTEND;VALUE=DATE:19920418
DTSTAMP:20260425T224326
CREATED:20131023T154126Z
LAST-MODIFIED:20131023T154126Z
UID:2770-703468800-703555199@pipelinesundsvall.se
SUMMARY:Eastern Bass Place Disco
DESCRIPTION:
URL:https://pipelinesundsvall.se/event/eastern-bass-palace-disco/
END:VEVENT
BEGIN:VEVENT
DTSTART;VALUE=DATE:19920416
DTEND;VALUE=DATE:19920417
DTSTAMP:20260425T224326
CREATED:20131023T154126Z
LAST-MODIFIED:20131023T154126Z
UID:2769-703382400-703468799@pipelinesundsvall.se
SUMMARY:William och Cod Lovers
DESCRIPTION:
URL:https://pipelinesundsvall.se/event/william-och-cod-lovers/
ATTACH;FMTTYPE=image/bmp:https://pipelinesundsvall.se/wp/wp-content/uploads/2013/10/William-Artikel-16-April-1992-scaled.bmp
END:VEVENT
BEGIN:VEVENT
DTSTART;VALUE=DATE:19920411
DTEND;VALUE=DATE:19920412
DTSTAMP:20260425T224326
CREATED:20131023T154126Z
LAST-MODIFIED:20131023T154126Z
UID:2768-702950400-703036799@pipelinesundsvall.se
SUMMARY:This Perfect Day och Crompojkarna
DESCRIPTION:
URL:https://pipelinesundsvall.se/event/this-perfect-day-och-crompojkarna/
ATTACH;FMTTYPE=image/bmp:https://pipelinesundsvall.se/wp/wp-content/uploads/2013/10/Crompojkarna-Artikel-11-April-1992-scaled.bmp
END:VEVENT
END:VCALENDAR