BEGIN:VCALENDAR
VERSION:2.0
PRODID:-//Pipeline Sundsvalls Musikforum - ECPv6.15.17.1//NONSGML v1.0//EN
CALSCALE:GREGORIAN
METHOD:PUBLISH
X-WR-CALNAME:Pipeline Sundsvalls Musikforum
X-ORIGINAL-URL:https://pipelinesundsvall.se
X-WR-CALDESC:Händelser för Pipeline Sundsvalls Musikforum
REFRESH-INTERVAL;VALUE=DURATION:PT1H
X-Robots-Tag:noindex
X-PUBLISHED-TTL:PT1H
BEGIN:VTIMEZONE
TZID:Europe/Stockholm
BEGIN:DAYLIGHT
TZOFFSETFROM:+0100
TZOFFSETTO:+0200
TZNAME:CEST
DTSTART:19950326T010000
END:DAYLIGHT
BEGIN:STANDARD
TZOFFSETFROM:+0200
TZOFFSETTO:+0100
TZNAME:CET
DTSTART:19950924T010000
END:STANDARD
BEGIN:DAYLIGHT
TZOFFSETFROM:+0100
TZOFFSETTO:+0200
TZNAME:CEST
DTSTART:19960331T010000
END:DAYLIGHT
BEGIN:STANDARD
TZOFFSETFROM:+0200
TZOFFSETTO:+0100
TZNAME:CET
DTSTART:19961027T010000
END:STANDARD
BEGIN:DAYLIGHT
TZOFFSETFROM:+0100
TZOFFSETTO:+0200
TZNAME:CEST
DTSTART:19970330T010000
END:DAYLIGHT
BEGIN:STANDARD
TZOFFSETFROM:+0200
TZOFFSETTO:+0100
TZNAME:CET
DTSTART:19971026T010000
END:STANDARD
BEGIN:DAYLIGHT
TZOFFSETFROM:+0100
TZOFFSETTO:+0200
TZNAME:CEST
DTSTART:19980329T010000
END:DAYLIGHT
BEGIN:STANDARD
TZOFFSETFROM:+0200
TZOFFSETTO:+0100
TZNAME:CET
DTSTART:19981025T010000
END:STANDARD
END:VTIMEZONE
BEGIN:VEVENT
DTSTART;VALUE=DATE:19970314
DTEND;VALUE=DATE:19970315
DTSTAMP:20260425T174016
CREATED:20131023T154140Z
LAST-MODIFIED:20131023T154140Z
UID:2893-858297600-858383999@pipelinesundsvall.se
SUMMARY:Esbjörn Svensson Trio
DESCRIPTION:
URL:https://pipelinesundsvall.se/event/esbjorn-svensson-trio/
ATTACH;FMTTYPE=image/bmp:https://pipelinesundsvall.se/wp/wp-content/uploads/2013/10/Esbjorn-Svensson-Trio-Artikel-2-14-Mars-1997-scaled.bmp
END:VEVENT
BEGIN:VEVENT
DTSTART;VALUE=DATE:19970301
DTEND;VALUE=DATE:19970302
DTSTAMP:20260425T174016
CREATED:20131023T154140Z
LAST-MODIFIED:20131023T154140Z
UID:2892-857174400-857260799@pipelinesundsvall.se
SUMMARY:Abbinanda\, Endflow och Mukti
DESCRIPTION:
URL:https://pipelinesundsvall.se/event/abbinanda-endflow-och-mukti/
ATTACH;FMTTYPE=image/bmp:https://pipelinesundsvall.se/wp/wp-content/uploads/2013/10/Abhinanda-Endflow-Mukti-Artikel-1-Mars-1997-scaled.bmp
END:VEVENT
BEGIN:VEVENT
DTSTART;VALUE=DATE:19970208
DTEND;VALUE=DATE:19970209
DTSTAMP:20260425T174016
CREATED:20131023T154140Z
LAST-MODIFIED:20131023T154140Z
UID:2891-855360000-855446399@pipelinesundsvall.se
SUMMARY:Archers of Loaf (US) och Den
DESCRIPTION:
URL:https://pipelinesundsvall.se/event/archers-of-loaf-och-den/
ATTACH;FMTTYPE=image/bmp:https://pipelinesundsvall.se/wp/wp-content/uploads/2013/10/Archers-Of-Loaf-Artikel-8-Feb-1997-scaled.bmp
END:VEVENT
BEGIN:VEVENT
DTSTART;VALUE=DATE:19961214
DTEND;VALUE=DATE:19961215
DTSTAMP:20260425T174016
CREATED:20230105T105417Z
LAST-MODIFIED:20230105T105417Z
UID:15415-850521600-850607999@pipelinesundsvall.se
SUMMARY:Manifestation mot våld och rasism - Gina Jacobi\, Greed\, Fem i tolv-rörelsen m.fl.
DESCRIPTION:
URL:https://pipelinesundsvall.se/event/manifestation-mot-vald-och-rasism-gina-jacobi-greed-fem-i-tolv-rorelsen-m-fl/
END:VEVENT
BEGIN:VEVENT
DTSTART;VALUE=DATE:19961214
DTEND;VALUE=DATE:19961215
DTSTAMP:20260425T174016
CREATED:20131023T154140Z
LAST-MODIFIED:20131023T154140Z
UID:2890-850521600-850607999@pipelinesundsvall.se
SUMMARY:Soundtrack Of Our Lives och Starlet
DESCRIPTION:
URL:https://pipelinesundsvall.se/event/soundtrack-of-our-lives-och-starlet/
ATTACH;FMTTYPE=image/bmp:https://pipelinesundsvall.se/wp/wp-content/uploads/2013/10/The-Soundtrack-Of-Our-Lives-Artikel-14-Dec-1996.bmp
END:VEVENT
BEGIN:VEVENT
DTSTART;VALUE=DATE:19961113
DTEND;VALUE=DATE:19961114
DTSTAMP:20260425T174016
CREATED:20131023T154140Z
LAST-MODIFIED:20131023T154140Z
UID:2889-847843200-847929599@pipelinesundsvall.se
SUMMARY:Harjukvartetten
DESCRIPTION:
URL:https://pipelinesundsvall.se/event/harjukvartetten/
END:VEVENT
BEGIN:VEVENT
DTSTART;VALUE=DATE:19961109
DTEND;VALUE=DATE:19961110
DTSTAMP:20260425T174016
CREATED:20131023T154140Z
LAST-MODIFIED:20131023T154140Z
UID:2888-847497600-847583999@pipelinesundsvall.se
SUMMARY:Fläskkvartetten & Freddie Wadling och Mats & Morgan
DESCRIPTION:
URL:https://pipelinesundsvall.se/event/flaskkvartetten-freddie-wadling-och-mats-morgan/
ATTACH;FMTTYPE=image/bmp:https://pipelinesundsvall.se/wp/wp-content/uploads/2013/10/Flaskkvartetten-med-Freddie-Wadling-Artikel-2-9-Nov-1996-scaled.bmp
END:VEVENT
BEGIN:VEVENT
DTSTART;VALUE=DATE:19961101
DTEND;VALUE=DATE:19961102
DTSTAMP:20260425T174016
CREATED:20131023T154140Z
LAST-MODIFIED:20131023T154140Z
UID:2887-846806400-846892799@pipelinesundsvall.se
SUMMARY:Popstad turné 1996: Loosegoats\, Dipper och Pornostar
DESCRIPTION:
URL:https://pipelinesundsvall.se/event/popstad-turne-1996/
END:VEVENT
BEGIN:VEVENT
DTSTART;VALUE=DATE:19960927
DTEND;VALUE=DATE:19960928
DTSTAMP:20260425T174016
CREATED:20131023T154139Z
LAST-MODIFIED:20131023T154139Z
UID:2886-843782400-843868799@pipelinesundsvall.se
SUMMARY:Drain STH\, Darklands och Opossum
DESCRIPTION:
URL:https://pipelinesundsvall.se/event/drain-darklands-och-opossum/
ATTACH;FMTTYPE=image/bmp:https://pipelinesundsvall.se/wp/wp-content/uploads/2013/10/Drain-Artikel-2-27-Sept-1996-scaled.bmp
END:VEVENT
BEGIN:VEVENT
DTSTART;VALUE=DATE:19960914
DTEND;VALUE=DATE:19960915
DTSTAMP:20260425T174016
CREATED:20131023T154139Z
LAST-MODIFIED:20131023T154139Z
UID:2882-842659200-842745599@pipelinesundsvall.se
SUMMARY:Bob Hund och Thinking Chemical
DESCRIPTION:
URL:https://pipelinesundsvall.se/event/bob-hund-och-thinking-chemical/
ATTACH;FMTTYPE=image/bmp:https://pipelinesundsvall.se/wp/wp-content/uploads/2013/10/Bob-Hund-Thinking-Chemical-Artikel-2-14-Sept-1996-scaled.bmp
END:VEVENT
BEGIN:VEVENT
DTSTART;VALUE=DATE:19960902
DTEND;VALUE=DATE:19960903
DTSTAMP:20260425T174016
CREATED:20131023T154139Z
LAST-MODIFIED:20131023T154139Z
UID:2881-841622400-841708799@pipelinesundsvall.se
SUMMARY:Rebecka Törnqvist
DESCRIPTION:
URL:https://pipelinesundsvall.se/event/rebecka-tornqvist/
END:VEVENT
BEGIN:VEVENT
DTSTART;VALUE=DATE:19960427
DTEND;VALUE=DATE:19960428
DTSTAMP:20260425T174016
CREATED:20131023T154139Z
LAST-MODIFIED:20131023T154139Z
UID:2885-830563200-830649599@pipelinesundsvall.se
SUMMARY:Ekologisk rockgala: My Orchard\, Charming Paul\, Fox Mulder\, Kurb och Plainville
DESCRIPTION:
URL:https://pipelinesundsvall.se/event/urban-turban-ekologisk-rockgala/
END:VEVENT
BEGIN:VEVENT
DTSTART;VALUE=DATE:19960426
DTEND;VALUE=DATE:19960427
DTSTAMP:20260425T174016
CREATED:20131023T154139Z
LAST-MODIFIED:20131023T154139Z
UID:2880-830476800-830563199@pipelinesundsvall.se
SUMMARY:BassPlace
DESCRIPTION:
URL:https://pipelinesundsvall.se/event/bassplace-5/
END:VEVENT
BEGIN:VEVENT
DTSTART;VALUE=DATE:19960422
DTEND;VALUE=DATE:19960423
DTSTAMP:20260425T174016
CREATED:20131023T154139Z
LAST-MODIFIED:20131023T154139Z
UID:2884-830131200-830217599@pipelinesundsvall.se
SUMMARY:Peter and the Test Tube Babies (UK) och Guttersnipe
DESCRIPTION:
URL:https://pipelinesundsvall.se/event/peter-the-test-tube-babies-och-guttersnipe/
END:VEVENT
BEGIN:VEVENT
DTSTART;VALUE=DATE:19960420
DTEND;VALUE=DATE:19960421
DTSTAMP:20260425T174016
CREATED:20131023T154139Z
LAST-MODIFIED:20131023T154139Z
UID:2883-829958400-830044799@pipelinesundsvall.se
SUMMARY:Psychotic Filmfestival
DESCRIPTION:
URL:https://pipelinesundsvall.se/event/psychotic-filmfestival/
END:VEVENT
BEGIN:VEVENT
DTSTART;VALUE=DATE:19960412
DTEND;VALUE=DATE:19960413
DTSTAMP:20260425T174016
CREATED:20131023T154139Z
LAST-MODIFIED:20131023T154139Z
UID:2879-829267200-829353599@pipelinesundsvall.se
SUMMARY:24-timmarsgalan
DESCRIPTION:
URL:https://pipelinesundsvall.se/event/24-timmarsgalan/
ATTACH;FMTTYPE=image/bmp:https://pipelinesundsvall.se/wp/wp-content/uploads/2013/10/24H-Music-Intensive-Artikel-2-12-13-April-1996.bmp
END:VEVENT
BEGIN:VEVENT
DTSTART;VALUE=DATE:19960409
DTEND;VALUE=DATE:19960410
DTSTAMP:20260425T174016
CREATED:20131023T154138Z
LAST-MODIFIED:20131023T154138Z
UID:2878-829008000-829094399@pipelinesundsvall.se
SUMMARY:5x2: Land of Sunshine
DESCRIPTION:
URL:https://pipelinesundsvall.se/event/5x2-och-land-of-sunshine/
END:VEVENT
BEGIN:VEVENT
DTSTART;VALUE=DATE:19960329
DTEND;VALUE=DATE:19960330
DTSTAMP:20260425T174016
CREATED:20131023T154138Z
LAST-MODIFIED:20131023T154138Z
UID:2876-828057600-828143999@pipelinesundsvall.se
SUMMARY:Screaming Headless Torsos (US)
DESCRIPTION:
URL:https://pipelinesundsvall.se/event/tapir-och-screaming-headless-torsos/
END:VEVENT
BEGIN:VEVENT
DTSTART;VALUE=DATE:19960326
DTEND;VALUE=DATE:19960327
DTSTAMP:20260425T174016
CREATED:20131023T154138Z
LAST-MODIFIED:20131023T154138Z
UID:2875-827798400-827884799@pipelinesundsvall.se
SUMMARY:5x2: Sandman
DESCRIPTION:
URL:https://pipelinesundsvall.se/event/5x2-och-sandyman/
END:VEVENT
BEGIN:VEVENT
DTSTART;VALUE=DATE:19960323
DTEND;VALUE=DATE:19960324
DTSTAMP:20260425T174016
CREATED:20131023T154138Z
LAST-MODIFIED:20131023T154138Z
UID:2874-827539200-827625599@pipelinesundsvall.se
SUMMARY:Dödsmetallgala: Dark Funeral\, Lord Belial\, Odhinn\, Impious
DESCRIPTION:
URL:https://pipelinesundsvall.se/event/dodsmetalgala/
END:VEVENT
BEGIN:VEVENT
DTSTART;VALUE=DATE:19960317
DTEND;VALUE=DATE:19960318
DTSTAMP:20260425T174016
CREATED:20131023T154138Z
LAST-MODIFIED:20131023T154138Z
UID:2873-827020800-827107199@pipelinesundsvall.se
SUMMARY:Mynta Feat. Fazal Qureshi & Nandkishor Muley (IN)
DESCRIPTION:
URL:https://pipelinesundsvall.se/event/mynta-feat-fazal-qureshi-nandkishor-muley/
END:VEVENT
BEGIN:VEVENT
DTSTART;VALUE=DATE:19960306
DTEND;VALUE=DATE:19960307
DTSTAMP:20260425T174016
CREATED:20131023T154138Z
LAST-MODIFIED:20131023T154138Z
UID:2871-826070400-826156799@pipelinesundsvall.se
SUMMARY:Refused\, Entombed och Fireside
DESCRIPTION:
URL:https://pipelinesundsvall.se/event/refused-entombed-och-fireside/
ATTACH;FMTTYPE=image/bmp:https://pipelinesundsvall.se/wp/wp-content/uploads/2013/10/Refused-Entombed-Fireside-Artikel-6-Mars-1996-scaled.bmp
END:VEVENT
BEGIN:VEVENT
DTSTART;VALUE=DATE:19960301
DTEND;VALUE=DATE:19960302
DTSTAMP:20260425T174016
CREATED:20131023T154138Z
LAST-MODIFIED:20131023T154138Z
UID:2870-825638400-825724799@pipelinesundsvall.se
SUMMARY:BassPlace
DESCRIPTION:
URL:https://pipelinesundsvall.se/event/bassplace-3/
END:VEVENT
BEGIN:VEVENT
DTSTART;VALUE=DATE:19960227
DTEND;VALUE=DATE:19960228
DTSTAMP:20260425T174016
CREATED:20131023T154138Z
LAST-MODIFIED:20131023T154138Z
UID:2869-825379200-825465599@pipelinesundsvall.se
SUMMARY:5x2
DESCRIPTION:
URL:https://pipelinesundsvall.se/event/5x2-2/
END:VEVENT
BEGIN:VEVENT
DTSTART;VALUE=DATE:19960224
DTEND;VALUE=DATE:19960225
DTSTAMP:20260425T174016
CREATED:20131023T154137Z
LAST-MODIFIED:20131023T154137Z
UID:2868-825120000-825206399@pipelinesundsvall.se
SUMMARY:Medlemspub
DESCRIPTION:
URL:https://pipelinesundsvall.se/event/medlemspub-2/
END:VEVENT
BEGIN:VEVENT
DTSTART;VALUE=DATE:19960217
DTEND;VALUE=DATE:19960218
DTSTAMP:20260425T174016
CREATED:20131023T154137Z
LAST-MODIFIED:20131023T154137Z
UID:2867-824515200-824601599@pipelinesundsvall.se
SUMMARY:Garmarna: Releaseparty
DESCRIPTION:
URL:https://pipelinesundsvall.se/event/garmarna-release-party/
END:VEVENT
BEGIN:VEVENT
DTSTART;VALUE=DATE:19960213
DTEND;VALUE=DATE:19960214
DTSTAMP:20260425T174016
CREATED:20131023T154137Z
LAST-MODIFIED:20131023T154137Z
UID:2866-824169600-824255999@pipelinesundsvall.se
SUMMARY:5x2
DESCRIPTION:
URL:https://pipelinesundsvall.se/event/5x2/
END:VEVENT
BEGIN:VEVENT
DTSTART;VALUE=DATE:19960210
DTEND;VALUE=DATE:19960211
DTSTAMP:20260425T174016
CREATED:20131023T154137Z
LAST-MODIFIED:20131023T154137Z
UID:2865-823910400-823996799@pipelinesundsvall.se
SUMMARY:Medlemspub: Stickboy
DESCRIPTION:
URL:https://pipelinesundsvall.se/event/medlemspub/
END:VEVENT
BEGIN:VEVENT
DTSTART;VALUE=DATE:19960202
DTEND;VALUE=DATE:19960203
DTSTAMP:20260425T174016
CREATED:20131023T154137Z
LAST-MODIFIED:20131023T154137Z
UID:2864-823219200-823305599@pipelinesundsvall.se
SUMMARY:Dia Psalma och Hiroshima
DESCRIPTION:
URL:https://pipelinesundsvall.se/event/dia-psalma-och-hiroshima/
END:VEVENT
BEGIN:VEVENT
DTSTART;VALUE=DATE:19960201
DTEND;VALUE=DATE:19960202
DTSTAMP:20260425T174016
CREATED:20131023T154137Z
LAST-MODIFIED:20131023T154137Z
UID:2863-823132800-823219199@pipelinesundsvall.se
SUMMARY:Popsicle och Smash Hit Wonders
DESCRIPTION:
URL:https://pipelinesundsvall.se/event/popsicle-och-smash-hit-wonders/
ATTACH;FMTTYPE=image/bmp:https://pipelinesundsvall.se/wp/wp-content/uploads/2013/10/Popsicle-Artikel-2-Feb-1996-scaled.bmp
END:VEVENT
END:VCALENDAR