BEGIN:VCALENDAR
VERSION:2.0
PRODID:-//Pipeline Sundsvalls Musikforum - ECPv6.15.17.1//NONSGML v1.0//EN
CALSCALE:GREGORIAN
METHOD:PUBLISH
X-WR-CALNAME:Pipeline Sundsvalls Musikforum
X-ORIGINAL-URL:https://pipelinesundsvall.se
X-WR-CALDESC:Händelser för Pipeline Sundsvalls Musikforum
REFRESH-INTERVAL;VALUE=DURATION:PT1H
X-Robots-Tag:noindex
X-PUBLISHED-TTL:PT1H
BEGIN:VTIMEZONE
TZID:Europe/Stockholm
BEGIN:DAYLIGHT
TZOFFSETFROM:+0100
TZOFFSETTO:+0200
TZNAME:CEST
DTSTART:19980329T010000
END:DAYLIGHT
BEGIN:STANDARD
TZOFFSETFROM:+0200
TZOFFSETTO:+0100
TZNAME:CET
DTSTART:19981025T010000
END:STANDARD
BEGIN:DAYLIGHT
TZOFFSETFROM:+0100
TZOFFSETTO:+0200
TZNAME:CEST
DTSTART:19990328T010000
END:DAYLIGHT
BEGIN:STANDARD
TZOFFSETFROM:+0200
TZOFFSETTO:+0100
TZNAME:CET
DTSTART:19991031T010000
END:STANDARD
BEGIN:DAYLIGHT
TZOFFSETFROM:+0100
TZOFFSETTO:+0200
TZNAME:CEST
DTSTART:20000326T010000
END:DAYLIGHT
BEGIN:STANDARD
TZOFFSETFROM:+0200
TZOFFSETTO:+0100
TZNAME:CET
DTSTART:20001029T010000
END:STANDARD
BEGIN:DAYLIGHT
TZOFFSETFROM:+0100
TZOFFSETTO:+0200
TZNAME:CEST
DTSTART:20010325T010000
END:DAYLIGHT
BEGIN:STANDARD
TZOFFSETFROM:+0200
TZOFFSETTO:+0100
TZNAME:CET
DTSTART:20011028T010000
END:STANDARD
END:VTIMEZONE
BEGIN:VEVENT
DTSTART;VALUE=DATE:20000810
DTEND;VALUE=DATE:20000811
DTSTAMP:20260425T155911
CREATED:20131023T154149Z
LAST-MODIFIED:20131023T154149Z
UID:2960-965865600-965951999@pipelinesundsvall.se
SUMMARY:Dismember och Enchained
DESCRIPTION:
URL:https://pipelinesundsvall.se/event/dismember-och-enchained/
END:VEVENT
BEGIN:VEVENT
DTSTART;VALUE=DATE:20000805
DTEND;VALUE=DATE:20000806
DTSTAMP:20260425T155911
CREATED:20131023T154149Z
LAST-MODIFIED:20131023T154149Z
UID:2959-965433600-965519999@pipelinesundsvall.se
SUMMARY:Urban Turban
DESCRIPTION:
URL:https://pipelinesundsvall.se/event/urban-turban/
ATTACH;FMTTYPE=image/bmp:https://pipelinesundsvall.se/wp/wp-content/uploads/2013/10/SommarRock-Artikel-9-2000.bmp
END:VEVENT
BEGIN:VEVENT
DTSTART;VALUE=DATE:20000803
DTEND;VALUE=DATE:20000804
DTSTAMP:20260425T155911
CREATED:20131023T154149Z
LAST-MODIFIED:20131023T154149Z
UID:2958-965260800-965347199@pipelinesundsvall.se
SUMMARY:Robert Johnson & The Punchdrunks och Stereo Starboy
DESCRIPTION:
URL:https://pipelinesundsvall.se/event/robert-johnson-the-punkdrunks-och-stereo-starboy/
ATTACH;FMTTYPE=image/bmp:https://pipelinesundsvall.se/wp/wp-content/uploads/2013/10/SommarRock-Artikel-8-2000-scaled.bmp
END:VEVENT
BEGIN:VEVENT
DTSTART;VALUE=DATE:20000727
DTEND;VALUE=DATE:20000728
DTSTAMP:20260425T155911
CREATED:20131023T154149Z
LAST-MODIFIED:20131023T154149Z
UID:2957-964656000-964742399@pipelinesundsvall.se
SUMMARY:Looptroop och Superscientifiku
DESCRIPTION:
URL:https://pipelinesundsvall.se/event/looptroop-superscientifiku-och/
ATTACH;FMTTYPE=image/bmp:https://pipelinesundsvall.se/wp/wp-content/uploads/2013/10/SommarRock-Artikel-6-2000-scaled.bmp
END:VEVENT
BEGIN:VEVENT
DTSTART;VALUE=DATE:20000721
DTEND;VALUE=DATE:20000722
DTSTAMP:20260425T155911
CREATED:20131023T154149Z
LAST-MODIFIED:20131023T154149Z
UID:2956-964137600-964223999@pipelinesundsvall.se
SUMMARY:Kalasturnén 2000: Kent\, Teddybears STHLM\, Sahara Hotnights och Christian Falk
DESCRIPTION:
URL:https://pipelinesundsvall.se/event/kalasturnen/
ATTACH;FMTTYPE=image/bmp:https://pipelinesundsvall.se/wp/wp-content/uploads/2016/03/SommarRock-Artikel-4-2000-scaled.bmp
END:VEVENT
BEGIN:VEVENT
DTSTART;VALUE=DATE:20000720
DTEND;VALUE=DATE:20000721
DTSTAMP:20260425T155911
CREATED:20131023T154148Z
LAST-MODIFIED:20131023T154148Z
UID:2955-964051200-964137599@pipelinesundsvall.se
SUMMARY:Ray Wonder och The Pickabo
DESCRIPTION:
URL:https://pipelinesundsvall.se/event/ray-wonder-och-the-pickabo/
ATTACH;FMTTYPE=image/bmp:https://pipelinesundsvall.se/wp/wp-content/uploads/2013/10/SommarRock-Artikel-3-2000-scaled.bmp
END:VEVENT
BEGIN:VEVENT
DTSTART;VALUE=DATE:20000713
DTEND;VALUE=DATE:20000714
DTSTAMP:20260425T155911
CREATED:20150813T191701Z
LAST-MODIFIED:20150813T191701Z
UID:10225-963446400-963532799@pipelinesundsvall.se
SUMMARY:Torgrock vid ån - premiär
DESCRIPTION:Torgrock vid ån premiär! Två band varje gång på torsdagkvällar kl.19.00 med Start from den 13 Juli. Det är ett lokalt band och ett utifrån var kväll. Scenens plats är på norra sidan av Selångersån/norrmalm bredvid gamla puckelbron
URL:https://pipelinesundsvall.se/event/torgrock-vid-an-premiar/
END:VEVENT
BEGIN:VEVENT
DTSTART;VALUE=DATE:20000713
DTEND;VALUE=DATE:20000714
DTSTAMP:20260425T155911
CREATED:20131023T154148Z
LAST-MODIFIED:20131023T154148Z
UID:2954-963446400-963532799@pipelinesundsvall.se
SUMMARY:Grand Tone Music och Holy Mountain
DESCRIPTION:
URL:https://pipelinesundsvall.se/event/grand-tone-music-och-holy-mountain/
END:VEVENT
BEGIN:VEVENT
DTSTART;VALUE=DATE:20000628
DTEND;VALUE=DATE:20000629
DTSTAMP:20260425T155911
CREATED:20131023T154148Z
LAST-MODIFIED:20131023T154148Z
UID:2953-962150400-962236799@pipelinesundsvall.se
SUMMARY:The Chuck Hall Band
DESCRIPTION:
URL:https://pipelinesundsvall.se/event/the-chuck-hall-band/
END:VEVENT
BEGIN:VEVENT
DTSTART;VALUE=DATE:20000527
DTEND;VALUE=DATE:20000528
DTSTAMP:20260425T155911
CREATED:20150813T191702Z
LAST-MODIFIED:20150813T191702Z
UID:10240-959385600-959471999@pipelinesundsvall.se
SUMMARY:Stödgala för Pipeline: The $1000 Playboys\, The Confusions\, Opossum\, Rollin' Hands Allstars\, Olof Sjögren m.fl.
DESCRIPTION:En manifestation och stödgala för Pipelines överlevnad och blomstrande framtid in i 2000 talet. På scen en del av Sundsvalls just nu hetaste akter. Kom och njut – stöd Pipeline och dig själv. Banden spelar gratis.
URL:https://pipelinesundsvall.se/event/stodgala-for-pipeline/
ATTACH;FMTTYPE=image/bmp:https://pipelinesundsvall.se/wp/wp-content/uploads/2015/08/Pipeline-Stodgala-Artikel-26-Maj-2000-scaled.bmp
END:VEVENT
BEGIN:VEVENT
DTSTART;VALUE=DATE:20000520
DTEND;VALUE=DATE:20000521
DTSTAMP:20260425T155911
CREATED:20150813T191702Z
LAST-MODIFIED:20150813T191702Z
UID:10239-958780800-958867199@pipelinesundsvall.se
SUMMARY:Freakshow: Alternativ kulturfestival
DESCRIPTION:fREAKsHOW på Pipeline den 20:e maj. En alternativ kulturscen med dans\, teater\, musik\, happenings\, vernisage\, art\, performance\, poesi och så vidare. Allt alternativt är välkommet! För den vetgirige gå in på www.maktoob.com\, i namefolder skriv: freak…
URL:https://pipelinesundsvall.se/event/reakshow/
ATTACH;FMTTYPE=image/bmp:https://pipelinesundsvall.se/wp/wp-content/uploads/2015/08/Miss-Faith-Angelica-Evelyn-Artikel-1-Maj-2000-scaled.bmp
END:VEVENT
BEGIN:VEVENT
DTSTART;VALUE=DATE:20000513
DTEND;VALUE=DATE:20000514
DTSTAMP:20260425T155911
CREATED:20150813T191702Z
LAST-MODIFIED:20150813T191702Z
UID:10238-958176000-958262399@pipelinesundsvall.se
SUMMARY:24 Timmarsgalan (12-13/5)
DESCRIPTION:Den traditionella årliga 24 timmarsgalan. 48 band spelar på två scener under två dagar. Alla spelar gratis. Kom se nåt nytt!
URL:https://pipelinesundsvall.se/event/24-timmarsgalan-12-135/
END:VEVENT
BEGIN:VEVENT
DTSTART;VALUE=DATE:20000512
DTEND;VALUE=DATE:20000513
DTSTAMP:20260425T155911
CREATED:20150813T191702Z
LAST-MODIFIED:20150813T191702Z
UID:10237-958089600-958175999@pipelinesundsvall.se
SUMMARY:24 Timmarsgalan 12 & 13 Maj
DESCRIPTION:Den traditionella årliga 24 timmarsgalan. 48 band spelar på två scener under två dagar. Alla spelar gratis. Kom se nåt nytt! Inget förköp och ingen åldersgräns.
URL:https://pipelinesundsvall.se/event/24-timmarsgalan-12-13-maj/
END:VEVENT
BEGIN:VEVENT
DTSTART;VALUE=DATE:20000506
DTEND;VALUE=DATE:20000507
DTSTAMP:20260425T155911
CREATED:20150813T191702Z
LAST-MODIFIED:20150813T191702Z
UID:10236-957571200-957657599@pipelinesundsvall.se
SUMMARY:Stödgala för gatubarnen i Zimbabwe: Tolchock m.fl.
DESCRIPTION:En stödkonsert för gatubarnen i Zimbabwe som arrangeras av Färnebo fhs/Zimbabwe kursen. Alla intäkter går direkt till gatubarnen. OBS! Miller utgår ersätts av Tolchock.
URL:https://pipelinesundsvall.se/event/stodgala-for-gatubarnen-i-zimbabwe/
END:VEVENT
BEGIN:VEVENT
DTSTART;VALUE=DATE:20000430
DTEND;VALUE=DATE:20000501
DTSTAMP:20260425T155911
CREATED:20150813T191701Z
LAST-MODIFIED:20150813T191701Z
UID:10235-957052800-957139199@pipelinesundsvall.se
SUMMARY:Mic Check 2: Mobbade Barn Med Automatvapen\, Fjärde Världen\, Fattaru\, Remedeeh\, Collén och Webb\, Karl Katharsis\, Heli\, DJ Large\, DJ Siesta och DJ Monk
DESCRIPTION:Mic Check volyme 2\, en uppföljare till vårens succe arrangemang. Ett rejält Hip Hop Jam med dom fyra olika elementen: Grafitti\, Breakdance\, DJ`ing\, MC´ing. \nInget förköp och ingen åldersgräns. Arrangeras av Hip Hop Kartellen och Pipeline. \nMobbade Barn Med Automatvapen\, Fjärde Världen\, Fattaru\, Remedeeh\, Collén och Webb\, Karl Katharsis\, Heli\, DJ Large\, DJ Siesta och DJ Monk
URL:https://pipelinesundsvall.se/event/mic-check-2/
END:VEVENT
BEGIN:VEVENT
DTSTART;VALUE=DATE:20000422
DTEND;VALUE=DATE:20000423
DTSTAMP:20260425T155911
CREATED:20131023T154148Z
LAST-MODIFIED:20131023T154148Z
UID:2952-956361600-956447999@pipelinesundsvall.se
SUMMARY:Doktor Kosmos och Leif Karate
DESCRIPTION:
URL:https://pipelinesundsvall.se/event/doktor-kosmos-och-leif-karate/
ATTACH;FMTTYPE=image/bmp:https://pipelinesundsvall.se/wp/wp-content/uploads/2013/10/Doktor-Kosmos-och-Leif-Karate-Artikel-22-April-2000-scaled.bmp
END:VEVENT
BEGIN:VEVENT
DTSTART;VALUE=DATE:20000414
DTEND;VALUE=DATE:20000415
DTSTAMP:20260425T155911
CREATED:20131023T154148Z
LAST-MODIFIED:20131023T154148Z
UID:2951-955670400-955756799@pipelinesundsvall.se
SUMMARY:3 at 7: The Desperate Acts\, The Prowse och Greed
DESCRIPTION:
URL:https://pipelinesundsvall.se/event/the-desperate-acts-the-prowse-och-greed/
ATTACH;FMTTYPE=image/bmp:https://pipelinesundsvall.se/wp/wp-content/uploads/2013/10/The-Desperate-Acts-Artikel-16-April-2000-scaled.bmp
END:VEVENT
BEGIN:VEVENT
DTSTART;VALUE=DATE:20000407
DTEND;VALUE=DATE:20000408
DTSTAMP:20260425T155911
CREATED:20150813T191701Z
LAST-MODIFIED:20150813T191701Z
UID:10232-955065600-955151999@pipelinesundsvall.se
SUMMARY:Remedeeh: Releaseparty - Smooth Complicity\, Mr. Septik\, DJ Monk och DJ Eibee
DESCRIPTION:Releaseparty för Remedeeh´s debutalbum – Year one. På scenen: Smooth Complicity\, Mr. Septik\, Dj Monk\, Dj Eibee + Överraskningar. Gratis CD till de 30 första inlösta. Inget förköp och ingen åldersgräns.
URL:https://pipelinesundsvall.se/event/remedeeh-year-one-releaseparty/
END:VEVENT
BEGIN:VEVENT
DTSTART;VALUE=DATE:20000401
DTEND;VALUE=DATE:20000402
DTSTAMP:20260425T155911
CREATED:20131023T154148Z
LAST-MODIFIED:20131023T154148Z
UID:2950-954547200-954633599@pipelinesundsvall.se
SUMMARY:Fläskkvartetten (Sundsvalls Teater)
DESCRIPTION:På Sundsvalls Teater. Med sitt 9:e album ! – Love Go – kommer Fläskkvartetten på ett kärt återbesök. Som gästartister finns Goran Kajfes \, trumpet (Blacknuss\, Eric Gadd) + en trombonist och saxofonist. Förköp på Entré\, Köpmang. 20 tel. 060 – 15 5…
URL:https://pipelinesundsvall.se/event/flaskkvartetten/
ATTACH;FMTTYPE=image/jpeg:https://pipelinesundsvall.se/wp/wp-content/uploads/2013/10/Flaskkvartetten-Artikel-2-1-April-2000.jpg
END:VEVENT
BEGIN:VEVENT
DTSTART;VALUE=DATE:20000325
DTEND;VALUE=DATE:20000326
DTSTAMP:20260425T155911
CREATED:20150813T191701Z
LAST-MODIFIED:20150813T191701Z
UID:10231-953942400-954028799@pipelinesundsvall.se
SUMMARY:Music For Masters 2: The Citadel\, Pitstop\, Wet Grizzly\, Fock Hit\, Swamp Scum och Pinballs
DESCRIPTION:En uppföljare till höstens succeartade arrangemang. 6 band från Sundsvallstrakten visar att den lokala musikscenen i Sundsvall har nog aldrig varit så stor och livaktigt som nu. Inget förköp och ingen åldersgräns. Entré: 20 kr för alla. Varmt välk… \nBakom detta arrangemang står UMA \, ett arbetslöshet& musikutbildningsprojekt som drivs av Kultur&Fritid; med EU bidrag. Medarr: Pipeline.
URL:https://pipelinesundsvall.se/event/music-for-masters-2/
END:VEVENT
BEGIN:VEVENT
DTSTART;VALUE=DATE:20000324
DTEND;VALUE=DATE:20000325
DTSTAMP:20260425T155911
CREATED:20150813T191701Z
LAST-MODIFIED:20150813T191701Z
UID:10230-953856000-953942399@pipelinesundsvall.se
SUMMARY:Milemarker (US)\, Daniel Jäderberg och Opossum
DESCRIPTION:Ett spännande band som blandar hardcore / punk med synthesizers\, loopar\, programerade musik. Som uppvärmare ager Daniel Jäderberg (unplugged) med sin egna musik i caféet och Opossum – egensinnig Pop med traditionen. MISSA INTE DETTA!
URL:https://pipelinesundsvall.se/event/milemarker/
END:VEVENT
BEGIN:VEVENT
DTSTART;VALUE=DATE:20000226
DTEND;VALUE=DATE:20000227
DTSTAMP:20260425T155911
CREATED:20131023T154144Z
LAST-MODIFIED:20131023T154144Z
UID:2921-951523200-951609599@pipelinesundsvall.se
SUMMARY:Bertilrocken 2: Cult Of Luna\, Misconduct\, Assel\, Eclipse\, Pickabo\, The Pointing Fingers och Within Reach
DESCRIPTION:Bertilrocken är tillbaka. Eldsjälen Bertil Hedman arrangerar sin favoritmusik tillsammans med Pipeline. MYCKET MYCKET hårdare än PopStad Malmö säger Bertil. Mot främlingsfientlighet och Rasism. Eventuellt överskott går till Fem i Tolv rörelsen. \nSpelordningen – Först ut: PICKABO – (Rolling Stones influerat band från Njurunda)\,ASSEL – (Kängpunk från Östersund)\,OSMOSE – (stenhård dödsmetall från Timrå)\,CULT OF LUNA – (Umeå\,Breach inspirerat band)\,THE POINTING FINGERS – (old school hardcore från Sundsvall)\, TBA = ett band tillkommer här \, WITHIN REACH – (tung rock)\,MISCONDUCT -(Old School Hardcore från Arboga)\,
URL:https://pipelinesundsvall.se/event/bertilrocken-2/
ATTACH;FMTTYPE=image/bmp:https://pipelinesundsvall.se/wp/wp-content/uploads/2013/10/Bertil-Rocken-Annons-11-Feb-1999-scaled.bmp
END:VEVENT
BEGIN:VEVENT
DTSTART;VALUE=DATE:20000218
DTEND;VALUE=DATE:20000219
DTSTAMP:20260425T155911
CREATED:20150813T191701Z
LAST-MODIFIED:20150813T191701Z
UID:10226-950832000-950918399@pipelinesundsvall.se
SUMMARY:3 at 7: Plumside\, Brittlehead och Marble
DESCRIPTION:PREMIÄR för en ny arrangemangserie kallad 3 at 7. \nPLUMSIDE – Ett ungt hungrigt band från Timrå\, lätt blues influerad hård rock \, ibland låter det som The Cream. BRITTLEHEAD – (fd Sir George) stökig rock ala norska Motor Psyche. MARBLE – Spännande band med tre tjejer och en kille\, lovande. Inget förköp ooch ingen åldersgräns. Entré: 40:- 18 år eller äldre 20:- under 18 år Vilket inkluderar medlemskap för år 2000. Insläpp kl. 19.00 Start kl. 20.00
URL:https://pipelinesundsvall.se/event/3-at-7/
END:VEVENT
BEGIN:VEVENT
DTSTART;VALUE=DATE:20000130
DTEND;VALUE=DATE:20000131
DTSTAMP:20260425T155911
CREATED:20131023T154148Z
LAST-MODIFIED:20131023T154148Z
UID:2949-949190400-949276799@pipelinesundsvall.se
SUMMARY:Venue 2000: Tina Dickow (DK) och Sandy Dillon (US)
DESCRIPTION:Venue 2000 är ett nordiskt samarbetsprojekt mellan större klubbar startat av Roskilde festivalen i Danmark. För mer info kolla in hemsida se länk. Vi ber att få återkomma med mer information om artister mm.
URL:https://pipelinesundsvall.se/event/tina-dickow-och-sandy-dillon/
ATTACH;FMTTYPE=image/jpeg:https://pipelinesundsvall.se/wp/wp-content/uploads/2013/10/Namnlost.jpg
END:VEVENT
BEGIN:VEVENT
DTSTART;VALUE=DATE:20000124
DTEND;VALUE=DATE:20000125
DTSTAMP:20260425T155911
CREATED:20150813T191700Z
LAST-MODIFIED:20150813T191700Z
UID:10224-948672000-948758399@pipelinesundsvall.se
SUMMARY:Svenska Öppna
DESCRIPTION:SVENSKA ÖPPNA – Ett svensk MC mästerskap med mer focus på festen än tävlingen.Målet är att få igång en svensk motsvarighet till Lyricist Lounge där artisterna som uppträder inte i första hand är stjärnor utan just artister.Ingen melodifestival i rap ut…
URL:https://pipelinesundsvall.se/event/svenska-oppna-2/
END:VEVENT
BEGIN:VEVENT
DTSTART;VALUE=DATE:20000116
DTEND;VALUE=DATE:20000117
DTSTAMP:20260425T155911
CREATED:20150813T191700Z
LAST-MODIFIED:20150813T191700Z
UID:10223-947980800-948067199@pipelinesundsvall.se
SUMMARY:PUNK 2000
DESCRIPTION:Detta nya milleniums första arrangemang. Ingen åldersgräns och inget förköp. Medlemskort i Pipeline för 1999 gäller även på detta arrangemang. Arrangör: SVL on the Move Medarr: Pipeline.
URL:https://pipelinesundsvall.se/event/punk-2000/
END:VEVENT
BEGIN:VEVENT
DTSTART;VALUE=DATE:19991226
DTEND;VALUE=DATE:19991227
DTSTAMP:20260425T155911
CREATED:20230110T055435Z
LAST-MODIFIED:20230110T055435Z
UID:16666-946166400-946252799@pipelinesundsvall.se
SUMMARY:Massproduktion 20 år: The $1000 Playboys\, Shades Of Orange\, The Confusions\, Garmarna\, Rasta Hunden\, The Kristet Utseende\, Left Hand Solution och My Orchard
DESCRIPTION:https://www.massproduktion.com/20ar/index.html \n”On the 26 of December we had a great celebration at Pipeline in Sundsvall. It was a night to remember and it featuring live-performances by combinations you had not heard before – The $1000 Playboys together with Arvid Lind and Daniel Westin of The Shades of Orange\, The Confusions with Mats Hammerman\, Garmarna with Rasta Hunden\, Left Hand Solution with The Kristet Utseende and my Orchard with – my Orchard. In the crowd we could find members of old legendary band to newcomers and some faces not seen for ages. The crowd was so happily celebrating Massproduktions 20 years that the bar ran out of glasses and by the end of the evening was serving beer in everything from pots and pans to vases and teacups..”
URL:https://pipelinesundsvall.se/event/massproduktion-20-ar-the-1000-playboys-shades-of-orange-the-confusions-garmarna-rasta-hunden-the-kristet-utseende-left-hand-solution-och-my-orchard/
END:VEVENT
BEGIN:VEVENT
DTSTART;VALUE=DATE:19991218
DTEND;VALUE=DATE:19991219
DTSTAMP:20260425T155911
CREATED:20131023T154148Z
LAST-MODIFIED:20131023T154148Z
UID:2948-945475200-945561599@pipelinesundsvall.se
SUMMARY:PopStadsfinal\, dag 2: Left Hand Solution\, Vintersorg\, Diabolical och Conquest
DESCRIPTION:Efter ett år med många succéfyllda PopStadsarrangemang i Sundsvall så vart det dags gör en grand final. Denna kväll är genré Metall/hårdrock som gäller. Thunder !!!
URL:https://pipelinesundsvall.se/event/left-hand-solution-vintersorg-och-conquest/
END:VEVENT
BEGIN:VEVENT
DTSTART;VALUE=DATE:19991217
DTEND;VALUE=DATE:19991218
DTSTAMP:20260425T155911
CREATED:20131023T154148Z
LAST-MODIFIED:20131023T154148Z
UID:2947-945388800-945475199@pipelinesundsvall.se
SUMMARY:PopStadsfinal\, dag 1: Endflow\, The Pointing Fingers\, Theioneband och The Desperate Acts
DESCRIPTION:En HC och punkkväll på Pipeline.
URL:https://pipelinesundsvall.se/event/endflow-the-pointing-fingers-theioneband-och-the-desperate-acts/
END:VEVENT
BEGIN:VEVENT
DTSTART;VALUE=DATE:19991211
DTEND;VALUE=DATE:19991212
DTSTAMP:20260425T155911
CREATED:20230109T200137Z
LAST-MODIFIED:20230109T200137Z
UID:16622-944870400-944956799@pipelinesundsvall.se
SUMMARY:Fudge
DESCRIPTION:n fräsch nykomling på besök i PopStaden. Fudge kan du se i TV 2 -programmets Jupiter livesåpa – popliv – varje fredagkväll. F.d Indisångare/frontmannen Patrik Berggren från Sundsvall är gruppens producent. Tidigare annonserade Motorhomes utgår tyvärr…
URL:https://pipelinesundsvall.se/event/fudge/
END:VEVENT
END:VCALENDAR