BEGIN:VCALENDAR
VERSION:2.0
PRODID:-//Pipeline Sundsvalls Musikforum - ECPv6.15.17.1//NONSGML v1.0//EN
CALSCALE:GREGORIAN
METHOD:PUBLISH
X-WR-CALNAME:Pipeline Sundsvalls Musikforum
X-ORIGINAL-URL:https://pipelinesundsvall.se
X-WR-CALDESC:Händelser för Pipeline Sundsvalls Musikforum
REFRESH-INTERVAL;VALUE=DURATION:PT1H
X-Robots-Tag:noindex
X-PUBLISHED-TTL:PT1H
BEGIN:VTIMEZONE
TZID:Europe/Stockholm
BEGIN:DAYLIGHT
TZOFFSETFROM:+0100
TZOFFSETTO:+0200
TZNAME:CEST
DTSTART:20250330T010000
END:DAYLIGHT
BEGIN:STANDARD
TZOFFSETFROM:+0200
TZOFFSETTO:+0100
TZNAME:CET
DTSTART:20251026T010000
END:STANDARD
BEGIN:DAYLIGHT
TZOFFSETFROM:+0100
TZOFFSETTO:+0200
TZNAME:CEST
DTSTART:20260329T010000
END:DAYLIGHT
BEGIN:STANDARD
TZOFFSETFROM:+0200
TZOFFSETTO:+0100
TZNAME:CET
DTSTART:20261025T010000
END:STANDARD
BEGIN:DAYLIGHT
TZOFFSETFROM:+0100
TZOFFSETTO:+0200
TZNAME:CEST
DTSTART:20270328T010000
END:DAYLIGHT
BEGIN:STANDARD
TZOFFSETFROM:+0200
TZOFFSETTO:+0100
TZNAME:CET
DTSTART:20271031T010000
END:STANDARD
END:VTIMEZONE
BEGIN:VEVENT
DTSTART;TZID=Europe/Stockholm:20260911T030000
DTEND;TZID=Europe/Stockholm:20260912T025959
DTSTAMP:20260423T004912
CREATED:20260207T081339Z
LAST-MODIFIED:20260302T074245Z
UID:20496-1789095600-1789181999@pipelinesundsvall.se
SUMMARY:NAZGHOR + LEFT HAND OF DARKNESS + SKINTEAR
DESCRIPTION:NAZGHOR\nSedan 2012 har Nazghor kombinerat rå\, snabb black metal med storslagna\, atmosfäriska och episka melodier. De levererar en mörk\, ceremoniell och kompromisslös upplevelse. Live är de en fullständig urladdning av rå energi och publiken kan förvänta sig blod\, kadaver och ett jävla röj.\nEfter det senaste albumet Seventh Secular Crusade\, har Nazghor etablerat sig som en riktig kraft att räkna med i undergroundscenen och när de kommer till oss kommer de ha släppt sin nya skiva A World Ablaze (20/2-2026). Förvänta er inget annat än total slakt. \nLEFT HAND OF DARKNESS\nLeft Hand of Darkness från Umeå förenar crustens obevekliga driv med black metal-doftande mörker. Det är ett ljud byggt på skav\, desperation och monotont raseri – där d-beatens framåtrörelse möter ett kallt\, kompromisslöst uttryck. Left Hand of Darkness levererar ett skoningslöst musikaliskt angrepp som känns lika mycket i bröstkorgen som i bakhuvudet. \nSKINTEAR\nSkintear från Sundsvall levererar ett tungt och kompromisslöst uttryck med rötter i tidig 2000-tals extrem metal. Täta riff\, brutala partier och ett massivt lågregister skapar ett fysiskt och skoningslöst sound – rakt\, hårt och utan krusiduller. \nARRANGÖR OCH STÖD\nEvenemanget görs med stöd av Sundsvalls kommun. Konserten genomförs i samarbete med Sensus.
URL:https://pipelinesundsvall.se/event/nazghor-left-hand-of-darkness-skintear/
ATTACH;FMTTYPE=image/jpeg:https://pipelinesundsvall.se/wp/wp-content/uploads/2026/02/2026-09-11-Nazghor-Left-Hand-of-Darkness-Skintear-INSTA-scaled-1.jpg
END:VEVENT
BEGIN:VEVENT
DTSTART;TZID=Europe/Stockholm:20260918T010000
DTEND;TZID=Europe/Stockholm:20260919T005959
DTSTAMP:20260423T004912
CREATED:20260227T073753Z
LAST-MODIFIED:20260302T075246Z
UID:20774-1789693200-1789779599@pipelinesundsvall.se
SUMMARY:GLANZIG + MÄRGEN (18+)
DESCRIPTION:GLANZIG\nGlanzig bildades 1996! Glanzig är ett gäng med glada killar från Göteborg som bara älskar att tolka Danzigs & Misfits låtskatt. CD:n ”Glanzig I- Danzifuge” släpptes 1999 med worldwide distribution. Missa inte en grym kväll på Pipeline i september! 🤘🏽🍺🔥 \nMÄRGEN\nMärgen från Sundsvall är en mixad hård tunggung-rocktrio med svensk sång. 20 feb 2026 streamingsläpptes andra EP:n ”Djävulskt” på bl.a Spotify. Nu äntrar de Pipeline för 2:a gången. Ni som ej var där 2020\, förbered er på en svängig resa. \nVIKTIG INFORMATION\nEvenemanget har 18-årsgräns. \nARRANGÖR OCH STÖD\nEvenemanget görs med stöd av Sundsvalls kommun. Konserten genomförs i samarbete med Sensus.
URL:https://pipelinesundsvall.se/event/glanzig-18/
ATTACH;FMTTYPE=image/jpeg:https://pipelinesundsvall.se/wp/wp-content/uploads/2026/02/2026-09-18-Glanzig-INSTA-1-scaled.jpg
END:VEVENT
BEGIN:VEVENT
DTSTART;TZID=Europe/Stockholm:20260919T010000
DTEND;TZID=Europe/Stockholm:20260920T005959
DTSTAMP:20260423T004912
CREATED:20260311T080948Z
LAST-MODIFIED:20260311T081102Z
UID:20978-1789779600-1789865999@pipelinesundsvall.se
SUMMARY:GATUPLAN + TOMAS RIMEIKA
DESCRIPTION:GATUPLAN\nGATUPLAN kommer tillbaka till Pipeline! Den senaste plattan ”Välkommen till underjorden” (Sound Pollution/Wild Kingdom) bjuder upp till en vild blandning av refrängstark klassisk svensk punk\, ska\, power pop och garagerock med raka och direkta texter. Plattan fick lovord av Per-Sinding Larsen\, Fredrik Strage och GATUPLAN har turnérat bland annat som förband till DANKO JONES\, OSLO ESS och PERKELE och på festivaler i Sverige och Norge. ”Välkommen till underjorden” är en logisk fortsättning på det föregående albumet ”Kampen går vidare!” (2021) som den Kanadensiska artisten DANKO JONES valde till det årets platta alla kategorier i musikmagasinet Exclaim!\, och som Nöjesguiden beskrev att den ”generar ett vitalt tecken för modern svensk punk”. \nBakom GATUPLAN står Inge Johansson som tidigare spelat bas in en mängd band med internationell publik (bland annat THE (INTERNATIONAL) NOISE CONSPIRACY\, amerikanska AGAINST ME! och Brasilianska CANSEI DE SER SEXY) men som nu tagit steget ut som soloartist – med ett starkt kompband! GATUPLAN’s musik kan kanske beskrivas som en blandning av svänget från RANCID\, attityden från EBBA GRÖN\, popmelodierna från RAMONES kryddat med ska-rytmer lånat från THE SPECIALS – utan att för den sakens skull bli en nostalgitripp\, GATUPLAN tar avstamp i här och nu. Men en sak är säker – GATUPLAN går sin egen väg genom det svenska musiklandskapet\, utan att bry sig om ängsliga trender och kategoriseringar. Med låtar som ”Punkhjärta”\, ”Min revolution”\, ”Umeå Hardcore”\, ”Sympati för djävulen” eller ”Kom över” så spinner texterna över allt från det personliga\, det politiska\, kärlek\, relationer och kampen för något bättre. Och på kort tid har GATUPLAN etablerat sig som ett liveband med hög energi och med en närhet till publiken som inte lämnar någon oberörd. Live på scenen är GATUPLAN en tajt\, explosiv och energiladdad upplevelse du inte vill missa! \nTOMAS RIMEIKA\nDen där passionen är sällsynt. Lovorden har haglat över Tomas Rimeika\, både live och för hans inspelningar. Hans låtar har blivit hyllade i SVT och P3. HYMN gav hans senaste studioalbum ”Den klarnande april” 8/10 i betyg: ”Drömmande indiepop\, det borde vara så här livet känns”. Crowdsnapper skrev ”contagious energy…and charm” om liveupplevelsen. Sedan starten 2021 har Tomas haft över 200 gig i Tyskland\, Danmark och Sverige och bl.a. nominerats till ”Årets textförfattare” på Manifestgalan. Hösten 2025 fick han guldbiljett i IDOL i TV4 och i september 2026 släpps nya albumet ”Den eviga ungdomens stad”. Sedan följer en Sverigeturné och vi välkomnar Tomas med band tillbaka till Pipeline! \nVIKTIG INFORMATION\nNär de begränsade 50-kronorsbiljetterna (för medlem 13-21 år) är slutsålda så är det ordinarie fullpris/medlemspris som gäller\, både i entrén och på förköp. \nARRANGÖR OCH STÖD\nEvenemanget görs med stöd av Sundsvalls kommun. Konserten genomförs i samarbete med Sensus.
URL:https://pipelinesundsvall.se/event/gatuplan-tomas-rimeika/
ATTACH;FMTTYPE=image/jpeg:https://pipelinesundsvall.se/wp/wp-content/uploads/2026/03/2026-09-19-Gatuplan-Tomas-Rimeika-INSTA-scaled.jpg
END:VEVENT
BEGIN:VEVENT
DTSTART;TZID=Europe/Stockholm:20260925T030000
DTEND;TZID=Europe/Stockholm:20260926T025959
DTSTAMP:20260423T004912
CREATED:20260203T113413Z
LAST-MODIFIED:20260302T080204Z
UID:20478-1790305200-1790391599@pipelinesundsvall.se
SUMMARY:ROME IS NOT A TOWN
DESCRIPTION:ROME IS NOT A TOWN\nRome Is Not A Town från Göteborg debuterade 2015 med singeln Stupid och har sedan dess släppt flera EP:s och debutalbumet It’s a Dare (2017) som etablerade dem som en av svensk indierocks mest egenartade röster. \nLive exploderar musiken och drar med publiken från första anslaget. Med en kraftfull\, magnetisk energi tar bandet över rummet och vägrar släppa taget. Nya albumet Echoes of Love (2026) förmedlar ett tydligt och självsäkert steg framåt. Välbekant intensivt och kompromisslöst\, men med en ny skärpa och ett större allvar. \nARRANGÖR OCH STÖD\nEvenemanget görs med stöd av Sundsvalls kommun. Konserten genomförs i samarbete med Sensus.
URL:https://pipelinesundsvall.se/event/rome-is-not-a-town/
ATTACH;FMTTYPE=image/jpeg:https://pipelinesundsvall.se/wp/wp-content/uploads/2026/02/2026-09-25-Rome-Is-Not-A-Town-INSTA-scaled-1.jpg
END:VEVENT
BEGIN:VEVENT
DTSTART;TZID=Europe/Stockholm:20261009T010000
DTEND;TZID=Europe/Stockholm:20261010T005959
DTSTAMP:20260423T004912
CREATED:20260314T095030Z
LAST-MODIFIED:20260314T095646Z
UID:21027-1791507600-1791593999@pipelinesundsvall.se
SUMMARY:CADAVER (NO) + HELVETETS DJÄVLAR
DESCRIPTION:CADAVER (NO)\nCadaver har sedan 1988 varit ett av Norges mest inflytelserika extremmetalband\, lett av den legendariske Anders Odden. Med sex albumutgåvor sedan debuten 1990 har bandet ständigt utmanat genrens gränser genom att integrera oväntade musikaliska element.\nÅr 2024 grävde Anders Odden djupt i Cadavers historia och hittade outgivet material från bandets tidiga år. Innan de skrev kontrakt med Earache Records 1992 spelade de in råa och opolerade versioner av låtarna som senare skulle bli …In Pains\, inklusive en ofärdig låt kallad ”Maltreated Mind Makes Man Manic.” Odden färdigställde detta material i Studio Tomb i Råde\, där Cadaver ursprungligen startades. Med det gamla bandet återförenat kunde den ursprungliga visionen realiseras. Resultatet är Hymns of Misanthropy\, ett album från 1991 som äntligen släpps i april 2025 via Listenable Records. Albumet visar Cadavers unika bidrag till extrem metal samt deras inflytande på den tidiga norska black metal-scenen. Hymns of Misanthropy bjuder på en kraftfull och rå del av Cadavers historia och bekräftar bandets förmåga att tänja gränserna för extrem metal. \nLive förstärks Cadaver av den hyllade trummisen Bjørn Rønnow (känd från Borknagar och Trollfest) samt Eilert Solstad på kontrabas\, vilket tillför en unik dimension till bandets intensiva uttryck. Cadaver fortsätter att leverera kompromisslös death metal – rå\, utmanande och aktuell! \nHELVETETS DJÄVLAR\nHelvetets Djävlar från Östersund levererar rå och kompromisslös svensk dödsmetall med rötterna djupt i den klassiska old school-scenen. Med ett sound som kombinerar brutal tyngd med mörk energi har bandet snabbt gjort sig ett namn i den svenska undergrounden. Musiken är snabb\, aggressiv och skoningslös – precis som dödsmetall ska vara. Förvänta er ett brinnande inferno av hårda riff\, blastbeats och en djävulsk intensitet. \nVIKTIG INFORMATION\nNär de begränsade 50-kronorsbiljetterna (för medlem 13-21 år) är slutsålda så är det ordinarie fullpris/medlemspris som gäller\, både i entrén och på förköp. \nARRANGÖR OCH STÖD\nEvenemanget görs med stöd av Sundsvalls kommun. Konserten genomförs i samarbete med Sensus.
URL:https://pipelinesundsvall.se/event/cadaver-no-helvetets-djavlar/
ATTACH;FMTTYPE=image/jpeg:https://pipelinesundsvall.se/wp/wp-content/uploads/2026/03/2026-10-09-Cadaver-Helvetets-Djavlar-INSTA-1-scaled.jpg
END:VEVENT
BEGIN:VEVENT
DTSTART;TZID=Europe/Stockholm:20261017T030000
DTEND;TZID=Europe/Stockholm:20261018T025959
DTSTAMP:20260423T004912
CREATED:20260212T145859Z
LAST-MODIFIED:20260302T080324Z
UID:20518-1792206000-1792292399@pipelinesundsvall.se
SUMMARY:VÖLVA + NIGHT CHURCH
DESCRIPTION:VÖLVA\nFrån djupet av södra Sverige dyker Völva upp: ”Völva gör satanisk black metal. Musiken i sig är så kraftfullt ondskefull\, rovgirig och diaboliskt lustfylld att man kan känna lukten av svavel och känna hettan från helvetets eld bara genom att lyssna.” // No Clean Singing \nVår obevekliga rebelliska attityd förenar rå aggression med stärkande satanisk feminism. Den svarta andra vågens sound drivs av det hat som genomsyrar våra varelser bara genom att vi lever i dagens värld. Völva bildades 2018 och har förändrats över tid för att landa i dagens kraftfulla kvartett. Ordet völva är en avledning av det fornnordiska ordet vǫlr\, som ibland tolkas som ”stavbärare”. I förkristen tid var völvan en högt respekterad kvinna\, som ansågs vara en mäktig andlig spådam i nordisk mytologi. Vi låter vårt namn – Völva – vittna om den tragiska häxjakten som följde med kristendomens hyckleri. \nNIGHT CHURCH\nÖstersundsbandet Night Church leverar tung doom-death med musik som oftast berör tyngre ämnen såsom depression\, ensamhet och glömska. Bandet utlovar stark scennärvaro och siktar alltid på att leverera en stark upplevelse på scen. \nARRANGÖR OCH STÖD\nEvenemanget görs med stöd av Sundsvalls kommun. Konserten genomförs i samarbete med Sensus.
URL:https://pipelinesundsvall.se/event/volva-night-church/
ATTACH;FMTTYPE=image/jpeg:https://pipelinesundsvall.se/wp/wp-content/uploads/2026/02/2026-10-17-Volva-INSTA-scaled-1.jpg
END:VEVENT
BEGIN:VEVENT
DTSTART;TZID=Europe/Stockholm:20261024T030000
DTEND;TZID=Europe/Stockholm:20261025T025959
DTSTAMP:20260423T004912
CREATED:20260211T104104Z
LAST-MODIFIED:20260302T080431Z
UID:20506-1792810800-1792897199@pipelinesundsvall.se
SUMMARY:SPIDERS + BLUCIFER
DESCRIPTION:SPIDERS\nSpiders bildades 2012 och gav ut sitt debutalbum ”Flash Point” samma år och följde upp det med albumet ”Shake Electric” 2014 och ”Killer Machine” 2018. Samtidigt med skivutgivningar turnerade bandet otaliga gånger runt Europa och USA:s rockklubbar och festivalscener. I februari 2025 släppte Spiders sitt senaste album Sharp Objects på legendariska Wild Kingdom Records. Albumet handlar om trasiga drömmar\, smått ouppnåeliga visioner om livets allt och som vanligt när det kommer till Spiders är skivan starkt influerad av rock ’n roll. På ”Sharp Objekts” har det dessutom smugit sig in en smula new wave och garagerock ala tidigt 80 tal i mixen. Låtarna tar dig från ett forna Truckstop Alaska i Göteborg\, via New Yorks Bleecker Street\, vidare till Londons Soho och tillbaka igen. Med en detour genom ett musikaliskt landskap där The Faces\, Dead Boys\, Fred Cole och Bikini Kill är stöttepelare och Debbie Harry pekar finger åt samtiden. \nBLUCIFER\nBlucifer är ett självsvängande rockband från Sundsvall som beskriver sin musik som en ”kakafoni av stoner\, doom och tung rock”. Blucifer började som en trio\, men är idag en kvintett där både bekanta och okända ansikten återfinns. Blucifer släppte sitt debutalbum ”Acid Visions” på Spotify i december 2024 och gjorde sin första spelning som förband till Blues Pills i mars 2025. Senast det begav sig på Pipeline så öppnade de upp för The Hawkins och imponerade stort. Välkomna tillbaka\, Blucifer! \nEvenemanget görs med stöd av Sundsvalls Kommun. Konserten genomförs i samarbete med Sensus.
URL:https://pipelinesundsvall.se/event/spiders-blucifer/
ATTACH;FMTTYPE=image/jpeg:https://pipelinesundsvall.se/wp/wp-content/uploads/2026/02/2026-10-24-Spiders-Blucifer-INSTA-scaled-1.jpg
END:VEVENT
BEGIN:VEVENT
DTSTART;TZID=Europe/Stockholm:20261029T020000
DTEND;TZID=Europe/Stockholm:20261030T015959
DTSTAMP:20260423T004912
CREATED:20251212T090950Z
LAST-MODIFIED:20260317T212810Z
UID:20334-1793239200-1793325599@pipelinesundsvall.se
SUMMARY:MARKY RAMONE'S BLITZKRIEG (US) - SLUTSÅLT!
DESCRIPTION:Pipeline-rabatt på Comfort Hotel Strand? Läs mer här!\nOBS: Evenemanget är slutsålt! \n\n\nMARKY RAMONE’S BLITZKRIEGNär Marky Ramone dundrar in handlar det bara om en sak: ren\, ofiltrerad punk­energi rakt från källan. Ingen nostalgi\, inga museumsvibbar – bara en kväll som smäller som ett bensin­dränkt power­chord. Blitzkrieg är Ramones­arvet i full fart\, levande\, högljutt och förbannat kul att uppleva. \nMarky Ramone är den sista över­levande trummande pulsen från Ramones – en av punkens mest avgörande rytmer. Han är killen som spelade över 1700 gig utan att tappa tempot. Nu kommer han till Sverige med Blitzkrieg\, en turné som handlar mindre om nostalgi och mer om att känna punken i bröstkorgen – där den hör hemma. Det är punk\, på riktigt. Och det händer nu. Det blir en ruskigt intensiv kväll fylld av låtar som format generationer\, framförda med den där obevekliga energin som bara Marky Ramone kan leverera. Blitzkrieg är inte en hyllnings­show\, det är inte en berättar­kväll – det är en musikalisk käft­smäll som träffar rakt fram­ifrån\, lika tight som 1978\, men med ännu mer tyngd. Räkna med en publik som går all in\, ett band som inte tar foten av gasen och en legend bakom trummorna som fortsätter spela som om CBGB fortfarande stod kvar och luktade öl och elva olika sorters kaos. \n\nEvenemanget görs med stöd av Sundsvalls Kommun. Konserten genomförs i samarbete med Sensus
URL:https://pipelinesundsvall.se/event/marky-ramones-blitzkrieg/
ATTACH;FMTTYPE=image/jpeg:https://pipelinesundsvall.se/wp/wp-content/uploads/2025/12/SLUTSALT-scaled-1.jpg
END:VEVENT
BEGIN:VEVENT
DTSTART;TZID=Europe/Stockholm:20261114T020000
DTEND;TZID=Europe/Stockholm:20261115T015959
DTSTAMP:20260423T004912
CREATED:20251217T090609Z
LAST-MODIFIED:20260302T080909Z
UID:20348-1794621600-1794707999@pipelinesundsvall.se
SUMMARY:TRANSPORT LEAGUE + COMBUSTIONUS
DESCRIPTION:TRANSPORT LEAGUE\nSvenska groove metal-legenderna Transport League är tillbaka med full kraft och kliver åter in i rampljuset med sitt explosiva nya album ”We Are Satans People”. Efter tre års uppehåll är deras elfte studioalbum redo att krossa förväntningar och befästa bandets inflytande på metalscenen. \nSedan starten 1994 har Transport League varit en banbrytande kraft inom svensk metal och banat väg för band som Volbeat\, Mustasch och Corroded. Med ”We Are Satans People” går de tillbaka till sina rötter och levererar ett sound som är lika nostalgiskt som kompromisslöst modernt. Här möts obevekliga groove-riff\, massiv tyngd och hookar som hugger tag direkt\, allt genomsyrat av den råa energin från 90-talets metal. \n”We Are Satans People” är ett måste för fans av Pantera\, Clutch\, Rob Zombie och Prong – liksom för lyssnare som uppskattar Rammstein och Volbeat. Gör dig redo för en metalresa som är lika elektrisk som den är tung. \nMissa inte denna kompromisslösa groove metal-urladdning. Skaffa ditt exemplar och låt Transport League visa varför de fortfarande är giganter inom genren. \nCOMBUSTIONUS\nCombustionus tar er till en värld av tung skitig hårdrock med skräniga gitarrer\, fulldistad bas\, tunga trummor och med en uttrycksfull kraftig sång. Bandet kommer från Sundsvall/Timrå med Hans Forslund (Rebel Collective) på gitarr och sång\, Urban Grafström (Only Resist) på bas och Henrik Högl (Mortalicum) på trummor. De gör sin premiärspelning här och kommer att ge er fullt ös från början till slut. \nARRANGÖR OCH STÖD\nEvenemanget görs med stöd av Sundsvalls kommun. Konserten genomförs i samarbete med Sensus.
URL:https://pipelinesundsvall.se/event/transport-league/
ATTACH;FMTTYPE=image/jpeg:https://pipelinesundsvall.se/wp/wp-content/uploads/2025/12/2026-11-14-Transport-League-INSTA-1-scaled-1.jpg
END:VEVENT
BEGIN:VEVENT
DTSTART;TZID=Europe/Stockholm:20261120T020000
DTEND;TZID=Europe/Stockholm:20261121T015959
DTSTAMP:20260423T004912
CREATED:20260211T111410Z
LAST-MODIFIED:20260220T114101Z
UID:20511-1795140000-1795226399@pipelinesundsvall.se
SUMMARY:THE CONFUSIONS
DESCRIPTION:THE CONFUSIONS\nThe Confusions har gjort i stort sätt allt och är ett band som aldrig stagnerat. Bandet har haft majorkontrakt på storbolag\, blivit hyllade av Engelsk musikpress och i samma andetag blivit sågade av lokalpressen\, turnerat utomlands\, floppat med den så viktiga tredje skivan för att sedan komma tillbaka med en MTV hit\, gått från pophopp till indieveteraner\, skrivit GIF-Sundsvalls officiella låt\, skapat Beatleshysteri i Kaliningrad och självklart spelat på The Cavern Club i Liverpool.Bandet är nu en pulserande livemaskin bestående av fyra goda vänner med en stark kärlek till musiken de skapar tillsammans. \nThe Confusions har hittills släppt fjorton album och i höst 2026 kommer album no. 15. Singeln The Pilot\, från albumet Trampoline (2002)\, räknas som en av bandets största hitar då den toppade MTV:s lista Up North. Mikael och Zarah från bandet har även skrivit filmmusik\, bl.a. till den höstas Filmfest-aktuella regissören Gunnar Hall Jensen\, delar av detta samarbete finns utgivet på The Confusions album Songs For Movies som släpptes 2024. \nTIDER:\n19:00 Dörrar/kök/bar\n20:00 Support (annonseras senare)\n21:00 The Confusions \nPRISER:\nOrdinarie: 250 kr\nMedlemmar/klubbhjältar: 150 kr\nMedlem 13–21 år / Student: 50 kr (begränsat antal\, kan ta slut på förköp)\nMedlem 0–12 år: Gratis i målsmans sällskap \nOBS: När de rabatterade ungdoms- och studentbiljetterna är slutsålda på förköp går det inte att köpa dem i dörren. Köp därför förköp i tid för att säkra din biljett till lägsta pris. \nKöp biljetter | https://billetto.se/e/the-confusions-biljetter-1870363 \nBli Pipeline-medlem | http://pipelinesundsvall.se/medlemskap \nIngen åldersgräns i entrén – 18 år i vårt separata barområde. \nEvenemanget görs med stöd av Sundsvalls Kommun. Konserten genomförs i samarbete med Sensus.
URL:https://pipelinesundsvall.se/event/the-confusions-2/
ATTACH;FMTTYPE=image/jpeg:https://pipelinesundsvall.se/wp/wp-content/uploads/2026/02/2026-11-20-The-Confusions-INSTA-scaled-1.jpg
END:VEVENT
BEGIN:VEVENT
DTSTART;TZID=Europe/Stockholm:20261127T010000
DTEND;TZID=Europe/Stockholm:20261128T005959
DTSTAMP:20260423T004912
CREATED:20260302T083949Z
LAST-MODIFIED:20260302T092624Z
UID:20895-1795741200-1795827599@pipelinesundsvall.se
SUMMARY:FRUKTANSVÄRLD + HATA SOM LEJON + FOLKHEMMET
DESCRIPTION:Tre melodiska\, ösiga\, svenskspråkiga punkband från södra Norrland på en och samma kväll. På med västen\, putsa pinsen\, nu åker vi! \nFRUKTANSVÄRLD\nFruktansvärld föddes sommaren 2020 som ett ”vi testar väl då”-projekt mellan andra band – och råkade bli blodigt allvar. Snabb tvåtakt i gränslandet mellan Radioaktiva Räker och Asta Kask\, med hjärtat i den svenska punken och blicken rakt fram. Efter tidiga singlar kom split-LP:n Pengarna eller livet med Lastkaj 14 på Second Class Kids Records\, följt av den självbetitlade debuten 2023 – och nu senast fullträffen Undan kommer ingen (2025). De har stått på vår scen flera gånger\, delat kvällar med vänner och favoriter\, och ni vet redan vad som väntar: tight\, snabbt\, svettigt och med den där självklara energin som får Pipeline att kännas som Pipeline. Fruktansvärld är hemma hos oss. Och det märks. \nHATA SOM LEJON\nSenast Hata Som Lejon stod på vår scen lirade de med Charta 77 och Ulke – och satte ribban direkt. Kvalitativt ös\, noll krångel\, fullt ställ. I samma skola som Skumdum\, Blink-182 och Millencolin levererar de rasande tvåtakt\, melodier som fastnar och svenska texter med både nerv och eftertanke. Men framför allt: live är de ett jäkla ånglok. Tajt\, svettigt\, leende – och alltid med publiken i centrum. De har delat scener med vänner som Dia Psalma och Lastkaj 14\, turnerat land och rike runt – men hos oss är de mer än ett turnerande band. Larvigt trevliga killar\, såna man vill både boka och hänga med efteråt. Räkna med fullt ös och stora refränger där allt bara sitter som ett smäck. \nFOLKHEMMET\nFolkhemmet är en rykande färsk punktrio från Punksvall. Medlemmarna har tidigare spelat i lokala punkband som Animal Nights\, Psycho Poetry\, Skaplig Fraktur och Headless Frank\, och förenas nu i ett svenskspråkigt band som både stryker medhårs och mothårs på samma sång – med dubbel leadsång\, skarpa texter\, skevsnygga ackordföljder och ett jävla driv med nerverna på utsidan. Debutgiget gjordes på Pipeline (drygt ett år innan denna spelning) tillsammans med kompisarna i Coca Carola och 23Till\, och när vi når november 2026 har både Folkhemmet och Hata Som Lejon premiärspelat på Punkbåten! \nEvenemanget görs med stöd av Sundsvalls kommun. Konserten genomförs i samarbete med Sensus.
URL:https://pipelinesundsvall.se/event/fruktansvarld-hata-som-lejon-folkhemmet-2/
ATTACH;FMTTYPE=image/jpeg:https://pipelinesundsvall.se/wp/wp-content/uploads/2026/02/2026-11-27-Fruktansvarld-Hata-Som-Lejon-Folkhemmet-INSTA.jpg
END:VEVENT
BEGIN:VEVENT
DTSTART;TZID=Europe/Stockholm:20261128T010000
DTEND;TZID=Europe/Stockholm:20261129T005959
DTSTAMP:20260423T004912
CREATED:20260305T095446Z
LAST-MODIFIED:20260305T095446Z
UID:20925-1795827600-1795913999@pipelinesundsvall.se
SUMMARY:DIVISION 7 + ÖSTKUSTEN
DESCRIPTION:DIVISION 7\nI en tid där trender kommer och går har Division 7 valt sin egen väg. Genom att envist vara sig själva har de på drygt tre år avverkat två hyllade fullängdsalbum\, två EP:s och ett stökigt livealbum i ett rasande tempo. För en utomstående är framgångsreceptet tydligt: en aldrig sinande ström av starka låtar kombinerat med ett furiöst\, väloljat livemaskineri som nött mil efter mil längs de svenska vägarna. Utan draghjälp från stora skivbolag eller etablerade musikmedier har bandet konsekvent byggt en sällsynt hängiven publik. Division 7 har blivit något som närmast liknar ett fotbollslag\, där supportrarna får varje livespelning att koka likt en läktare under ett intensivt derby. Under 2026 är Division 7 tillbaka med albumet ”Långbro feelin”. Inför det nya släppet har bandet för första gången tagit in externa producenter – Axel Jonsson-Stridbeck och Gustav Erlandsson Holmqvist. Samarbetet har rensat upp ljudbilden och lyft fram bandets kärna på ett nytt sätt. Kvar finns det indieband som publiken lärt sig älska\, men med en ny dimension. Som bandet själva beskriver det: ”Vi kan le också”. Mörkret finns kvar\, men det ryms nu en mer positiv livssyn och en kontrollerad dos klackspark. År 2026 har börjat i ett rasande tempo. Efter att ha följt upp singelsuccéerna ”Huvudet högt”\, ”Det stör mig” och ”En ny bomb” med sin största spelning hittills på Fållan\, växlar bandet nu upp ytterligare. I den senaste singeln\, ”Himlen i handen”\, förenas Division 7 med ingen mindre än Thomas Stenström. Samarbetet markerar en ny milstolpe för bandet och befäster deras position som en av landets mest intressanta indieakter just nu. \nÖSTKUSTEN\nÖstkusten spelar melankolisk indierock/pop som vill påverka\, väcka känslor och hopp. Stora ljudbilder växlas med sårbara melodier. Östkusten sjunger på svenska och mycket av bandets själ sitter i de utlämnande texter som berättas. Texterna beskriver själslig vånda\, toxiska relationer\, destruktiva mönster och den frustration som samtiden visar. Bandmedlemmarna har egen erfarenhet av att vara i och ta sig igenom svåra situationer. De vill sätta ord och musik på mörker och den hopplöshet som vi människor kan uppleva samtidigt som de vill sprida hopp och ljus. Östkusten debuterade hösten 2023 med EP:n Skaver och singeln *Mindre grått*\, som av Dagens Nyheter utsågs till en av Veckans låtar. 2024 albumdebuterade bandet med albumet Mörkret bakom hörnet\, vars titellåt remixades av Red Mecca. I januari och februari 2025 släpptes singlarna Förvirrad igen och *Stum tystnad* och i mars släpptes EPn Semikolon. Under 2025 har Östkusten spelat i Örebro\, Härnösand\, Stockholm och i Sundsvall på Pipeline\, qbar\, Kulturmagasinet och på festivalen Sundsvall Summer Days. Har även spelat live på P4 Västernorrland. Under 2025 släpptes första singeln på engelska andra EPn *Nåt som inte är svart*. Östkusten har en ny trummis i Tommy Gustafsson och Larry Magnusson på klaviatur från våren 2026 och jobbar på ett nytt album som släpps hösten 2026.
URL:https://pipelinesundsvall.se/event/division-7-ostkusten/
ATTACH;FMTTYPE=image/jpeg:https://pipelinesundsvall.se/wp/wp-content/uploads/2026/03/2026-11-28-Division-7-INSTA-scaled.jpg
END:VEVENT
END:VCALENDAR