BEGIN:VCALENDAR
VERSION:2.0
PRODID:-//Pipeline Sundsvalls Musikforum - ECPv6.15.17.1//NONSGML v1.0//EN
CALSCALE:GREGORIAN
METHOD:PUBLISH
X-ORIGINAL-URL:https://pipelinesundsvall.se
X-WR-CALDESC:Händelser för Pipeline Sundsvalls Musikforum
REFRESH-INTERVAL;VALUE=DURATION:PT1H
X-Robots-Tag:noindex
X-PUBLISHED-TTL:PT1H
BEGIN:VTIMEZONE
TZID:Europe/Stockholm
BEGIN:DAYLIGHT
TZOFFSETFROM:+0100
TZOFFSETTO:+0200
TZNAME:CEST
DTSTART:20250330T010000
END:DAYLIGHT
BEGIN:STANDARD
TZOFFSETFROM:+0200
TZOFFSETTO:+0100
TZNAME:CET
DTSTART:20251026T010000
END:STANDARD
BEGIN:DAYLIGHT
TZOFFSETFROM:+0100
TZOFFSETTO:+0200
TZNAME:CEST
DTSTART:20260329T010000
END:DAYLIGHT
BEGIN:STANDARD
TZOFFSETFROM:+0200
TZOFFSETTO:+0100
TZNAME:CET
DTSTART:20261025T010000
END:STANDARD
BEGIN:DAYLIGHT
TZOFFSETFROM:+0100
TZOFFSETTO:+0200
TZNAME:CEST
DTSTART:20270328T010000
END:DAYLIGHT
BEGIN:STANDARD
TZOFFSETFROM:+0200
TZOFFSETTO:+0100
TZNAME:CET
DTSTART:20271031T010000
END:STANDARD
END:VTIMEZONE
BEGIN:VEVENT
DTSTART;TZID=Europe/Stockholm:20261120T020000
DTEND;TZID=Europe/Stockholm:20261121T015959
DTSTAMP:20260423T055535
CREATED:20260211T111410Z
LAST-MODIFIED:20260220T114101Z
UID:20511-1795140000-1795226399@pipelinesundsvall.se
SUMMARY:THE CONFUSIONS
DESCRIPTION:THE CONFUSIONS\nThe Confusions har gjort i stort sätt allt och är ett band som aldrig stagnerat. Bandet har haft majorkontrakt på storbolag\, blivit hyllade av Engelsk musikpress och i samma andetag blivit sågade av lokalpressen\, turnerat utomlands\, floppat med den så viktiga tredje skivan för att sedan komma tillbaka med en MTV hit\, gått från pophopp till indieveteraner\, skrivit GIF-Sundsvalls officiella låt\, skapat Beatleshysteri i Kaliningrad och självklart spelat på The Cavern Club i Liverpool.Bandet är nu en pulserande livemaskin bestående av fyra goda vänner med en stark kärlek till musiken de skapar tillsammans. \nThe Confusions har hittills släppt fjorton album och i höst 2026 kommer album no. 15. Singeln The Pilot\, från albumet Trampoline (2002)\, räknas som en av bandets största hitar då den toppade MTV:s lista Up North. Mikael och Zarah från bandet har även skrivit filmmusik\, bl.a. till den höstas Filmfest-aktuella regissören Gunnar Hall Jensen\, delar av detta samarbete finns utgivet på The Confusions album Songs For Movies som släpptes 2024. \nTIDER:\n19:00 Dörrar/kök/bar\n20:00 Support (annonseras senare)\n21:00 The Confusions \nPRISER:\nOrdinarie: 250 kr\nMedlemmar/klubbhjältar: 150 kr\nMedlem 13–21 år / Student: 50 kr (begränsat antal\, kan ta slut på förköp)\nMedlem 0–12 år: Gratis i målsmans sällskap \nOBS: När de rabatterade ungdoms- och studentbiljetterna är slutsålda på förköp går det inte att köpa dem i dörren. Köp därför förköp i tid för att säkra din biljett till lägsta pris. \nKöp biljetter | https://billetto.se/e/the-confusions-biljetter-1870363 \nBli Pipeline-medlem | http://pipelinesundsvall.se/medlemskap \nIngen åldersgräns i entrén – 18 år i vårt separata barområde. \nEvenemanget görs med stöd av Sundsvalls Kommun. Konserten genomförs i samarbete med Sensus.
URL:https://pipelinesundsvall.se/event/the-confusions-2/
ATTACH;FMTTYPE=image/jpeg:https://pipelinesundsvall.se/wp/wp-content/uploads/2026/02/2026-11-20-The-Confusions-INSTA-scaled-1.jpg
END:VEVENT
END:VCALENDAR