BEGIN:VCALENDAR
VERSION:2.0
PRODID:-//Pipeline Sundsvalls Musikforum - ECPv6.15.17.1//NONSGML v1.0//EN
CALSCALE:GREGORIAN
METHOD:PUBLISH
X-ORIGINAL-URL:https://pipelinesundsvall.se
X-WR-CALDESC:Händelser för Pipeline Sundsvalls Musikforum
REFRESH-INTERVAL;VALUE=DURATION:PT1H
X-Robots-Tag:noindex
X-PUBLISHED-TTL:PT1H
BEGIN:VTIMEZONE
TZID:Europe/Stockholm
BEGIN:DAYLIGHT
TZOFFSETFROM:+0100
TZOFFSETTO:+0200
TZNAME:CEST
DTSTART:20250330T010000
END:DAYLIGHT
BEGIN:STANDARD
TZOFFSETFROM:+0200
TZOFFSETTO:+0100
TZNAME:CET
DTSTART:20251026T010000
END:STANDARD
BEGIN:DAYLIGHT
TZOFFSETFROM:+0100
TZOFFSETTO:+0200
TZNAME:CEST
DTSTART:20260329T010000
END:DAYLIGHT
BEGIN:STANDARD
TZOFFSETFROM:+0200
TZOFFSETTO:+0100
TZNAME:CET
DTSTART:20261025T010000
END:STANDARD
BEGIN:DAYLIGHT
TZOFFSETFROM:+0100
TZOFFSETTO:+0200
TZNAME:CEST
DTSTART:20270328T010000
END:DAYLIGHT
BEGIN:STANDARD
TZOFFSETFROM:+0200
TZOFFSETTO:+0100
TZNAME:CET
DTSTART:20271031T010000
END:STANDARD
END:VTIMEZONE
BEGIN:VEVENT
DTSTART;TZID=Europe/Stockholm:20261024T030000
DTEND;TZID=Europe/Stockholm:20261025T025959
DTSTAMP:20260423T022439
CREATED:20260211T104104Z
LAST-MODIFIED:20260302T080431Z
UID:20506-1792810800-1792897199@pipelinesundsvall.se
SUMMARY:SPIDERS + BLUCIFER
DESCRIPTION:SPIDERS\nSpiders bildades 2012 och gav ut sitt debutalbum ”Flash Point” samma år och följde upp det med albumet ”Shake Electric” 2014 och ”Killer Machine” 2018. Samtidigt med skivutgivningar turnerade bandet otaliga gånger runt Europa och USA:s rockklubbar och festivalscener. I februari 2025 släppte Spiders sitt senaste album Sharp Objects på legendariska Wild Kingdom Records. Albumet handlar om trasiga drömmar\, smått ouppnåeliga visioner om livets allt och som vanligt när det kommer till Spiders är skivan starkt influerad av rock ’n roll. På ”Sharp Objekts” har det dessutom smugit sig in en smula new wave och garagerock ala tidigt 80 tal i mixen. Låtarna tar dig från ett forna Truckstop Alaska i Göteborg\, via New Yorks Bleecker Street\, vidare till Londons Soho och tillbaka igen. Med en detour genom ett musikaliskt landskap där The Faces\, Dead Boys\, Fred Cole och Bikini Kill är stöttepelare och Debbie Harry pekar finger åt samtiden. \nBLUCIFER\nBlucifer är ett självsvängande rockband från Sundsvall som beskriver sin musik som en ”kakafoni av stoner\, doom och tung rock”. Blucifer började som en trio\, men är idag en kvintett där både bekanta och okända ansikten återfinns. Blucifer släppte sitt debutalbum ”Acid Visions” på Spotify i december 2024 och gjorde sin första spelning som förband till Blues Pills i mars 2025. Senast det begav sig på Pipeline så öppnade de upp för The Hawkins och imponerade stort. Välkomna tillbaka\, Blucifer! \nEvenemanget görs med stöd av Sundsvalls Kommun. Konserten genomförs i samarbete med Sensus.
URL:https://pipelinesundsvall.se/event/spiders-blucifer/
ATTACH;FMTTYPE=image/jpeg:https://pipelinesundsvall.se/wp/wp-content/uploads/2026/02/2026-10-24-Spiders-Blucifer-INSTA-scaled-1.jpg
END:VEVENT
END:VCALENDAR