BEGIN:VCALENDAR
VERSION:2.0
PRODID:-//Pipeline Sundsvalls Musikforum - ECPv6.15.17.1//NONSGML v1.0//EN
CALSCALE:GREGORIAN
METHOD:PUBLISH
X-ORIGINAL-URL:https://pipelinesundsvall.se
X-WR-CALDESC:Händelser för Pipeline Sundsvalls Musikforum
REFRESH-INTERVAL;VALUE=DURATION:PT1H
X-Robots-Tag:noindex
X-PUBLISHED-TTL:PT1H
BEGIN:VTIMEZONE
TZID:Europe/Stockholm
BEGIN:DAYLIGHT
TZOFFSETFROM:+0100
TZOFFSETTO:+0200
TZNAME:CEST
DTSTART:20250330T010000
END:DAYLIGHT
BEGIN:STANDARD
TZOFFSETFROM:+0200
TZOFFSETTO:+0100
TZNAME:CET
DTSTART:20251026T010000
END:STANDARD
BEGIN:DAYLIGHT
TZOFFSETFROM:+0100
TZOFFSETTO:+0200
TZNAME:CEST
DTSTART:20260329T010000
END:DAYLIGHT
BEGIN:STANDARD
TZOFFSETFROM:+0200
TZOFFSETTO:+0100
TZNAME:CET
DTSTART:20261025T010000
END:STANDARD
BEGIN:DAYLIGHT
TZOFFSETFROM:+0100
TZOFFSETTO:+0200
TZNAME:CEST
DTSTART:20270328T010000
END:DAYLIGHT
BEGIN:STANDARD
TZOFFSETFROM:+0200
TZOFFSETTO:+0100
TZNAME:CET
DTSTART:20271031T010000
END:STANDARD
END:VTIMEZONE
BEGIN:VEVENT
DTSTART;TZID=Europe/Stockholm:20260527T010000
DTEND;TZID=Europe/Stockholm:20260528T005959
DTSTAMP:20260422T194058
CREATED:20260415T091407Z
LAST-MODIFIED:20260415T091407Z
UID:21084-1779843600-1779929999@pipelinesundsvall.se
SUMMARY:SPLASH - SKVADERNS ESTETER PÅ PIPELINE
DESCRIPTION:Äntligen dags för 2026 års upplaga av Splash – Skvaderns musikesteter på Pipeline. \nOnsdag 27 maj gör ES23 sin examenskonsert på Pipeline. \nUnder kvällen spelar även musiker från ES24 och ES25. \nPubliken bjuds på låtar från många olika genrer. För dig som älskar musik är denna kväll ett MÅSTE! Missa inte! \nFörbered dig på en kväll med läcker musik och gott fika till försäljning. Varmt välkommen!
URL:https://pipelinesundsvall.se/event/splash-skvaderns-esteter-pa-pipeline-3/
ATTACH;FMTTYPE=image/jpeg:https://pipelinesundsvall.se/wp/wp-content/uploads/2026/04/Skvadern.jpg
END:VEVENT
END:VCALENDAR