BEGIN:VCALENDAR
VERSION:2.0
PRODID:-//Pipeline Sundsvalls Musikforum - ECPv6.15.17.1//NONSGML v1.0//EN
CALSCALE:GREGORIAN
METHOD:PUBLISH
X-ORIGINAL-URL:https://pipelinesundsvall.se
X-WR-CALDESC:Händelser för Pipeline Sundsvalls Musikforum
REFRESH-INTERVAL;VALUE=DURATION:PT1H
X-Robots-Tag:noindex
X-PUBLISHED-TTL:PT1H
BEGIN:VTIMEZONE
TZID:Europe/Stockholm
BEGIN:DAYLIGHT
TZOFFSETFROM:+0100
TZOFFSETTO:+0200
TZNAME:CEST
DTSTART:20250330T010000
END:DAYLIGHT
BEGIN:STANDARD
TZOFFSETFROM:+0200
TZOFFSETTO:+0100
TZNAME:CET
DTSTART:20251026T010000
END:STANDARD
BEGIN:DAYLIGHT
TZOFFSETFROM:+0100
TZOFFSETTO:+0200
TZNAME:CEST
DTSTART:20260329T010000
END:DAYLIGHT
BEGIN:STANDARD
TZOFFSETFROM:+0200
TZOFFSETTO:+0100
TZNAME:CET
DTSTART:20261025T010000
END:STANDARD
BEGIN:DAYLIGHT
TZOFFSETFROM:+0100
TZOFFSETTO:+0200
TZNAME:CEST
DTSTART:20270328T010000
END:DAYLIGHT
BEGIN:STANDARD
TZOFFSETFROM:+0200
TZOFFSETTO:+0100
TZNAME:CET
DTSTART:20271031T010000
END:STANDARD
END:VTIMEZONE
BEGIN:VEVENT
DTSTART;TZID=Europe/Stockholm:20260508T030000
DTEND;TZID=Europe/Stockholm:20260509T025959
DTSTAMP:20260422T194041
CREATED:20260113T155050Z
LAST-MODIFIED:20260414T151904Z
UID:20447-1778209200-1778295599@pipelinesundsvall.se
SUMMARY:CHECKA JAKEN COMEDY CLUB: SIMON GÄRDENFORS & ANTON MAGNUSSON FESTAR (18+)
DESCRIPTION:KÖP BILJETT | https://www.nortic.se/ticket/show/303307 \nStandup på en riktig rockklubb är något helt annat än på en teater eller konferenscenter. På Pipeline får du skratta så nära komikerna att du ser svetten pärla sig i strålkastarljuset – och så intimt att du nästan får en punchline i knät. Checka Jaken Comedy Club blandar rå lokal känsla med rappa skämt\, iskall dryck och skönt häng. Det blir högljutt\, hjärtligt och garanterat svinkul! \nSIMON GÄRDENFORS & ANTON MAGNUSSON – FESTAR\nSveriges mest kompromisslösa humorduo är tillbaka i högform på stand up-scenen! Dubbelshowen ”Simon Gärdenfors & Anton Magnusson – Festar” är skåneduons femte gemensamma sverigeturné. Med deras unika kemi och syrliga vardagsobservationer utlovas som vanligt högoktaniga nya skämt\, skruvade historier och oväntade sanningar från första minuten. Missa inte chansen att se två av Sveriges mest intressanta komiker live – ingen går säker! \nLängd: 120 min (inkl. paus)\nProducent: Markus Wiklund Ferrer\, A Love Supreme \nOm Simon Gärdenfors\nSimon Gärdenfors är född 1978 och är en multitalang från Hjärup i Skåne och är serietecknare\, podcastare\, rappare i gruppen Far & Son\, TV-personlighet men framförallt stand up-komiker. Simon var under våren högaktuell med sin egenproducerade långfilm Serietecknaren som visats för fulla salonger runtom i landet. Simons första soloturné ”En Slapp Timme” var den allra första svenska stand up-specialen att sändas på Comedy Central i Sverige. Simon har även medverkat i samtliga säsonger av SVT’s Släng Dig i Brunnen\, Samhällsjudo på TV12 samt i Comedy Central Stand Up – Utan Gränser. \nOm Anton Magnusson\nAnton Magnusson är född 1983 i Trelleborg och är stand up-komiker och prisbelönt rappare. Mellan 2020-2022 turnerade Anton med föreställningen ”Uppvigling & Förledande av ungdom” tillsammans med Simon Gärdenfors och blev nominerad till Årets Föreställning i Svenska Stand Up Galan 2022. Han har även medverkat i flera säsonger av SVTs Släng Dig i Brunnen och vann 2019 det årliga Johnny Bode-priset då hann fått ”årets största sociala medier-drev mot sig”.\nOBS: Åldersgräns 18 år på detta arrangemang. Endast 120 biljetter! \nEvenemanget görs med stöd av Sundsvalls Kommun. Konserten genomförs i samarbete med Sensus.
URL:https://pipelinesundsvall.se/event/checka-jaken-comedy-club-simon-gardenfors-anton-magnusson-festar-18/
ATTACH;FMTTYPE=image/jpeg:https://pipelinesundsvall.se/wp/wp-content/uploads/2026/01/2026-05-08-Simon-Gardenfors-Anton-Magnusson-INSTA-scaled-1.jpg
END:VEVENT
BEGIN:VEVENT
DTSTART;TZID=Europe/Stockholm:20260509T030000
DTEND;TZID=Europe/Stockholm:20260510T025959
DTSTAMP:20260422T194041
CREATED:20251130T084230Z
LAST-MODIFIED:20260301T213839Z
UID:20300-1778295600-1778381999@pipelinesundsvall.se
SUMMARY:SUNDSVALLS SKIVMÄSSA VÅREN 2026
DESCRIPTION:SUNDSVALLS SKIVMÄSSA 2026 utökad lokalyta\, fler bord upp till 70 st. \n\nÅter igen dags att Norrlands största och mest välsorterade ”skivaffär” uppstår för en dag – Sundsvalls Skivmässa anno 1988.\nVarför inte göra en rensning bland din skivsamling och hyra ett bord och sälja iväg det och köpa nytt på mässan…\n10 000 tals begagnade och nya vinylskivor: LP\, singlar\, CD´s\, och mindre utbud av Dvd´s (långfilmer\, serier\, rockkonserter) och ett utbud av musikmagasin\, serietidningar\, olika artist-t-shirts finns till försäljning av professionella säljare/utställare som kommer från hela Sverige samt privata säljare i blandade musikgenrer.\nDet finns plats för maximalt 70 bord.\nBordsbokning via 381lundmark@gmail.comDet går bra via messenger eller sms till 070-3994894250kr/bord med måtten 120×80 cm.\nHär kan du hitta skivor som du inte trodde fanns och även en del nya till bra priser!\nMissa inte: skivmässa i Umeå – Söndag 9 Maj\nNedladdningsbar PDF av affischen – skriv ut\, sätt upp och sprid ordet om Sundsvalls Skivmässa!\nhttp://pipelinesundsvall.se/wp/wp-content/uploads/2026/01/2026-05-09-Skivmassa-AFFISCH.pdf\nArrangörer: Pipeline\, Sensus Sundsvall\nPrisinformation:40 SEK endast vid entrén – kontant eller svish.Inget förköp.Plats; Pipeline\, Kyrkogatan 6.
URL:https://pipelinesundsvall.se/event/sundsvalls-skivmassa-varen-2026/
ATTACH;FMTTYPE=image/jpeg:https://pipelinesundsvall.se/wp/wp-content/uploads/2025/11/2026-05-09-Skivmassa-INSTA-1.jpg
END:VEVENT
END:VCALENDAR