BEGIN:VCALENDAR
VERSION:2.0
PRODID:-//Pipeline Sundsvalls Musikforum - ECPv6.15.17.1//NONSGML v1.0//EN
CALSCALE:GREGORIAN
METHOD:PUBLISH
X-WR-CALNAME:Pipeline Sundsvalls Musikforum
X-ORIGINAL-URL:https://pipelinesundsvall.se
X-WR-CALDESC:Händelser för Pipeline Sundsvalls Musikforum
REFRESH-INTERVAL;VALUE=DURATION:PT1H
X-Robots-Tag:noindex
X-PUBLISHED-TTL:PT1H
BEGIN:VTIMEZONE
TZID:Europe/Stockholm
BEGIN:DAYLIGHT
TZOFFSETFROM:+0100
TZOFFSETTO:+0200
TZNAME:CEST
DTSTART:20250330T010000
END:DAYLIGHT
BEGIN:STANDARD
TZOFFSETFROM:+0200
TZOFFSETTO:+0100
TZNAME:CET
DTSTART:20251026T010000
END:STANDARD
BEGIN:DAYLIGHT
TZOFFSETFROM:+0100
TZOFFSETTO:+0200
TZNAME:CEST
DTSTART:20260329T010000
END:DAYLIGHT
BEGIN:STANDARD
TZOFFSETFROM:+0200
TZOFFSETTO:+0100
TZNAME:CET
DTSTART:20261025T010000
END:STANDARD
BEGIN:DAYLIGHT
TZOFFSETFROM:+0100
TZOFFSETTO:+0200
TZNAME:CEST
DTSTART:20270328T010000
END:DAYLIGHT
BEGIN:STANDARD
TZOFFSETFROM:+0200
TZOFFSETTO:+0100
TZNAME:CET
DTSTART:20271031T010000
END:STANDARD
END:VTIMEZONE
BEGIN:VEVENT
DTSTART;TZID=Europe/Stockholm:20260503T030000
DTEND;TZID=Europe/Stockholm:20260504T025959
DTSTAMP:20260422T193814
CREATED:20260219T104010Z
LAST-MODIFIED:20260301T213519Z
UID:20543-1777777200-1777863599@pipelinesundsvall.se
SUMMARY:KLUBB MUSIKFORUM: LARS DEMIAN\, DAVID TALLROTH & LOVE MEYERSON (18+)
DESCRIPTION:LARS DEMIAN\, DAVID TALLROTH & LOVE MEYERSON\nLars Anders Mikael Demian Bengtsson är en svensk artist med drag av både klezmer\, folkrock\, blues och experimentell rock. Lars Demian sjunger spelar piano\, gitarr\, banjo och skivdebuterade med albumet Pank 1990. Genom en fortsatt solokarriär har han gett ut ett 10-tal album. Demians musik karaktäriseras av dråpliga\, absurdistiska visor om livet och samhället. Han har flera gånger jämförts med den amerikanske singer-songwritern Tom Waits. \nDe kommer spela både tidigare klassiska låtar från Demians digra låtskatt och nytt material från det nya efterlängtade albumet som släpps både på LP/CD/Streaming på Border i mitten av mars 2026. \nVIKTIG INFORMATION\nÅldersgräns 18 år. Vi släpper enbart 140 biljetter då det är sittande publik denna söndagkväll. \nARRANGÖR OCH STÖD\nEvenemanget görs med stöd av Sundsvalls kommun. Konserten genomförs i samarbete med Sensus.
URL:https://pipelinesundsvall.se/event/klubb-musikforum-lars-demian-david-tallroth-love-meyerson-18/
ATTACH;FMTTYPE=image/jpeg:https://pipelinesundsvall.se/wp/wp-content/uploads/2026/02/2026-05-03-Lars-Demian-INSTA-scaled-2.jpg
END:VEVENT
END:VCALENDAR