BEGIN:VCALENDAR
VERSION:2.0
PRODID:-//Pipeline Sundsvalls Musikforum - ECPv6.15.17.1//NONSGML v1.0//EN
CALSCALE:GREGORIAN
METHOD:PUBLISH
X-WR-CALNAME:Pipeline Sundsvalls Musikforum
X-ORIGINAL-URL:https://pipelinesundsvall.se
X-WR-CALDESC:Händelser för Pipeline Sundsvalls Musikforum
REFRESH-INTERVAL;VALUE=DURATION:PT1H
X-Robots-Tag:noindex
X-PUBLISHED-TTL:PT1H
BEGIN:VTIMEZONE
TZID:Europe/Stockholm
BEGIN:DAYLIGHT
TZOFFSETFROM:+0100
TZOFFSETTO:+0200
TZNAME:CEST
DTSTART:20250330T010000
END:DAYLIGHT
BEGIN:STANDARD
TZOFFSETFROM:+0200
TZOFFSETTO:+0100
TZNAME:CET
DTSTART:20251026T010000
END:STANDARD
BEGIN:DAYLIGHT
TZOFFSETFROM:+0100
TZOFFSETTO:+0200
TZNAME:CEST
DTSTART:20260329T010000
END:DAYLIGHT
BEGIN:STANDARD
TZOFFSETFROM:+0200
TZOFFSETTO:+0100
TZNAME:CET
DTSTART:20261025T010000
END:STANDARD
BEGIN:DAYLIGHT
TZOFFSETFROM:+0100
TZOFFSETTO:+0200
TZNAME:CEST
DTSTART:20270328T010000
END:DAYLIGHT
BEGIN:STANDARD
TZOFFSETFROM:+0200
TZOFFSETTO:+0100
TZNAME:CET
DTSTART:20271031T010000
END:STANDARD
END:VTIMEZONE
BEGIN:VEVENT
DTSTART;TZID=Europe/Stockholm:20260502T030000
DTEND;TZID=Europe/Stockholm:20260503T025959
DTSTAMP:20260422T174830
CREATED:20251130T082250Z
LAST-MODIFIED:20260301T213236Z
UID:20297-1777690800-1777777199@pipelinesundsvall.se
SUMMARY:GLUTTONY - RELEASEFEST: "EULOGY TO BLASPHEMY" + SANCTRUM
DESCRIPTION:GLUTTONY – RELEASEFEST: ”EULOGY TO BLASPHEMY” + SANCTRUM\nVi firar Sundsvallsbandet Gluttony som släpper sin fjärde fullängdsplatta\, och för att göra det hela ännu ösigare och kaosigare har vi bjudit upp livefavoriterna Sanctrum från Uppsala. Räkna med en högljudd helkväll i ett vansinnigt högt tempo! \nGLUTTONY\nGluttony bildades i Sundsvall 2009 av tre medlemmar från My Own Grave. Visionen var att spela rak och svängig dödsmetall som den lät sent 80- och tidigt 90 med HM2-pedalen på max. För demon Coffinborn sköttes sången av Johan Jansson (Interment) men inför fullängdaren Beyond the Veil of Flesh (Vic Records\, 2014) tog Magnus ”Hatpastorn” Ödling (ex-Setherial\, ex-Diabolical) över mikrofonen. Gluttony har under åren hunnit släppa tre album och flera andra obskyra utgåvor samt turnerat flitigt i Europa. Under våren 2026 kommer det fjärde albumet Eulogy To Blasphemy ut på F.D.A. Records och Releasefesten går av stapeln på Pipeline lördag 2 maj innan bandet beger sig ut på en Europaturné. \nSANCTRUM\nSanctrum är Uppsalas mest envetna överlevare inom extrem metal och har i över två decennier vägrat tona ner sin brutalitet. Debutalbumet In Harm’s Way(2008) satte ribban högt\, och med ROT (2015) \, producerad av Lawrence Mackrory (F.K.Ü\, Darkane) och mixad av Danne Bergstrand (Dimmu Borgir\, Behemoth)\, cementerade Sanctrum sitt rykte som en av Sveriges mest kompromisslösa akter. EP:n ”Walk With Vermin” (2018)\, singeln ”Beacon In The Light” (2020) och ”Sageling” (2023) ledde fram till spelningar på bland annat Sweden Rock Festival. Sanctrum är nu aktuella med den kritikerrosade EP:n ”Awaken In Embers” som redan hyllats nationellt och internationellt. Sweden Rock Magazine beskriver Sanctrum som “en hybrid mellan thrash och death metal korsat med hardcore och kängpunk” och live levererar Sanctrum just det: en fysisk naturkraft\, en vägg av energi och precision som gör publiken andfådd\, darrig och ändå hungrig på ännu mer kaos. \nEvenemanget görs med stöd av Sundsvalls Kommun. Konserten genomförs i samarbete med Sensus.
URL:https://pipelinesundsvall.se/event/gluttony-releasefest-eulogy-to-blasphemy-sanctrum/
ATTACH;FMTTYPE=image/jpeg:https://pipelinesundsvall.se/wp/wp-content/uploads/2025/11/2026-05-02-Gluttony-Sanctrum-INSTA-scaled-1.jpg
END:VEVENT
END:VCALENDAR