BEGIN:VCALENDAR
VERSION:2.0
PRODID:-//Pipeline Sundsvalls Musikforum - ECPv6.15.17.1//NONSGML v1.0//EN
CALSCALE:GREGORIAN
METHOD:PUBLISH
X-WR-CALNAME:Pipeline Sundsvalls Musikforum
X-ORIGINAL-URL:https://pipelinesundsvall.se
X-WR-CALDESC:Händelser för Pipeline Sundsvalls Musikforum
REFRESH-INTERVAL;VALUE=DURATION:PT1H
X-Robots-Tag:noindex
X-PUBLISHED-TTL:PT1H
BEGIN:VTIMEZONE
TZID:Europe/Stockholm
BEGIN:DAYLIGHT
TZOFFSETFROM:+0100
TZOFFSETTO:+0200
TZNAME:CEST
DTSTART:20250330T010000
END:DAYLIGHT
BEGIN:STANDARD
TZOFFSETFROM:+0200
TZOFFSETTO:+0100
TZNAME:CET
DTSTART:20251026T010000
END:STANDARD
BEGIN:DAYLIGHT
TZOFFSETFROM:+0100
TZOFFSETTO:+0200
TZNAME:CEST
DTSTART:20260329T010000
END:DAYLIGHT
BEGIN:STANDARD
TZOFFSETFROM:+0200
TZOFFSETTO:+0100
TZNAME:CET
DTSTART:20261025T010000
END:STANDARD
BEGIN:DAYLIGHT
TZOFFSETFROM:+0100
TZOFFSETTO:+0200
TZNAME:CEST
DTSTART:20270328T010000
END:DAYLIGHT
BEGIN:STANDARD
TZOFFSETFROM:+0200
TZOFFSETTO:+0100
TZNAME:CET
DTSTART:20271031T010000
END:STANDARD
END:VTIMEZONE
BEGIN:VEVENT
DTSTART;TZID=Europe/Stockholm:20260421T010000
DTEND;TZID=Europe/Stockholm:20260422T005959
DTSTAMP:20260422T193857
CREATED:20260412T063921Z
LAST-MODIFIED:20260412T063921Z
UID:21080-1776733200-1776819599@pipelinesundsvall.se
SUMMARY:JAZZ OCH BARHÄNG MED ALICE
DESCRIPTION:Kom och träffa Europaparlamentarikern Alice Bah Kuhnke\, ta en öl och lyssna på jazz med Etage 4 från Bollnäs Folkhögskola.\nStäll frågor och få svar direkt! \nVälkommen! \nMiljöpartiet de gröna bjuder på inträdet! \nKlicka hem din gratisbiljett här: https://billetto.se/e/jazz-och-barhang-med-alice-biljetter-1892755 \nTider:\n18:00 Insläpp\, baren öppnar\n19:00 Spelning med Etage 4 – set 1\n19:30 Svar direkt med Alice\n20:00 Spelning med Etage 4 – set 2
URL:https://pipelinesundsvall.se/event/jazz-och-barhang-med-alice/
ATTACH;FMTTYPE=image/jpeg:https://pipelinesundsvall.se/wp/wp-content/uploads/2026/04/657315886_1795969848403313_4179981438241526201_n.jpg
END:VEVENT
END:VCALENDAR