BEGIN:VCALENDAR
VERSION:2.0
PRODID:-//Pipeline Sundsvalls Musikforum - ECPv6.15.17.1//NONSGML v1.0//EN
CALSCALE:GREGORIAN
METHOD:PUBLISH
X-WR-CALNAME:Pipeline Sundsvalls Musikforum
X-ORIGINAL-URL:https://pipelinesundsvall.se
X-WR-CALDESC:Händelser för Pipeline Sundsvalls Musikforum
REFRESH-INTERVAL;VALUE=DURATION:PT1H
X-Robots-Tag:noindex
X-PUBLISHED-TTL:PT1H
BEGIN:VTIMEZONE
TZID:Europe/Stockholm
BEGIN:DAYLIGHT
TZOFFSETFROM:+0100
TZOFFSETTO:+0200
TZNAME:CEST
DTSTART:20250330T010000
END:DAYLIGHT
BEGIN:STANDARD
TZOFFSETFROM:+0200
TZOFFSETTO:+0100
TZNAME:CET
DTSTART:20251026T010000
END:STANDARD
BEGIN:DAYLIGHT
TZOFFSETFROM:+0100
TZOFFSETTO:+0200
TZNAME:CEST
DTSTART:20260329T010000
END:DAYLIGHT
BEGIN:STANDARD
TZOFFSETFROM:+0200
TZOFFSETTO:+0100
TZNAME:CET
DTSTART:20261025T010000
END:STANDARD
BEGIN:DAYLIGHT
TZOFFSETFROM:+0100
TZOFFSETTO:+0200
TZNAME:CEST
DTSTART:20270328T010000
END:DAYLIGHT
BEGIN:STANDARD
TZOFFSETFROM:+0200
TZOFFSETTO:+0100
TZNAME:CET
DTSTART:20271031T010000
END:STANDARD
END:VTIMEZONE
BEGIN:VEVENT
DTSTART;TZID=Europe/Stockholm:20260416T030000
DTEND;TZID=Europe/Stockholm:20260417T025959
DTSTAMP:20260422T140743
CREATED:20251218T085046Z
LAST-MODIFIED:20260407T075817Z
UID:20365-1776308400-1776394799@pipelinesundsvall.se
SUMMARY:CLUB FRIFOLK: MALIN FOXDAL TRIO + KAPELLSFOLK
DESCRIPTION:MALIN FOXDAL TRIO\nMalin Foxdal är en av Sveriges mest uttrycksfulla vissångare – med en röst som berör och en närvaro som fängslar. Tillsammans med Emma Reid och Mattias Pérez bjuder hon på en konsert där folkmusik\, jazz och egna sånger vävs samman till en varm och levande helhet.\nMed över 20 år som artist har Malin Foxdal skapat sin egen plats i den svenska folk- och vistraditionen. Repertoaren rör sig fritt mellan blå vallmusik\, svängiga polskor\, visa\, jazz och personliga tolkningar av bland andra Dan Andersson\, Monica Zetterlund och Joni Mitchell. \nMedverkande:\nMalin Foxdal – sång & oktavmandolin\nEmma Reid – fiol & viola\nDan Knagg – tolvsträngad gitarr \nKAPELLSFOLKSom support till Malin Foxdal Trio kommer eleverna från Härnsösands folkhögskola. I år är det en rekordstor klass på folkmusikutbildningarna. På konserten kommer 13 personer spela och sjunga låtar och visor i olika arrangemang och sättningar.\nEvenemanget görs av Club Frifolk\, studieförbundet Bilda och Pipeline. I samarbete med Musik Västernorrland. \nFöreningen Frifolks hemsida: https://frifolk.se/
URL:https://pipelinesundsvall.se/event/club-frifolk-malin-foxdal-trio/
ATTACH;FMTTYPE=image/jpeg:https://pipelinesundsvall.se/wp/wp-content/uploads/2025/12/2026-04-16-Club-Frifolk-Malin-Foxdal-Trio-BANNER-scaled.jpg
END:VEVENT
END:VCALENDAR