BEGIN:VCALENDAR
VERSION:2.0
PRODID:-//Pipeline Sundsvalls Musikforum - ECPv6.15.17.1//NONSGML v1.0//EN
CALSCALE:GREGORIAN
METHOD:PUBLISH
X-WR-CALNAME:Pipeline Sundsvalls Musikforum
X-ORIGINAL-URL:https://pipelinesundsvall.se
X-WR-CALDESC:Händelser för Pipeline Sundsvalls Musikforum
REFRESH-INTERVAL;VALUE=DURATION:PT1H
X-Robots-Tag:noindex
X-PUBLISHED-TTL:PT1H
BEGIN:VTIMEZONE
TZID:Europe/Stockholm
BEGIN:DAYLIGHT
TZOFFSETFROM:+0100
TZOFFSETTO:+0200
TZNAME:CEST
DTSTART:20250330T010000
END:DAYLIGHT
BEGIN:STANDARD
TZOFFSETFROM:+0200
TZOFFSETTO:+0100
TZNAME:CET
DTSTART:20251026T010000
END:STANDARD
BEGIN:DAYLIGHT
TZOFFSETFROM:+0100
TZOFFSETTO:+0200
TZNAME:CEST
DTSTART:20260329T010000
END:DAYLIGHT
BEGIN:STANDARD
TZOFFSETFROM:+0200
TZOFFSETTO:+0100
TZNAME:CET
DTSTART:20261025T010000
END:STANDARD
BEGIN:DAYLIGHT
TZOFFSETFROM:+0100
TZOFFSETTO:+0200
TZNAME:CEST
DTSTART:20270328T010000
END:DAYLIGHT
BEGIN:STANDARD
TZOFFSETFROM:+0200
TZOFFSETTO:+0100
TZNAME:CET
DTSTART:20271031T010000
END:STANDARD
END:VTIMEZONE
BEGIN:VEVENT
DTSTART;TZID=Europe/Stockholm:20260411T030000
DTEND;TZID=Europe/Stockholm:20260412T025959
DTSTAMP:20260422T140737
CREATED:20260203T114714Z
LAST-MODIFIED:20260301T212603Z
UID:20481-1775876400-1775962799@pipelinesundsvall.se
SUMMARY:SUNDSVALL CALLING (18+)
DESCRIPTION:Sundsvall Calling – återkomsten!\nPå initiativ av musikälskarna Anna-Carin Nylén och Carina Möllerberg presenterar vi den nya klubben Sundsvall Calling! I deras egna ord: ”Vi startar dansklubb av ren egoism då vi vill dansa till BRA musik. Kom och dansa med oss!” Vi kan med andra ord förvänta oss fantastisk musik från t.ex. Bowie\, The Cure och The Smiths. Låter väl som ett perfekt recept på en rolig kväll?
URL:https://pipelinesundsvall.se/event/sundsvall-calling-18-2/
ATTACH;FMTTYPE=image/jpeg:https://pipelinesundsvall.se/wp/wp-content/uploads/2026/02/2026-04-11-Sundsvall-Calling-INSTA-scaled-1.jpg
END:VEVENT
END:VCALENDAR