BEGIN:VCALENDAR
VERSION:2.0
PRODID:-//Pipeline Sundsvalls Musikforum - ECPv6.15.17.1//NONSGML v1.0//EN
CALSCALE:GREGORIAN
METHOD:PUBLISH
X-WR-CALNAME:Pipeline Sundsvalls Musikforum
X-ORIGINAL-URL:https://pipelinesundsvall.se
X-WR-CALDESC:Händelser för Pipeline Sundsvalls Musikforum
REFRESH-INTERVAL;VALUE=DURATION:PT1H
X-Robots-Tag:noindex
X-PUBLISHED-TTL:PT1H
BEGIN:VTIMEZONE
TZID:Europe/Stockholm
BEGIN:DAYLIGHT
TZOFFSETFROM:+0100
TZOFFSETTO:+0200
TZNAME:CEST
DTSTART:20250330T010000
END:DAYLIGHT
BEGIN:STANDARD
TZOFFSETFROM:+0200
TZOFFSETTO:+0100
TZNAME:CET
DTSTART:20251026T010000
END:STANDARD
BEGIN:DAYLIGHT
TZOFFSETFROM:+0100
TZOFFSETTO:+0200
TZNAME:CEST
DTSTART:20260329T010000
END:DAYLIGHT
BEGIN:STANDARD
TZOFFSETFROM:+0200
TZOFFSETTO:+0100
TZNAME:CET
DTSTART:20261025T010000
END:STANDARD
BEGIN:DAYLIGHT
TZOFFSETFROM:+0100
TZOFFSETTO:+0200
TZNAME:CEST
DTSTART:20270328T010000
END:DAYLIGHT
BEGIN:STANDARD
TZOFFSETFROM:+0200
TZOFFSETTO:+0100
TZNAME:CET
DTSTART:20271031T010000
END:STANDARD
END:VTIMEZONE
BEGIN:VEVENT
DTSTART;TZID=Europe/Stockholm:20260306T020000
DTEND;TZID=Europe/Stockholm:20260307T015959
DTSTAMP:20260422T134424
CREATED:20260217T182959Z
LAST-MODIFIED:20260301T210811Z
UID:20533-1772762400-1772848799@pipelinesundsvall.se
SUMMARY:KLUBB KAOS #0005: JAWBREAKER + KALLES KÄLLARE + CRYSTAL CROWN
DESCRIPTION:Vi kan äntligen presentera årets första upplaga av KLUBB KAOS – nästa generations punk-metal-alternative-klubb! Den här gången står det tre stenhårda\, unga band på Pipelines scen för första gången: Jawbreaker (Östersund)\, Kalles Källare och Crystal Crown (Sundsvall). \nJAWBREAKER\nThrash metal-band från Östersund som startade under sommaren 2025. Bandet inspireras huvudsakligen av band som Sodom\, Exodus och Testament. Det här blir bandets första gig utanför Östersund. \nKALLES KÄLLARE\nKalles Källare spelar en blandning av thrash och groove metal. Kommer från Sundsvall och har spelat live ett par gånger tidigare. \nCRYSTAL CROWN\nCrystal Crown kommer från Kvissleby och spelar en blandning av heavy metal och dödsmetall. \nEvenemanget arrangeras med stöd av Sundsvalls Kommun.
URL:https://pipelinesundsvall.se/event/klubb-kaos-0005-jawbreaker-kalles-kallare-crystal-crown/
ATTACH;FMTTYPE=image/jpeg:https://pipelinesundsvall.se/wp/wp-content/uploads/2026/02/2026-03-06-Klubb-Kaos-INSTA-1.jpg
END:VEVENT
END:VCALENDAR